Back to Build/check report for BioC 3.23:   simplified   long
ABCDEFGHIJKL[M]NOPQRSTUVWXYZ

This page was generated on 2025-11-05 11:32 -0500 (Wed, 05 Nov 2025).

HostnameOSArch (*)R versionInstalled pkgs
nebbiolo1Linux (Ubuntu 24.04.3 LTS)x86_64R Under development (unstable) (2025-10-20 r88955) -- "Unsuffered Consequences" 4818
Click on any hostname to see more info about the system (e.g. compilers)      (*) as reported by 'uname -p', except on Windows and Mac OS X

Package 1260/2323HostnameOS / ArchINSTALLBUILDCHECKBUILD BIN
MetMashR 1.5.0  (landing page)
Gavin Rhys Lloyd
Snapshot Date: 2025-11-04 13:40 -0500 (Tue, 04 Nov 2025)
git_url: https://git.bioconductor.org/packages/MetMashR
git_branch: devel
git_last_commit: 9dbb552
git_last_commit_date: 2025-10-29 11:32:41 -0500 (Wed, 29 Oct 2025)
nebbiolo1Linux (Ubuntu 24.04.3 LTS) / x86_64  OK    OK    OK  NO, package depends on 'struct' which is not available


BUILD results for MetMashR on nebbiolo1

To the developers/maintainers of the MetMashR package:
- Allow up to 24 hours (and sometimes 48 hours) for your latest push to git@git.bioconductor.org:packages/MetMashR.git to reflect on this report. See Troubleshooting Build Report for more information.
- Use the following Renviron settings to reproduce errors and warnings.
- If 'R CMD check' started to fail recently on the Linux builder(s) over a missing dependency, add the missing dependency to 'Suggests:' in your DESCRIPTION file. See Renviron.bioc for more information.

raw results


Summary

Package: MetMashR
Version: 1.5.0
Command: /home/biocbuild/bbs-3.23-bioc/R/bin/R CMD build --keep-empty-dirs --no-resave-data MetMashR
StartedAt: 2025-11-04 18:32:30 -0500 (Tue, 04 Nov 2025)
EndedAt: 2025-11-04 18:37:12 -0500 (Tue, 04 Nov 2025)
EllapsedTime: 282.3 seconds
RetCode: 0
Status:   OK  
PackageFile: MetMashR_1.5.0.tar.gz
PackageFileSize: 6.063 MiB

Command output

##############################################################################
##############################################################################
###
### Running command:
###
###   /home/biocbuild/bbs-3.23-bioc/R/bin/R CMD build --keep-empty-dirs --no-resave-data MetMashR
###
##############################################################################
##############################################################################


* checking for file ‘MetMashR/DESCRIPTION’ ... OK
* preparing ‘MetMashR’:
* checking DESCRIPTION meta-information ... OK
* installing the package (it is needed to build vignettes)
* creating vignettes ... OK
* checking for LF line-endings in source and make files and shell scripts
* checking for empty or unneeded directories
* looking to see if a ‘data/datalist’ file should be added
Omitted ‘LazyData’ from DESCRIPTION
* building ‘MetMashR_1.5.0.tar.gz’
Warning in utils::tar(filepath, pkgname, compression = compression, compression_level = 9L,  :
  storing paths of more than 100 bytes is not portable:
  ‘MetMashR/tests/testthat/lp/lm/compound/abbrev_chains/PE%2816%3A0_18%3A1%29/inchi_key%2Chmdb_id/json.json’
Warning in utils::tar(filepath, pkgname, compression = compression, compression_level = 9L,  :
  storing paths of more than 100 bytes is not portable:
  ‘MetMashR/tests/testthat/lp/lm/compound/abbrev_chains/TG%2816%3A0_16%3A1_18%3A2%29/inchi_key%2Chmdb_id/’
Warning in utils::tar(filepath, pkgname, compression = compression, compression_level = 9L,  :
  storing paths of more than 100 bytes is not portable:
  ‘MetMashR/tests/testthat/lp/lm/compound/abbrev_chains/TG%2816%3A0_16%3A1_18%3A2%29/inchi_key%2Chmdb_id/json.json’