| Back to Multiple platform build/check report for BioC 3.22: simplified long |
|
This page was generated on 2025-08-15 12:07 -0400 (Fri, 15 Aug 2025).
| Hostname | OS | Arch (*) | R version | Installed pkgs |
|---|---|---|---|---|
| nebbiolo2 | Linux (Ubuntu 24.04.3 LTS) | x86_64 | 4.5.1 (2025-06-13) -- "Great Square Root" | 4818 |
| palomino8 | Windows Server 2022 Datacenter | x64 | 4.5.1 (2025-06-13 ucrt) -- "Great Square Root" | 4554 |
| lconway | macOS 12.7.1 Monterey | x86_64 | 4.5.1 (2025-06-13) -- "Great Square Root" | 4595 |
| kjohnson3 | macOS 13.7.7 Ventura | arm64 | 4.5.1 Patched (2025-06-14 r88325) -- "Great Square Root" | 4537 |
| taishan | Linux (openEuler 24.03 LTS) | aarch64 | 4.5.0 (2025-04-11) -- "How About a Twenty-Six" | 4535 |
| Click on any hostname to see more info about the system (e.g. compilers) (*) as reported by 'uname -p', except on Windows and Mac OS X | ||||
| Package 1207/2317 | Hostname | OS / Arch | INSTALL | BUILD | CHECK | BUILD BIN | ||||||||
| Mergeomics 1.37.0 (landing page) Zeyneb Kurt
| nebbiolo2 | Linux (Ubuntu 24.04.3 LTS) / x86_64 | OK | OK | OK | |||||||||
| palomino8 | Windows Server 2022 Datacenter / x64 | OK | OK | OK | OK | |||||||||
| lconway | macOS 12.7.1 Monterey / x86_64 | OK | OK | OK | OK | |||||||||
| kjohnson3 | macOS 13.7.7 Ventura / arm64 | OK | OK | OK | OK | |||||||||
| taishan | Linux (openEuler 24.03 LTS) / aarch64 | OK | OK | OK | ||||||||||
|
To the developers/maintainers of the Mergeomics package: - Allow up to 24 hours (and sometimes 48 hours) for your latest push to git@git.bioconductor.org:packages/Mergeomics.git to reflect on this report. See Troubleshooting Build Report for more information. - Use the following Renviron settings to reproduce errors and warnings. - If 'R CMD check' started to fail recently on the Linux builder(s) over a missing dependency, add the missing dependency to 'Suggests:' in your DESCRIPTION file. See Renviron.bioc for more information. |
| Package: Mergeomics |
| Version: 1.37.0 |
| Command: F:\biocbuild\bbs-3.22-bioc\R\bin\R.exe CMD check --no-multiarch --install=check:Mergeomics.install-out.txt --library=F:\biocbuild\bbs-3.22-bioc\R\library --no-vignettes --timings Mergeomics_1.37.0.tar.gz |
| StartedAt: 2025-08-15 04:53:29 -0400 (Fri, 15 Aug 2025) |
| EndedAt: 2025-08-15 05:04:51 -0400 (Fri, 15 Aug 2025) |
| EllapsedTime: 681.6 seconds |
| RetCode: 0 |
| Status: OK |
| CheckDir: Mergeomics.Rcheck |
| Warnings: 0 |
##############################################################################
##############################################################################
###
### Running command:
###
### F:\biocbuild\bbs-3.22-bioc\R\bin\R.exe CMD check --no-multiarch --install=check:Mergeomics.install-out.txt --library=F:\biocbuild\bbs-3.22-bioc\R\library --no-vignettes --timings Mergeomics_1.37.0.tar.gz
###
##############################################################################
##############################################################################
* using log directory 'F:/biocbuild/bbs-3.22-bioc/meat/Mergeomics.Rcheck'
* using R version 4.5.1 (2025-06-13 ucrt)
* using platform: x86_64-w64-mingw32
* R was compiled by
gcc.exe (GCC) 14.2.0
GNU Fortran (GCC) 14.2.0
* running under: Windows Server 2022 x64 (build 20348)
* using session charset: UTF-8
* using option '--no-vignettes'
* checking for file 'Mergeomics/DESCRIPTION' ... OK
* checking extension type ... Package
* this is package 'Mergeomics' version '1.37.0'
* checking package namespace information ... OK
* checking package dependencies ... OK
* checking if this is a source package ... OK
* checking if there is a namespace ... OK
* checking for hidden files and directories ... OK
* checking for portable file names ... OK
* checking whether package 'Mergeomics' can be installed ... OK
* checking installed package size ... INFO
installed size is 8.3Mb
sub-directories of 1Mb or more:
extdata 7.5Mb
* checking package directory ... OK
* checking 'build' directory ... OK
* checking DESCRIPTION meta-information ... OK
* checking top-level files ... OK
* checking for left-over files ... OK
* checking index information ... OK
* checking package subdirectories ... OK
* checking code files for non-ASCII characters ... OK
* checking R files for syntax errors ... OK
* checking whether the package can be loaded ... OK
* checking whether the package can be loaded with stated dependencies ... OK
* checking whether the package can be unloaded cleanly ... OK
* checking whether the namespace can be loaded with stated dependencies ... OK
* checking whether the namespace can be unloaded cleanly ... OK
* checking dependencies in R code ... OK
* checking S3 generic/method consistency ... OK
* checking replacement functions ... OK
* checking foreign function calls ... OK
* checking R code for possible problems ... NOTE
kda.analyze: no visible global function definition for 'p.adjust'
kda.analyze.exec: no visible global function definition for 'pnorm'
kda.analyze.simulate: no visible global function definition for 'rnorm'
kda.prepare: no visible global function definition for 'quantile'
kda.prepare: no visible global function definition for 'object.size'
kda.prepare.screen: no visible global function definition for
'quantile'
kda.prepare.screen: no visible global function definition for 'median'
kda.start: no visible global function definition for 'object.size'
kda2cytoscape: no visible global function definition for 'write.table'
kda2cytoscape.colormap: no visible global function definition for
'rainbow'
kda2cytoscape.colormap: no visible global function definition for
'col2rgb'
kda2himmeli: no visible global function definition for 'quantile'
kda2himmeli: no visible global function definition for 'write.table'
kda2himmeli.colormap: no visible global function definition for
'rainbow'
kda2himmeli.colormap: no visible global function definition for
'col2rgb'
ssea.analyze: no visible global function definition for 'qnorm'
ssea.analyze: no visible global function definition for 'approx'
ssea.analyze: no visible global function definition for 'pnorm'
ssea.analyze.simulate: no visible global function definition for
'quantile'
ssea.control: no visible global function definition for 'median'
ssea.control: no visible global function definition for 'object.size'
ssea.meta: no visible global function definition for 'qnorm'
ssea.meta: no visible global function definition for 'quantile'
ssea.meta: no visible global function definition for 'pnorm'
ssea.meta: no visible global function definition for 'median'
ssea.meta: no visible global function definition for 'na.omit'
ssea.prepare: no visible global function definition for 'median'
ssea.prepare: no visible global function definition for 'object.size'
ssea.start: no visible global function definition for 'na.omit'
ssea.start: no visible global function definition for 'object.size'
ssea.start.configure: no visible global function definition for
'write.table'
ssea2kda: no visible global function definition for 'na.omit'
ssea2kda.import: no visible global function definition for 'na.omit'
tool.aggregate: no visible global function definition for 'na.omit'
tool.cluster: no visible global function definition for 'as.dist'
tool.cluster: no visible global function definition for 'hclust'
tool.fdr.bh: no visible global function definition for 'qnorm'
tool.fdr.bh: no visible global function definition for 'p.adjust'
tool.fdr.bh: no visible global function definition for 'approx'
tool.fdr.empirical: no visible global function definition for 'qnorm'
tool.fdr.empirical: no visible global function definition for 'approx'
tool.metap: no visible global function definition for 'qnorm'
tool.metap: no visible global function definition for 'pnorm'
tool.normalize: no visible global function definition for 'sd'
tool.normalize: no visible global function definition for 'median'
tool.normalize: no visible global function definition for 'optim'
tool.normalize: no visible global function definition for 'ks.test'
tool.normalize.quality: no visible global function definition for 'sd'
tool.normalize.quality: no visible global function definition for
'ks.test'
tool.overlap: no visible global function definition for 'phyper'
tool.read: no visible global function definition for 'read.delim'
tool.read: no visible global function definition for 'na.omit'
tool.save: no visible global function definition for 'write.table'
tool.unify: no visible global function definition for 'sd'
tool.unify: no visible global function definition for 'quantile'
tool.unify: no visible global function definition for 'approx'
Undefined global functions or variables:
approx as.dist col2rgb hclust ks.test median na.omit object.size
optim p.adjust phyper pnorm qnorm quantile rainbow read.delim rnorm
sd write.table
Consider adding
importFrom("grDevices", "col2rgb", "rainbow")
importFrom("stats", "approx", "as.dist", "hclust", "ks.test", "median",
"na.omit", "optim", "p.adjust", "phyper", "pnorm", "qnorm",
"quantile", "rnorm", "sd")
importFrom("utils", "object.size", "read.delim", "write.table")
to your NAMESPACE file.
* checking Rd files ... OK
* checking Rd metadata ... OK
* checking Rd cross-references ... OK
* checking for missing documentation entries ... OK
* checking for code/documentation mismatches ... OK
* checking Rd \usage sections ... OK
* checking Rd contents ... OK
* checking for unstated dependencies in examples ... OK
* checking contents of 'data' directory ... OK
* checking data for non-ASCII characters ... OK
* checking data for ASCII and uncompressed saves ... OK
* checking sizes of PDF files under 'inst/doc' ... OK
* checking files in 'vignettes' ... OK
* checking examples ... OK
Examples with CPU (user + system) or elapsed time > 5s
user system elapsed
kda.analyze.simulate 10.78 0.78 11.56
kda.analyze.test 10.28 0.83 11.11
kda.prepare 10.11 0.70 10.81
kda.analyze.exec 9.69 1.03 10.86
ssea2kda.analyze 8.63 1.41 10.03
ssea2kda 7.28 1.15 8.46
ssea.analyze 7.32 0.75 8.24
ssea2kda.import 6.82 0.94 7.78
ssea.finish.details 6.78 0.75 7.58
ssea.meta 6.86 0.43 7.39
ssea.finish 6.39 0.72 7.13
ssea.finish.genes 6.25 0.54 6.78
ssea.finish.fdr 6.22 0.56 6.81
ssea.analyze.simulate 5.99 0.71 6.70
ssea.analyze.randgenes 4.88 0.16 5.04
* checking for unstated dependencies in 'tests' ... OK
* checking tests ...
Running 'runTests.R'
OK
* checking for unstated dependencies in vignettes ... OK
* checking package vignettes ... OK
* checking running R code from vignettes ... SKIPPED
* checking re-building of vignette outputs ... SKIPPED
* checking PDF version of manual ... OK
* DONE
Status: 1 NOTE
See
'F:/biocbuild/bbs-3.22-bioc/meat/Mergeomics.Rcheck/00check.log'
for details.
Mergeomics.Rcheck/00install.out
############################################################################## ############################################################################## ### ### Running command: ### ### F:\biocbuild\bbs-3.22-bioc\R\bin\R.exe CMD INSTALL Mergeomics ### ############################################################################## ############################################################################## * installing to library 'F:/biocbuild/bbs-3.22-bioc/R/library' * installing *source* package 'Mergeomics' ... ** this is package 'Mergeomics' version '1.37.0' ** using staged installation ** R ** data ** inst ** byte-compile and prepare package for lazy loading ** help *** installing help indices ** building package indices ** installing vignettes ** testing if installed package can be loaded from temporary location ** testing if installed package can be loaded from final location ** testing if installed package keeps a record of temporary installation path * DONE (Mergeomics)
Mergeomics.Rcheck/tests/runTests.Rout
R version 4.5.1 (2025-06-13 ucrt) -- "Great Square Root"
Copyright (C) 2025 The R Foundation for Statistical Computing
Platform: x86_64-w64-mingw32/x64
R is free software and comes with ABSOLUTELY NO WARRANTY.
You are welcome to redistribute it under certain conditions.
Type 'license()' or 'licence()' for distribution details.
R is a collaborative project with many contributors.
Type 'contributors()' for more information and
'citation()' on how to cite R or R packages in publications.
Type 'demo()' for some demos, 'help()' for on-line help, or
'help.start()' for an HTML browser interface to help.
Type 'q()' to quit R.
> BiocGenerics:::testPackage("Mergeomics")
KDA Version:12.7.2015
Parameters:
Search depth: 1
Search direction: 1
Maximum overlap: 0.33
Minimum module size: 20
Minimum degree: automatic
Maximum degree: automatic
Edge factor: 0
Random seed: 1
Importing edges...
TAIL HEAD WEIGHT
Length:140663 Length:140663 Min. :1
Class :character Class :character 1st Qu.:1
Mode :character Mode :character Median :1
Mean :1
3rd Qu.:1
Max. :1
Importing modules...
MODULE NODE
Length:1643 Length:1643
Class :character Class :character
Mode :character Mode :character
Graph: 7.694687 Mb
Minimum degree set to 20
Maximum degree set to 278
Collecting hubs...
4876 hubs (25.21%)
Graph: 13.28768 Mb
Analyzing network...
6675: Dhcr7, n=114, p=2.24e-17
6648: Cit, n=20, p=7.89e-01
6643: Pbx4, n=23, p=2.32e-05
5582: Sypl, n=319, p=2.02e-02
4746: Tcf7l2, n=73, p=2.63e-02
4708: Tpte, n=86, p=5.05e-02
4511: Pzp, n=160, p=8.85e-03
4464: Tsc22d3, n=487, p=4.28e-13
4407: Dntt, n=93, p=2.40e-20
4360: Amica1, n=132, p=1.06e-06
4588,..: Lrg1, n=86, p=5.76e-12
MSEA Version:01.04.2016
Parameters:
Permutation type: gene
Permutations: 100
Random seed: 1
Minimum gene count: 10
Maximum gene count: 500
Maximum overlap between genes: 0.33
Importing modules...
MODULE DESCR
Length:20 Length:20
Class :character Class :character
Mode :character Mode :character
MODULE GENE
Length:2906 Length:2906
Class :character Class :character
Mode :character Mode :character
Importing marker values...
MARKER VALUE
Length:76866 Min. : 0.8094
Class :character 1st Qu.: 0.9450
Mode :character Median : 1.1374
Mean : 1.3944
3rd Qu.: 1.4688
Max. :323.0100
Importing mapping data...
GENE MARKER
Length:132705 Length:132705
Class :character Class :character
Mode :character Mode :character
Merging genes containing shared markers...
WARNING! Limited overlap analysis due to large number of groups.
94749/1673535
187592/1673535
283726/1673535
388986/1673535
482030/1673535
585736/1673535
673453/1673535
770466/1673535
877464/1673535
968644/1673535
1064396/1673535
1155243/1673535
1254575/1673535
1341685/1673535
1439532/1673535
1534051/1673535
1623191/1673535
1673535 comparisons
21115 comparisons
13861 comparisons
12880 comparisons
Job: 11.66891 Mb
Preparing data structures...
Job: 17.11776 Mb
Adding positive controls...
Job: 17.42039 Mb
Estimating enrichment...
100/100 cycles
Normalizing scores...
RUNIT TEST PROTOCOL -- Fri Aug 15 05:04:32 2025
***********************************************
Number of test functions: 2
Number of errors: 0
Number of failures: 0
1 Test Suite :
Mergeomics RUnit Tests - 2 test functions, 0 errors, 0 failures
Number of test functions: 2
Number of errors: 0
Number of failures: 0
>
> proc.time()
user system elapsed
422.78 29.79 452.84
Mergeomics.Rcheck/Mergeomics-Ex.timings
| name | user | system | elapsed | |
| MSEA.KDA.onestep | 0.02 | 0.00 | 0.02 | |
| job.kda | 0.01 | 0.02 | 0.03 | |
| kda.analyze | 0.02 | 0.00 | 0.02 | |
| kda.analyze.exec | 9.69 | 1.03 | 10.86 | |
| kda.analyze.simulate | 10.78 | 0.78 | 11.56 | |
| kda.analyze.test | 10.28 | 0.83 | 11.11 | |
| kda.configure | 0 | 0 | 0 | |
| kda.finish | 0.14 | 0.02 | 0.17 | |
| kda.finish.estimate | 0.09 | 0.00 | 0.09 | |
| kda.finish.save | 0.1 | 0.0 | 0.1 | |
| kda.finish.summarize | 0.09 | 0.00 | 0.09 | |
| kda.finish.trim | 0.11 | 0.00 | 0.11 | |
| kda.prepare | 10.11 | 0.70 | 10.81 | |
| kda.prepare.overlap | 0 | 0 | 0 | |
| kda.prepare.screen | 0 | 0 | 0 | |
| kda.start | 1.30 | 0.06 | 1.36 | |
| kda.start.edges | 0 | 0 | 0 | |
| kda.start.identify | 0 | 0 | 0 | |
| kda.start.modules | 0 | 0 | 0 | |
| kda2cytoscape | 0.49 | 0.02 | 0.51 | |
| kda2cytoscape.colorize | 0 | 0 | 0 | |
| kda2cytoscape.colormap | 0 | 0 | 0 | |
| kda2cytoscape.drivers | 0.15 | 0.03 | 0.20 | |
| kda2cytoscape.edges | 0.18 | 0.00 | 0.18 | |
| kda2cytoscape.exec | 0.17 | 0.00 | 0.17 | |
| kda2cytoscape.identify | 0.01 | 0.00 | 0.01 | |
| kda2himmeli | 0.41 | 0.03 | 0.49 | |
| kda2himmeli.colorize | 0 | 0 | 0 | |
| kda2himmeli.colormap | 0 | 0 | 0 | |
| kda2himmeli.drivers | 0.14 | 0.02 | 0.15 | |
| kda2himmeli.edges | 0.13 | 0.01 | 0.15 | |
| kda2himmeli.exec | 0.28 | 0.02 | 0.29 | |
| kda2himmeli.identify | 0 | 0 | 0 | |
| ssea.analyze | 7.32 | 0.75 | 8.24 | |
| ssea.analyze.observe | 4.77 | 0.14 | 4.93 | |
| ssea.analyze.randgenes | 4.88 | 0.16 | 5.04 | |
| ssea.analyze.randloci | 4.57 | 0.18 | 4.78 | |
| ssea.analyze.simulate | 5.99 | 0.71 | 6.70 | |
| ssea.analyze.statistic | 0 | 0 | 0 | |
| ssea.control | 4.61 | 0.18 | 4.81 | |
| ssea.finish | 6.39 | 0.72 | 7.13 | |
| ssea.finish.details | 6.78 | 0.75 | 7.58 | |
| ssea.finish.fdr | 6.22 | 0.56 | 6.81 | |
| ssea.finish.genes | 6.25 | 0.54 | 6.78 | |
| ssea.meta | 6.86 | 0.43 | 7.39 | |
| ssea.prepare | 4.48 | 0.14 | 4.64 | |
| ssea.prepare.counts | 3.78 | 0.16 | 3.95 | |
| ssea.prepare.structure | 4.47 | 0.13 | 4.61 | |
| ssea.start | 4.28 | 0.17 | 4.47 | |
| ssea.start.configure | 0.55 | 0.00 | 0.67 | |
| ssea.start.identify | 0 | 0 | 0 | |
| ssea.start.relabel | 3.86 | 0.14 | 4.03 | |
| ssea2kda | 7.28 | 1.15 | 8.46 | |
| ssea2kda.analyze | 8.63 | 1.41 | 10.03 | |
| ssea2kda.import | 6.82 | 0.94 | 7.78 | |
| tool.aggregate | 0 | 0 | 0 | |
| tool.cluster | 0.03 | 0.00 | 0.03 | |
| tool.cluster.static | 0 | 0 | 0 | |
| tool.coalesce | 0.07 | 0.00 | 0.06 | |
| tool.coalesce.exec | 0.15 | 0.01 | 0.18 | |
| tool.coalesce.find | 0.19 | 0.00 | 0.18 | |
| tool.coalesce.merge | 0.17 | 0.00 | 0.18 | |
| tool.fdr | 0 | 0 | 0 | |
| tool.fdr.bh | 0 | 0 | 0 | |
| tool.fdr.empirical | 0 | 0 | 0 | |
| tool.graph | 1.36 | 0.08 | 1.43 | |
| tool.graph.degree | 1.55 | 0.06 | 1.61 | |
| tool.graph.list | 1.47 | 0.11 | 1.58 | |
| tool.metap | 0 | 0 | 0 | |
| tool.normalize | 0.01 | 0.00 | 0.02 | |
| tool.normalize.quality | 0.03 | 0.00 | 0.03 | |
| tool.overlap | 0.02 | 0.00 | 0.01 | |
| tool.read | 0.28 | 0.00 | 0.28 | |
| tool.save | 0 | 0 | 0 | |
| tool.subgraph | 0.05 | 0.03 | 0.08 | |
| tool.subgraph.find | 0.06 | 0.00 | 0.06 | |
| tool.subgraph.search | 0.08 | 0.02 | 0.10 | |
| tool.subgraph.stats | 0.06 | 0.02 | 0.08 | |
| tool.translate | 0.05 | 0.00 | 0.04 | |
| tool.unify | 0 | 0 | 0 | |