Back to Multiple platform build/check report for BioC 3.21: simplified long |
|
This page was generated on 2025-01-28 11:47 -0500 (Tue, 28 Jan 2025).
Hostname | OS | Arch (*) | R version | Installed pkgs |
---|---|---|---|---|
nebbiolo1 | Linux (Ubuntu 24.04.1 LTS) | x86_64 | R Under development (unstable) (2025-01-20 r87609) -- "Unsuffered Consequences" | 4659 |
palomino7 | Windows Server 2022 Datacenter | x64 | R Under development (unstable) (2025-01-21 r87610 ucrt) -- "Unsuffered Consequences" | 4454 |
lconway | macOS 12.7.1 Monterey | x86_64 | R Under development (unstable) (2025-01-22 r87618) -- "Unsuffered Consequences" | 4465 |
kjohnson3 | macOS 13.7.1 Ventura | arm64 | R Under development (unstable) (2025-01-20 r87609) -- "Unsuffered Consequences" | 4419 |
kunpeng2 | Linux (openEuler 22.03 LTS-SP1) | aarch64 | R Under development (unstable) (2024-11-24 r87369) -- "Unsuffered Consequences" | 4409 |
Click on any hostname to see more info about the system (e.g. compilers) (*) as reported by 'uname -p', except on Windows and Mac OS X |
Package 1291/2286 | Hostname | OS / Arch | INSTALL | BUILD | CHECK | BUILD BIN | ||||||||
MMDiff2 1.35.0 (landing page) Gabriele Schweikert
| nebbiolo1 | Linux (Ubuntu 24.04.1 LTS) / x86_64 | OK | OK | OK | |||||||||
palomino7 | Windows Server 2022 Datacenter / x64 | OK | OK | WARNINGS | OK | |||||||||
lconway | macOS 12.7.1 Monterey / x86_64 | OK | OK | OK | OK | |||||||||
kjohnson3 | macOS 13.7.1 Ventura / arm64 | OK | OK | OK | OK | |||||||||
kunpeng2 | Linux (openEuler 22.03 LTS-SP1) / aarch64 | OK | OK | OK | ||||||||||
To the developers/maintainers of the MMDiff2 package: - Allow up to 24 hours (and sometimes 48 hours) for your latest push to git@git.bioconductor.org:packages/MMDiff2.git to reflect on this report. See Troubleshooting Build Report for more information. - Use the following Renviron settings to reproduce errors and warnings. - If 'R CMD check' started to fail recently on the Linux builder(s) over a missing dependency, add the missing dependency to 'Suggests:' in your DESCRIPTION file. See Renviron.bioc for more information. - See Martin Grigorov's blog post for how to debug Linux ARM64 related issues on a x86_64 host. |
Package: MMDiff2 |
Version: 1.35.0 |
Command: /home/biocbuild/R/R/bin/R CMD check --install=check:MMDiff2.install-out.txt --library=/home/biocbuild/R/R/site-library --no-vignettes --timings MMDiff2_1.35.0.tar.gz |
StartedAt: 2025-01-28 12:37:15 -0000 (Tue, 28 Jan 2025) |
EndedAt: 2025-01-28 12:44:37 -0000 (Tue, 28 Jan 2025) |
EllapsedTime: 441.6 seconds |
RetCode: 0 |
Status: OK |
CheckDir: MMDiff2.Rcheck |
Warnings: 0 |
############################################################################## ############################################################################## ### ### Running command: ### ### /home/biocbuild/R/R/bin/R CMD check --install=check:MMDiff2.install-out.txt --library=/home/biocbuild/R/R/site-library --no-vignettes --timings MMDiff2_1.35.0.tar.gz ### ############################################################################## ############################################################################## * using log directory ‘/home/biocbuild/bbs-3.21-bioc/meat/MMDiff2.Rcheck’ * using R Under development (unstable) (2024-11-24 r87369) * using platform: aarch64-unknown-linux-gnu * R was compiled by aarch64-unknown-linux-gnu-gcc (GCC) 14.2.0 GNU Fortran (GCC) 14.2.0 * running under: openEuler 24.03 (LTS) * using session charset: UTF-8 * using option ‘--no-vignettes’ * checking for file ‘MMDiff2/DESCRIPTION’ ... OK * checking extension type ... Package * this is package ‘MMDiff2’ version ‘1.35.0’ * checking package namespace information ... OK * checking package dependencies ... OK * checking if this is a source package ... OK * checking if there is a namespace ... OK * checking for hidden files and directories ... OK * checking for portable file names ... OK * checking for sufficient/correct file permissions ... OK * checking whether package ‘MMDiff2’ can be installed ... OK * checking installed package size ... OK * checking package directory ... OK * checking ‘build’ directory ... OK * checking DESCRIPTION meta-information ... OK * checking top-level files ... OK * checking for left-over files ... OK * checking index information ... OK * checking package subdirectories ... OK * checking code files for non-ASCII characters ... OK * checking R files for syntax errors ... OK * checking whether the package can be loaded ... OK * checking whether the package can be loaded with stated dependencies ... OK * checking whether the package can be unloaded cleanly ... OK * checking whether the namespace can be loaded with stated dependencies ... OK * checking whether the namespace can be unloaded cleanly ... OK * checking loading without being on the library search path ... OK * checking dependencies in R code ... NOTE Namespace in Imports field not imported from: ‘methods’ All declared Imports should be used. * checking S3 generic/method consistency ... OK * checking replacement functions ... OK * checking foreign function calls ... OK * checking R code for possible problems ... NOTE DBAmmd: no visible global function definition for ‘new’ getReads: no visible global function definition for ‘IRangesList’ Undefined global functions or variables: IRangesList new Consider adding importFrom("methods", "new") to your NAMESPACE file (and ensure that your DESCRIPTION Imports field contains 'methods'). * checking Rd files ... NOTE checkRd: (-1) DBAmmd-class.Rd:20: Lost braces 20 | \code{DBAmmd()}{returns an empty DBAmmd Object.} \cr | ^ checkRd: (-1) DBAmmd-class.Rd:21-23: Lost braces 21 | \code{DBAmmd(MetaData)}{ initializes a DBAmmd Object for a new | ^ * checking Rd metadata ... OK * checking Rd cross-references ... OK * checking for missing documentation entries ... OK * checking for code/documentation mismatches ... OK * checking Rd \usage sections ... OK * checking Rd contents ... OK * checking for unstated dependencies in examples ... OK * checking contents of ‘data’ directory ... OK * checking data for non-ASCII characters ... OK * checking data for ASCII and uncompressed saves ... OK * checking files in ‘vignettes’ ... OK * checking examples ... OK Examples with CPU (user + system) or elapsed time > 5s user system elapsed compDists 54.742 0.873 59.791 DBAmmd-Accessors 13.961 0.228 15.789 plotPeak 7.040 0.122 8.934 compHists 4.396 0.248 5.288 * checking for unstated dependencies in vignettes ... OK * checking package vignettes ... OK * checking running R code from vignettes ... SKIPPED * checking re-building of vignette outputs ... SKIPPED * checking PDF version of manual ... OK * DONE Status: 3 NOTEs See ‘/home/biocbuild/bbs-3.21-bioc/meat/MMDiff2.Rcheck/00check.log’ for details.
MMDiff2.Rcheck/00install.out
############################################################################## ############################################################################## ### ### Running command: ### ### /home/biocbuild/R/R/bin/R CMD INSTALL MMDiff2 ### ############################################################################## ############################################################################## * installing to library ‘/home/biocbuild/R/R-4.5.0-devel_2024-11-24/site-library’ * installing *source* package ‘MMDiff2’ ... ** using staged installation ** R ** data ** byte-compile and prepare package for lazy loading ** help *** installing help indices ** building package indices ** installing vignettes ** testing if installed package can be loaded from temporary location ** testing if installed package can be loaded from final location ** testing if installed package keeps a record of temporary installation path * DONE (MMDiff2)
MMDiff2.Rcheck/MMDiff2-Ex.timings
name | user | system | elapsed | |
Cfp1-Peaks | 0 | 0 | 0 | |
DBAmmd-Accessors | 13.961 | 0.228 | 15.789 | |
DBAmmd-class | 0.05 | 0.00 | 0.06 | |
MMD | 0 | 0 | 0 | |
compDists | 54.742 | 0.873 | 59.791 | |
compHists | 4.396 | 0.248 | 5.288 | |
compPvals | 1.263 | 0.027 | 1.309 | |
estimateFragmentCenters | 1.540 | 0.072 | 1.679 | |
getPeakReads | 0.349 | 0.008 | 0.501 | |
mm9-Genes | 0 | 0 | 0 | |
plotDISTS4Peak | 1.171 | 0.040 | 1.215 | |
plotDists | 1.110 | 0.055 | 1.288 | |
plotPeak | 7.040 | 0.122 | 8.934 | |
reportResults | 1.289 | 0.055 | 1.359 | |
runShinyMMDiff2 | 0.000 | 0.000 | 0.001 | |
server.MMDiff2 | 0 | 0 | 0 | |
ui.MMDiff2 | 0 | 0 | 0 | |