Back to Build/check report for BioC 3.23:   simplified   long
ABCDEFGHIJKL[M]NOPQRSTUVWXYZ

This page was generated on 2025-11-06 11:32 -0500 (Thu, 06 Nov 2025).

HostnameOSArch (*)R versionInstalled pkgs
nebbiolo1Linux (Ubuntu 24.04.3 LTS)x86_64R Under development (unstable) (2025-10-20 r88955) -- "Unsuffered Consequences" 4818
Click on any hostname to see more info about the system (e.g. compilers)      (*) as reported by 'uname -p', except on Windows and Mac OS X

Package 1266/2323HostnameOS / ArchINSTALLBUILDCHECKBUILD BIN
MGnifyR 1.7.0  (landing page)
Tuomas Borman
Snapshot Date: 2025-11-05 13:40 -0500 (Wed, 05 Nov 2025)
git_url: https://git.bioconductor.org/packages/MGnifyR
git_branch: devel
git_last_commit: d6f3e14
git_last_commit_date: 2025-10-29 11:28:57 -0500 (Wed, 29 Oct 2025)
nebbiolo1Linux (Ubuntu 24.04.3 LTS) / x86_64  ERROR    ERROR  skipped


INSTALL results for MGnifyR on nebbiolo1

To the developers/maintainers of the MGnifyR package:
- Allow up to 24 hours (and sometimes 48 hours) for your latest push to git@git.bioconductor.org:packages/MGnifyR.git to reflect on this report. See Troubleshooting Build Report for more information.
- Use the following Renviron settings to reproduce errors and warnings.
- If 'R CMD check' started to fail recently on the Linux builder(s) over a missing dependency, add the missing dependency to 'Suggests:' in your DESCRIPTION file. See Renviron.bioc for more information.

raw results


Summary

Package: MGnifyR
Version: 1.7.0
Command: /home/biocbuild/bbs-3.23-bioc/R/bin/R CMD INSTALL MGnifyR
StartedAt: 2025-11-05 16:04:11 -0500 (Wed, 05 Nov 2025)
EndedAt: 2025-11-05 16:04:23 -0500 (Wed, 05 Nov 2025)
EllapsedTime: 12.6 seconds
RetCode: 1
Status:   ERROR  

Command output

##############################################################################
##############################################################################
###
### Running command:
###
###   /home/biocbuild/bbs-3.23-bioc/R/bin/R CMD INSTALL MGnifyR
###
##############################################################################
##############################################################################


* installing to library ‘/home/biocbuild/bbs-3.23-bioc/R/site-library’
* installing *source* package ‘MGnifyR’ ...
** this is package ‘MGnifyR’ version ‘1.7.0’
** using staged installation
** R
** inst
** byte-compile and prepare package for lazy loading
Error: object ‘at_depth’ is not exported by 'namespace:purrr'
Execution halted
ERROR: lazy loading failed for package ‘MGnifyR’
* removing ‘/home/biocbuild/bbs-3.23-bioc/R/site-library/MGnifyR’
* restoring previous ‘/home/biocbuild/bbs-3.23-bioc/R/site-library/MGnifyR’