Back to Multiple platform build/check report for BioC 3.22:   simplified   long
ABCDEFGHIJ[K]LMNOPQRSTUVWXYZ

This page was generated on 2025-05-22 12:09 -0400 (Thu, 22 May 2025).

HostnameOSArch (*)R versionInstalled pkgs
nebbiolo2Linux (Ubuntu 24.04.1 LTS)x86_644.5.0 (2025-04-11) -- "How About a Twenty-Six" 4750
palomino8Windows Server 2022 Datacenterx644.5.0 (2025-04-11 ucrt) -- "How About a Twenty-Six" 4525
lconwaymacOS 12.7.1 Montereyx86_644.5.0 Patched (2025-04-21 r88169) -- "How About a Twenty-Six" 4550
kjohnson3macOS 13.7.1 Venturaarm644.5.0 Patched (2025-04-21 r88169) -- "How About a Twenty-Six" 4491
taishanLinux (openEuler 24.03 LTS)aarch644.5.0 (2025-04-11) -- "How About a Twenty-Six" 4455
Click on any hostname to see more info about the system (e.g. compilers)      (*) as reported by 'uname -p', except on Windows and Mac OS X

Package 1093/2304HostnameOS / ArchINSTALLBUILDCHECKBUILD BIN
KnowSeq 1.23.0  (landing page)
Daniel Castillo-Secilla
Snapshot Date: 2025-05-21 13:25 -0400 (Wed, 21 May 2025)
git_url: https://git.bioconductor.org/packages/KnowSeq
git_branch: devel
git_last_commit: 23de926
git_last_commit_date: 2025-04-15 11:47:28 -0400 (Tue, 15 Apr 2025)
nebbiolo2Linux (Ubuntu 24.04.1 LTS) / x86_64  OK    OK    OK  UNNEEDED, same version is already published
palomino8Windows Server 2022 Datacenter / x64  OK    OK    OK    OK  UNNEEDED, same version is already published
lconwaymacOS 12.7.1 Monterey / x86_64  OK    OK    OK    OK  UNNEEDED, same version is already published
kjohnson3macOS 13.7.1 Ventura / arm64  OK    OK    OK    OK  UNNEEDED, same version is already published
taishanLinux (openEuler 24.03 LTS) / aarch64  OK    OK    OK  


CHECK results for KnowSeq on lconway

To the developers/maintainers of the KnowSeq package:
- Allow up to 24 hours (and sometimes 48 hours) for your latest push to git@git.bioconductor.org:packages/KnowSeq.git to reflect on this report. See Troubleshooting Build Report for more information.
- Use the following Renviron settings to reproduce errors and warnings.
- If 'R CMD check' started to fail recently on the Linux builder(s) over a missing dependency, add the missing dependency to 'Suggests:' in your DESCRIPTION file. See Renviron.bioc for more information.

raw results


Summary

Package: KnowSeq
Version: 1.23.0
Command: /Library/Frameworks/R.framework/Resources/bin/R CMD check --install=check:KnowSeq.install-out.txt --library=/Library/Frameworks/R.framework/Resources/library --no-vignettes --timings KnowSeq_1.23.0.tar.gz
StartedAt: 2025-05-21 21:17:14 -0400 (Wed, 21 May 2025)
EndedAt: 2025-05-21 21:22:43 -0400 (Wed, 21 May 2025)
EllapsedTime: 328.4 seconds
RetCode: 0
Status:   OK  
CheckDir: KnowSeq.Rcheck
Warnings: 0

Command output

##############################################################################
##############################################################################
###
### Running command:
###
###   /Library/Frameworks/R.framework/Resources/bin/R CMD check --install=check:KnowSeq.install-out.txt --library=/Library/Frameworks/R.framework/Resources/library --no-vignettes --timings KnowSeq_1.23.0.tar.gz
###
##############################################################################
##############################################################################


* using log directory ‘/Users/biocbuild/bbs-3.22-bioc/meat/KnowSeq.Rcheck’
* using R version 4.5.0 Patched (2025-04-21 r88169)
* using platform: x86_64-apple-darwin20
* R was compiled by
    Apple clang version 14.0.0 (clang-1400.0.29.202)
    GNU Fortran (GCC) 14.2.0
* running under: macOS Monterey 12.7.6
* using session charset: UTF-8
* using option ‘--no-vignettes’
* checking for file ‘KnowSeq/DESCRIPTION’ ... OK
* checking extension type ... Package
* this is package ‘KnowSeq’ version ‘1.23.0’
* package encoding: UTF-8
* checking package namespace information ... OK
* checking package dependencies ... OK
* checking if this is a source package ... OK
* checking if there is a namespace ... OK
* checking for hidden files and directories ... OK
* checking for portable file names ... OK
* checking for sufficient/correct file permissions ... OK
* checking whether package ‘KnowSeq’ can be installed ... OK
* checking installed package size ... INFO
  installed size is  7.2Mb
  sub-directories of 1Mb or more:
    extdata   6.9Mb
* checking package directory ... OK
* checking ‘build’ directory ... OK
* checking DESCRIPTION meta-information ... OK
* checking top-level files ... OK
* checking for left-over files ... OK
* checking index information ... OK
* checking package subdirectories ... OK
* checking code files for non-ASCII characters ... OK
* checking R files for syntax errors ... OK
* checking whether the package can be loaded ... OK
* checking whether the package can be loaded with stated dependencies ... OK
* checking whether the package can be unloaded cleanly ... OK
* checking whether the namespace can be loaded with stated dependencies ... OK
* checking whether the namespace can be unloaded cleanly ... OK
* checking dependencies in R code ... OK
* checking S3 generic/method consistency ... OK
* checking replacement functions ... OK
* checking foreign function calls ... OK
* checking R code for possible problems ... NOTE
DEGsExtraction: warning in topTable(fit, number = number, coef = 2,
  sort.by = "logFC", p.value = pvalue, adjust = "fdr", lfc = lfc):
  partial argument match of 'adjust' to 'adjust.method'
RNAseqQA : outlierBarPlot: no visible binding for global variable ‘x’
RNAseqQA : outlierBarPlot: no visible binding for global variable ‘y’
RNAseqQA: no visible binding for global variable ‘Var1’
RNAseqQA: no visible binding for global variable ‘Var2’
RNAseqQA: no visible binding for global variable ‘value’
RNAseqQA: no visible binding for global variable ‘Expression’
RNAseqQA: no visible binding for global variable ‘Samples’
dataPlot: no visible binding for global variable ‘Var1’
dataPlot: no visible binding for global variable ‘Var2’
dataPlot: no visible binding for global variable ‘value’
dataPlot: no visible binding for global variable ‘Classes’
dataPlot: no visible binding for global variable ‘Value’
knn_trn: no visible global function definition for ‘knn.cv’
knowseqReport: no visible binding for global variable ‘target’
Undefined global functions or variables:
  Classes Expression Samples Value Var1 Var2 knn.cv target value x y
* checking Rd files ... OK
* checking Rd metadata ... OK
* checking Rd cross-references ... OK
* checking for missing documentation entries ... OK
* checking for code/documentation mismatches ... OK
* checking Rd \usage sections ... OK
* checking Rd contents ... OK
* checking for unstated dependencies in examples ... OK
* checking files in ‘vignettes’ ... OK
* checking examples ... OK
Examples with CPU (user + system) or elapsed time > 5s
                       user system elapsed
dataPlot             22.225  0.232  22.589
rf_trn               18.064  0.438  18.614
svm_trn              18.094  0.143  18.368
svm_test             16.984  0.149  17.284
rf_test               4.908  0.147   5.098
downloadPublicSeries  0.821  0.081  19.352
DEGsEvidences         0.361  0.019   6.549
* checking for unstated dependencies in vignettes ... OK
* checking package vignettes ... OK
* checking running R code from vignettes ... SKIPPED
* checking re-building of vignette outputs ... SKIPPED
* checking PDF version of manual ... OK
* DONE

Status: 1 NOTE
See
  ‘/Users/biocbuild/bbs-3.22-bioc/meat/KnowSeq.Rcheck/00check.log’
for details.


Installation output

KnowSeq.Rcheck/00install.out

##############################################################################
##############################################################################
###
### Running command:
###
###   /Library/Frameworks/R.framework/Resources/bin/R CMD INSTALL KnowSeq
###
##############################################################################
##############################################################################


* installing to library ‘/Library/Frameworks/R.framework/Versions/4.5-x86_64/Resources/library’
* installing *source* package ‘KnowSeq’ ...
** this is package ‘KnowSeq’ version ‘1.23.0’
** using staged installation
** R
** inst
** byte-compile and prepare package for lazy loading
** help
*** installing help indices
** building package indices
** installing vignettes
** testing if installed package can be loaded from temporary location
** testing if installed package can be loaded from final location
** testing if installed package keeps a record of temporary installation path
* DONE (KnowSeq)

Tests output


Example timings

KnowSeq.Rcheck/KnowSeq-Ex.timings

nameusersystemelapsed
DEGsEvidences0.3610.0196.549
DEGsExtraction1.4210.0311.459
DEGsToDiseases0.2800.0060.461
DEGsToPathways0.4520.0130.471
RNAseqQA2.2030.0732.295
batchEffectRemoval2.7960.0162.821
calculateGeneExpressionValues0.6960.0180.716
countsToMatrix0.0630.0080.072
dataPlot22.225 0.23222.589
downloadPublicSeries 0.821 0.08119.352
featureSelection0.0120.0030.015
fileMove000
gdcClientDownload000
geneOntologyEnrichment000
getGenesAnnotation0.3100.0060.317
hisatAlignment0.0030.0010.003
knn_test0.0530.0020.055
knn_trn1.7670.0191.799
knowseqReport0.0080.0010.010
plotConfMatrix0.0230.0020.025
rawAlignment0.0020.0000.003
rf_test4.9080.1475.098
rf_trn18.064 0.43818.614
sraToFastq000
svm_test16.984 0.14917.284
svm_trn18.094 0.14318.368