Back to Multiple platform build/check report for BioC 3.22: simplified long |
|
This page was generated on 2025-10-17 12:07 -0400 (Fri, 17 Oct 2025).
Hostname | OS | Arch (*) | R version | Installed pkgs |
---|---|---|---|---|
nebbiolo2 | Linux (Ubuntu 24.04.3 LTS) | x86_64 | 4.5.1 Patched (2025-08-23 r88802) -- "Great Square Root" | 4887 |
lconway | macOS 12.7.6 Monterey | x86_64 | 4.5.1 Patched (2025-09-10 r88807) -- "Great Square Root" | 4677 |
kjohnson3 | macOS 13.7.7 Ventura | arm64 | 4.5.1 Patched (2025-09-10 r88807) -- "Great Square Root" | 4622 |
taishan | Linux (openEuler 24.03 LTS) | aarch64 | 4.5.0 (2025-04-11) -- "How About a Twenty-Six" | 4632 |
Click on any hostname to see more info about the system (e.g. compilers) (*) as reported by 'uname -p', except on Windows and Mac OS X |
Package 1093/2353 | Hostname | OS / Arch | INSTALL | BUILD | CHECK | BUILD BIN | ||||||||
IsoformSwitchAnalyzeR 2.9.1 (landing page) Kristoffer Vitting-Seerup
| nebbiolo2 | Linux (Ubuntu 24.04.3 LTS) / x86_64 | OK | OK | OK | ![]() | ||||||||
lconway | macOS 12.7.6 Monterey / x86_64 | OK | OK | OK | OK | ![]() | ||||||||
kjohnson3 | macOS 13.7.7 Ventura / arm64 | OK | OK | OK | OK | ![]() | ||||||||
taishan | Linux (openEuler 24.03 LTS) / aarch64 | OK | OK | OK | ||||||||||
To the developers/maintainers of the IsoformSwitchAnalyzeR package: - Allow up to 24 hours (and sometimes 48 hours) for your latest push to git@git.bioconductor.org:packages/IsoformSwitchAnalyzeR.git to reflect on this report. See Troubleshooting Build Report for more information. - Use the following Renviron settings to reproduce errors and warnings. - If 'R CMD check' started to fail recently on the Linux builder(s) over a missing dependency, add the missing dependency to 'Suggests:' in your DESCRIPTION file. See Renviron.bioc for more information. - See Martin Grigorov's blog post for how to debug Linux ARM64 related issues on a x86_64 host. |
Package: IsoformSwitchAnalyzeR |
Version: 2.9.1 |
Command: /home/biocbuild/R/R/bin/R CMD check --install=check:IsoformSwitchAnalyzeR.install-out.txt --library=/home/biocbuild/R/R/site-library --no-vignettes --timings IsoformSwitchAnalyzeR_2.9.1.tar.gz |
StartedAt: 2025-10-17 10:24:57 -0000 (Fri, 17 Oct 2025) |
EndedAt: 2025-10-17 10:39:36 -0000 (Fri, 17 Oct 2025) |
EllapsedTime: 878.9 seconds |
RetCode: 0 |
Status: OK |
CheckDir: IsoformSwitchAnalyzeR.Rcheck |
Warnings: 0 |
############################################################################## ############################################################################## ### ### Running command: ### ### /home/biocbuild/R/R/bin/R CMD check --install=check:IsoformSwitchAnalyzeR.install-out.txt --library=/home/biocbuild/R/R/site-library --no-vignettes --timings IsoformSwitchAnalyzeR_2.9.1.tar.gz ### ############################################################################## ############################################################################## * using log directory ‘/home/biocbuild/bbs-3.22-bioc/meat/IsoformSwitchAnalyzeR.Rcheck’ * using R version 4.5.0 (2025-04-11) * using platform: aarch64-unknown-linux-gnu * R was compiled by aarch64-unknown-linux-gnu-gcc (GCC) 14.2.0 GNU Fortran (GCC) 14.2.0 * running under: openEuler 24.03 (LTS) * using session charset: UTF-8 * using option ‘--no-vignettes’ * checking for file ‘IsoformSwitchAnalyzeR/DESCRIPTION’ ... OK * checking extension type ... Package * this is package ‘IsoformSwitchAnalyzeR’ version ‘2.9.1’ * checking package namespace information ... OK * checking package dependencies ... INFO Depends: includes the non-default packages: 'limma', 'DEXSeq', 'satuRn', 'sva', 'ggplot2', 'pfamAnalyzeR' Adding so many packages to the search path is excessive and importing selectively is preferable. Imports includes 30 non-default packages. Importing from so many packages makes the package vulnerable to any of them becoming unavailable. Move as many as possible to Suggests and use conditionally. * checking if this is a source package ... OK * checking if there is a namespace ... OK * checking for hidden files and directories ... OK * checking for portable file names ... OK * checking for sufficient/correct file permissions ... OK * checking whether package ‘IsoformSwitchAnalyzeR’ can be installed ... OK * used C compiler: ‘aarch64-unknown-linux-gnu-gcc (GCC) 14.2.0’ * checking installed package size ... INFO installed size is 7.0Mb sub-directories of 1Mb or more: R 1.0Mb data 1.1Mb extdata 4.4Mb * checking package directory ... OK * checking ‘build’ directory ... OK * checking DESCRIPTION meta-information ... OK * checking top-level files ... OK * checking for left-over files ... OK * checking index information ... OK * checking package subdirectories ... OK * checking code files for non-ASCII characters ... OK * checking R files for syntax errors ... OK * checking whether the package can be loaded ... OK * checking whether the package can be loaded with stated dependencies ... OK * checking whether the package can be unloaded cleanly ... OK * checking whether the namespace can be loaded with stated dependencies ... OK * checking whether the namespace can be unloaded cleanly ... OK * checking loading without being on the library search path ... OK * checking dependencies in R code ... OK * checking S3 generic/method consistency ... OK * checking replacement functions ... OK * checking foreign function calls ... OK * checking R code for possible problems ... NOTE analyzeNovelIsoformORF: no visible binding for global variable 'orf_origin' analyzeNovelIsoformORF: no visible binding for global variable 'orfStartGenomic' analyzeNovelIsoformORF: no visible binding for global variable 'isoform_id' analyzeNovelIsoformORF: no visible binding for global variable 'orfEndGenomic' expressionAnalysisPlot: no visible binding for global variable 'Condition' expressionAnalysisPlot: no visible binding for global variable 'gene_expression' expressionAnalysisPlot: no visible binding for global variable 'CI_up' expressionAnalysisPlot: no visible binding for global variable 'CI_down' expressionAnalysisPlot: no visible binding for global variable 'sigLevelPos' expressionAnalysisPlot: no visible binding for global variable 'sigLevel' expressionAnalysisPlot: no visible binding for global variable 'CI_hi' expressionAnalysisPlot: no visible binding for global variable 'CI_low' expressionAnalysisPlot: no visible binding for global variable 'ymax' expressionAnalysisPlot: no visible binding for global variable 'sigEval' expressionAnalysisPlot: no visible binding for global variable 'idNr' expressionAnalysisPlot: no visible binding for global variable 'IF' extractConsequenceEnrichment: no visible binding for global variable 'feature2' extractConsequenceEnrichment: no visible binding for global variable 'propOfRelevantEvents' extractConsequenceEnrichment: no visible binding for global variable 'Significant' extractConsequenceEnrichment: no visible binding for global variable 'propCiLo' extractConsequenceEnrichment: no visible binding for global variable 'propCiHi' extractConsequenceEnrichment: no visible binding for global variable 'nTot' extractConsequenceEnrichmentComparison: no visible binding for global variable 'Comparison' extractConsequenceEnrichmentComparison: no visible binding for global variable 'propOfRelevantEvents' extractConsequenceEnrichmentComparison: no visible binding for global variable 'Significant' extractConsequenceEnrichmentComparison: no visible binding for global variable 'nTot' extractConsequenceEnrichmentComparison: no visible binding for global variable 'propCiHi' extractConsequenceEnrichmentComparison: no visible binding for global variable 'propCiLo' extractConsequenceGenomeWide: no visible binding for global variable 'isoform_feature' extractConsequenceGenomeWide: no visible binding for global variable 'value' extractConsequenceGenomeWide: no visible binding for global variable 'variable' extractConsequenceGenomeWide: no visible binding for global variable 'ymax' extractConsequenceGenomeWide: no visible binding for global variable 'significance' extractConsequenceGenomeWide: no visible binding for global variable 'idNr' extractConsequenceSummary: no visible binding for global variable 'switchConsequence' extractConsequenceSummary: no visible binding for global variable 'geneFraction' extractConsequenceSummary: no visible binding for global variable 'nrGenesWithConsequences' extractConsequenceSummary: no visible binding for global variable 'isoFraction' extractConsequenceSummary: no visible binding for global variable 'nrIsoWithConsequences' extractSplicingEnrichment: no visible binding for global variable 'AStype' extractSplicingEnrichment: no visible binding for global variable 'propUp' extractSplicingEnrichment: no visible binding for global variable 'Significant' extractSplicingEnrichment: no visible binding for global variable 'nTot' extractSplicingEnrichment: no visible binding for global variable 'propUpCiHi' extractSplicingEnrichment: no visible binding for global variable 'propUpCiLo' extractSplicingEnrichmentComparison: no visible binding for global variable 'Comparison' extractSplicingEnrichmentComparison: no visible binding for global variable 'propUp' extractSplicingEnrichmentComparison: no visible binding for global variable 'Significant' extractSplicingEnrichmentComparison: no visible binding for global variable 'nTot' extractSplicingEnrichmentComparison: no visible binding for global variable 'propUpCiHi' extractSplicingEnrichmentComparison: no visible binding for global variable 'propUpCiLo' extractSplicingGenomeWide: no visible binding for global variable 'isoform_feature' extractSplicingGenomeWide: no visible binding for global variable 'value' extractSplicingGenomeWide: no visible binding for global variable 'variable' extractSplicingGenomeWide: no visible binding for global variable 'ymax' extractSplicingGenomeWide: no visible binding for global variable 'significance' extractSplicingGenomeWide: no visible binding for global variable 'idNr' extractSplicingSummary: no visible binding for global variable 'splicingResult' extractSplicingSummary: no visible binding for global variable 'geneFraction' extractSplicingSummary: no visible binding for global variable 'nrGenesWithConsequences' extractSplicingSummary: no visible binding for global variable 'isoFraction' extractSplicingSummary: no visible binding for global variable 'nrIsoWithConsequences' extractSubCellShifts: no visible binding for global variable 'gene_ref' extractSubCellShifts: no visible binding for global variable 'gene_id' extractSubCellShifts: no visible binding for global variable 'condition_1' extractSubCellShifts: no visible binding for global variable 'condition_2' extractSubCellShifts: no visible binding for global variable 'isoformUpregulated' extractSubCellShifts: no visible binding for global variable 'isoformDownregulated' extractSubCellShifts: no visible binding for global variable 'featureCompared' extractSubCellShifts: no visible binding for global variable 'isoformsDifferent' extractSubCellShifts: no visible binding for global variable 'isoform_id' extractSubCellShifts: no visible binding for global variable 'Localizations' extractSubCellShifts: no visible binding for global variable 'location_gain' extractSubCellShifts: no visible binding for global variable 'location_loss' extractSubCellShifts: no visible binding for global variable 'n_genes' extractSubCellShifts: no visible binding for global variable 'n_switch' extractSubCellShifts: no visible binding for global variable 'Genes' extractSubCellShifts: no visible binding for global variable 'Switch' importGTF: no visible binding for global variable 'gene_id' importGTF: no visible binding for global variable 'gene_name' importRdata: no visible binding for global variable 'isoform_id' importRdata: no visible binding for global variable 'gene_id' importRdata: no visible binding for global variable 'ref_gene_id' importRdata: no visible binding for global variable 'n_ref_gene_ids' importRdata: no visible binding for global variable 'n_iso_na' importRdata: no visible binding for global variable 'novel_iso' importRdata: no visible binding for global variable 'known_ref_gene_id' importRdata: no visible binding for global variable 'nt_overlap' importRdata: no visible binding for global variable 'frac_overlap' importRdata: no visible binding for global variable 'log2_overlap_ratio' importRdata: no visible binding for global variable 'has_ref_gene_id' importRdata: no visible binding for global variable 'has_novel_iso' importRdata: no visible binding for global variable 'gene_name' importRdata: no visible binding for global variable 'n_ref' isoformToGeneExp: no visible binding for global variable 'gene_id' isoformToGeneExp: no visible binding for global variable 'gene_name' preFilter: no visible global function definition for 'setdff' switchPlotTranscript: no visible binding for global variable 'topology' switchPlotTranscript: no visible binding for global variable 'idNr' switchPlotTranscript: no visible binding for global variable 'Topology' switchPlotTranscript: no visible binding for global variable 'topGroup' switchPlotTranscript: no visible binding for global variable 'y' switchPlotTranscript: no visible binding for global variable 'yend' switchPlotTranscript: no visible binding for global variable 'x' switchPlotTranscript: no visible binding for global variable 'ymin' switchPlotTranscript: no visible binding for global variable 'xmin' switchPlotTranscript: no visible binding for global variable 'ymax' switchPlotTranscript: no visible binding for global variable 'xmax' switchPlotTranscript: no visible binding for global variable 'Domain' switchPlotTranscript: no visible binding for global variable 'value' Undefined global functions or variables: AStype CI_down CI_hi CI_low CI_up Comparison Condition Domain Genes IF Localizations Significant Switch Topology condition_1 condition_2 feature2 featureCompared frac_overlap geneFraction gene_expression gene_id gene_name gene_ref has_novel_iso has_ref_gene_id idNr isoFraction isoformDownregulated isoformUpregulated isoform_feature isoform_id isoformsDifferent known_ref_gene_id location_gain location_loss log2_overlap_ratio nTot n_genes n_iso_na n_ref n_ref_gene_ids n_switch novel_iso nrGenesWithConsequences nrIsoWithConsequences nt_overlap orfEndGenomic orfStartGenomic orf_origin propCiHi propCiLo propOfRelevantEvents propUp propUpCiHi propUpCiLo ref_gene_id setdff sigEval sigLevel sigLevelPos significance splicingResult switchConsequence topGroup topology value variable x xmax xmin y yend ymax ymin * checking Rd files ... NOTE checkRd: (-1) isoformToGeneExp.Rd:22: Lost braces; missing escapes or markup? 22 | \item{Using the {isoformGeneAnnotation} argument}. | ^ checkRd: (-1) isoformToIsoformFraction.Rd:23: Lost braces; missing escapes or markup? 23 | \item{Using the {isoformGeneAnnotation} argument}. | ^ * checking Rd metadata ... OK * checking Rd cross-references ... OK * checking for missing documentation entries ... OK * checking for code/documentation mismatches ... OK * checking Rd \usage sections ... OK * checking Rd contents ... OK * checking for unstated dependencies in examples ... OK * checking contents of ‘data’ directory ... OK * checking data for non-ASCII characters ... OK * checking data for ASCII and uncompressed saves ... OK * checking line endings in C/C++/Fortran sources/headers ... OK * checking compiled code ... NOTE Note: information on .o files is not available * checking files in ‘vignettes’ ... OK * checking examples ... OK Examples with CPU (user + system) or elapsed time > 5s user system elapsed IsoformSwitchTestDEXSeq 93.167 1.176 94.673 isoformSwitchAnalysisCombined 59.881 0.551 60.596 importSalmonData 37.476 0.843 79.312 prepareSalmonFilesDataFrame 16.465 0.215 27.331 extractSequence 13.381 0.108 13.530 analyzeORF 12.888 0.036 12.964 extractTopSwitches 11.789 0.036 11.862 extractSwitchSummary 11.476 0.016 11.528 isoformSwitchAnalysisPart1 11.305 0.027 11.369 analyzeAlternativSplicing 10.222 0.036 10.290 extractGenomeWideAnalysis 6.407 0.100 6.527 switchPlot 6.114 0.004 6.137 isoformSwitchAnalysisPart2 5.990 0.116 6.125 extractGenomeWideSplicingAnalysis 5.877 0.048 5.943 * checking for unstated dependencies in vignettes ... OK * checking package vignettes ... OK * checking running R code from vignettes ... SKIPPED * checking re-building of vignette outputs ... SKIPPED * checking PDF version of manual ... OK * DONE Status: 3 NOTEs See ‘/home/biocbuild/bbs-3.22-bioc/meat/IsoformSwitchAnalyzeR.Rcheck/00check.log’ for details.
IsoformSwitchAnalyzeR.Rcheck/00install.out
############################################################################## ############################################################################## ### ### Running command: ### ### /home/biocbuild/R/R/bin/R CMD INSTALL IsoformSwitchAnalyzeR ### ############################################################################## ############################################################################## * installing to library ‘/home/biocbuild/R/R-4.5.0/site-library’ * installing *source* package ‘IsoformSwitchAnalyzeR’ ... ** this is package ‘IsoformSwitchAnalyzeR’ version ‘2.9.1’ ** using staged installation ** libs using C compiler: ‘aarch64-unknown-linux-gnu-gcc (GCC) 14.2.0’ /opt/ohpc/pub/compiler/gcc/14.2.0/bin/aarch64-unknown-linux-gnu-gcc -std=gnu23 -I"/home/biocbuild/R/R-4.5.0/include" -DNDEBUG -I/usr/local/include -fPIC -g -O2 -Wall -Werror=format-security -c utils.c -o utils.o /opt/ohpc/pub/compiler/gcc/14.2.0/bin/aarch64-unknown-linux-gnu-gcc -std=gnu23 -shared -L/home/biocbuild/R/R-4.5.0/lib -L/usr/local/lib -o IsoformSwitchAnalyzeR.so utils.o -L/home/biocbuild/R/R-4.5.0/lib -lR installing to /home/biocbuild/R/R-4.5.0/site-library/00LOCK-IsoformSwitchAnalyzeR/00new/IsoformSwitchAnalyzeR/libs ** R ** data ** inst ** byte-compile and prepare package for lazy loading ** help *** installing help indices ** building package indices ** installing vignettes ** testing if installed package can be loaded from temporary location ** checking absolute paths in shared objects and dynamic libraries ** testing if installed package can be loaded from final location ** testing if installed package keeps a record of temporary installation path * DONE (IsoformSwitchAnalyzeR)
IsoformSwitchAnalyzeR.Rcheck/IsoformSwitchAnalyzeR-Ex.timings
name | user | system | elapsed | |
IsoformSwitchTestDEXSeq | 93.167 | 1.176 | 94.673 | |
IsoformSwitchTestSatuRn | 3.924 | 0.079 | 4.016 | |
addORFfromGTF | 1.169 | 0.000 | 1.173 | |
analyzeAlternativSplicing | 10.222 | 0.036 | 10.290 | |
analyzeCPAT | 0.066 | 0.000 | 0.069 | |
analyzeCPC2 | 0.064 | 0.000 | 0.066 | |
analyzeDeepLoc2 | 0.297 | 0.032 | 0.331 | |
analyzeDeepTMHMM | 0.714 | 0.004 | 0.722 | |
analyzeIUPred2A | 3.535 | 0.051 | 3.601 | |
analyzeNovelIsoformORF | 0.999 | 0.008 | 1.010 | |
analyzeORF | 12.888 | 0.036 | 12.964 | |
analyzePFAM | 0.635 | 0.008 | 0.648 | |
analyzeSignalP | 0.103 | 0.004 | 0.110 | |
analyzeSwitchConsequences | 1.846 | 0.016 | 1.868 | |
expressionAnalysisPlots | 2.532 | 0.008 | 2.549 | |
extractConsequenceEnrichment | 0.972 | 0.008 | 0.983 | |
extractConsequenceEnrichmentComparison | 1.334 | 0.004 | 1.343 | |
extractConsequenceSummary | 1.758 | 0.016 | 1.781 | |
extractGeneExpression | 0.058 | 0.000 | 0.059 | |
extractGenomeWideAnalysis | 6.407 | 0.100 | 6.527 | |
extractGenomeWideSplicingAnalysis | 5.877 | 0.048 | 5.943 | |
extractSequence | 13.381 | 0.108 | 13.530 | |
extractSplicingEnrichment | 1.917 | 0.008 | 1.931 | |
extractSplicingEnrichmentComparison | 2.194 | 0.012 | 2.212 | |
extractSplicingSummary | 2.024 | 0.011 | 2.042 | |
extractSwitchOverlap | 0.456 | 0.004 | 0.460 | |
extractSwitchSummary | 11.476 | 0.016 | 11.528 | |
extractTopSwitches | 11.789 | 0.036 | 11.862 | |
importCufflinksGalaxyData | 0 | 0 | 0 | |
importGTF | 1.105 | 0.000 | 1.109 | |
importIsoformExpression | 0.835 | 0.084 | 0.923 | |
importRdata | 3.549 | 0.075 | 3.647 | |
importSalmonData | 37.476 | 0.843 | 79.312 | |
isoformSwitchAnalysisCombined | 59.881 | 0.551 | 60.596 | |
isoformSwitchAnalysisPart1 | 11.305 | 0.027 | 11.369 | |
isoformSwitchAnalysisPart2 | 5.990 | 0.116 | 6.125 | |
isoformToGeneExp | 4.308 | 0.084 | 4.407 | |
isoformToIsoformFraction | 0.263 | 0.039 | 0.305 | |
preFilter | 0.03 | 0.00 | 0.03 | |
prepareSalmonFilesDataFrame | 16.465 | 0.215 | 27.331 | |
subsetSwitchAnalyzeRlist | 0.03 | 0.00 | 0.03 | |
switchAnalyzeRlist | 3.680 | 0.071 | 3.762 | |
switchPlot | 6.114 | 0.004 | 6.137 | |
switchPlotTranscript | 3.070 | 0.036 | 3.116 | |
testData | 0.015 | 0.000 | 0.015 | |