Back to Multiple platform build/check report for BioC 3.21:   simplified   long
ABCDEFGH[I]JKLMNOPQRSTUVWXYZ

This page was generated on 2025-02-03 12:38 -0500 (Mon, 03 Feb 2025).

HostnameOSArch (*)R versionInstalled pkgs
nebbiolo1Linux (Ubuntu 24.04.1 LTS)x86_64R Under development (unstable) (2025-01-20 r87609) -- "Unsuffered Consequences" 4704
palomino7Windows Server 2022 Datacenterx64R Under development (unstable) (2025-01-21 r87610 ucrt) -- "Unsuffered Consequences" 4467
lconwaymacOS 12.7.1 Montereyx86_64R Under development (unstable) (2025-01-22 r87618) -- "Unsuffered Consequences" 4478
Click on any hostname to see more info about the system (e.g. compilers)      (*) as reported by 'uname -p', except on Windows and Mac OS X

Package 1072/2289HostnameOS / ArchINSTALLBUILDCHECKBUILD BIN
IWTomics 1.31.0  (landing page)
Marzia A Cremona
Snapshot Date: 2025-02-02 13:40 -0500 (Sun, 02 Feb 2025)
git_url: https://git.bioconductor.org/packages/IWTomics
git_branch: devel
git_last_commit: 87c60ab
git_last_commit_date: 2024-10-29 10:15:51 -0500 (Tue, 29 Oct 2024)
nebbiolo1Linux (Ubuntu 24.04.1 LTS) / x86_64  OK    OK    WARNINGS  UNNEEDED, same version is already published
palomino7Windows Server 2022 Datacenter / x64  OK    OK    WARNINGS    OK  UNNEEDED, same version is already published
lconwaymacOS 12.7.1 Monterey / x86_64  OK    OK    WARNINGS    OK  UNNEEDED, same version is already published


BUILD BIN results for IWTomics on palomino7

To the developers/maintainers of the IWTomics package:
- Allow up to 24 hours (and sometimes 48 hours) for your latest push to git@git.bioconductor.org:packages/IWTomics.git to reflect on this report. See Troubleshooting Build Report for more information.
- Use the following Renviron settings to reproduce errors and warnings.
- If 'R CMD check' started to fail recently on the Linux builder(s) over a missing dependency, add the missing dependency to 'Suggests:' in your DESCRIPTION file. See Renviron.bioc for more information.

raw results


Summary

Package: IWTomics
Version: 1.31.0
Command: rm -rf IWTomics.buildbin-libdir && mkdir IWTomics.buildbin-libdir && E:\biocbuild\bbs-3.21-bioc\R\bin\R.exe CMD INSTALL --build --library=IWTomics.buildbin-libdir IWTomics_1.31.0.tar.gz
StartedAt: 2025-02-03 07:35:42 -0500 (Mon, 03 Feb 2025)
EndedAt: 2025-02-03 07:36:41 -0500 (Mon, 03 Feb 2025)
EllapsedTime: 59.0 seconds
RetCode: 0
Status:   OK  
PackageFile: IWTomics_1.31.0.zip
PackageFileSize: 1.633 MiB

Command output

##############################################################################
##############################################################################
###
### Running command:
###
###   rm -rf IWTomics.buildbin-libdir && mkdir IWTomics.buildbin-libdir && E:\biocbuild\bbs-3.21-bioc\R\bin\R.exe CMD INSTALL --build --library=IWTomics.buildbin-libdir IWTomics_1.31.0.tar.gz
###
##############################################################################
##############################################################################


* installing *source* package 'IWTomics' ...
** this is package 'IWTomics' version '1.31.0'
** using staged installation
** R
** data
** inst
** byte-compile and prepare package for lazy loading
Creating a new generic function for 'smooth' in package 'IWTomics'
** help
*** installing help indices
** building package indices
** installing vignettes
** testing if installed package can be loaded from temporary location
** testing if installed package can be loaded from final location
** testing if installed package keeps a record of temporary installation path
* MD5 sums
packaged installation of 'IWTomics' as IWTomics_1.31.0.zip
* DONE (IWTomics)