| Back to Multiple platform build/check report for BioC 3.22: simplified long |
|
This page was generated on 2025-10-21 12:07 -0400 (Tue, 21 Oct 2025).
| Hostname | OS | Arch (*) | R version | Installed pkgs |
|---|---|---|---|---|
| nebbiolo2 | Linux (Ubuntu 24.04.3 LTS) | x86_64 | 4.5.1 Patched (2025-08-23 r88802) -- "Great Square Root" | 4887 |
| lconway | macOS 12.7.6 Monterey | x86_64 | 4.5.1 Patched (2025-09-10 r88807) -- "Great Square Root" | 4677 |
| kjohnson3 | macOS 13.7.7 Ventura | arm64 | 4.5.1 Patched (2025-09-10 r88807) -- "Great Square Root" | 4622 |
| taishan | Linux (openEuler 24.03 LTS) | aarch64 | 4.5.0 (2025-04-11) -- "How About a Twenty-Six" | 4642 |
| Click on any hostname to see more info about the system (e.g. compilers) (*) as reported by 'uname -p', except on Windows and Mac OS X | ||||
| Package 1071/2353 | Hostname | OS / Arch | INSTALL | BUILD | CHECK | BUILD BIN | ||||||||
| IONiseR 2.33.0 (landing page) Mike Smith
| nebbiolo2 | Linux (Ubuntu 24.04.3 LTS) / x86_64 | OK | OK | OK | |||||||||
| lconway | macOS 12.7.6 Monterey / x86_64 | OK | OK | OK | OK | |||||||||
| kjohnson3 | macOS 13.7.7 Ventura / arm64 | OK | OK | OK | OK | |||||||||
| taishan | Linux (openEuler 24.03 LTS) / aarch64 | OK | OK | OK | ||||||||||
|
To the developers/maintainers of the IONiseR package: - Allow up to 24 hours (and sometimes 48 hours) for your latest push to git@git.bioconductor.org:packages/IONiseR.git to reflect on this report. See Troubleshooting Build Report for more information. - Use the following Renviron settings to reproduce errors and warnings. - If 'R CMD check' started to fail recently on the Linux builder(s) over a missing dependency, add the missing dependency to 'Suggests:' in your DESCRIPTION file. See Renviron.bioc for more information. - See Martin Grigorov's blog post for how to debug Linux ARM64 related issues on a x86_64 host. |
| Package: IONiseR |
| Version: 2.33.0 |
| Command: /home/biocbuild/R/R/bin/R CMD check --install=check:IONiseR.install-out.txt --library=/home/biocbuild/R/R/site-library --no-vignettes --timings IONiseR_2.33.0.tar.gz |
| StartedAt: 2025-10-17 10:18:10 -0000 (Fri, 17 Oct 2025) |
| EndedAt: 2025-10-17 10:23:45 -0000 (Fri, 17 Oct 2025) |
| EllapsedTime: 335.2 seconds |
| RetCode: 0 |
| Status: OK |
| CheckDir: IONiseR.Rcheck |
| Warnings: 0 |
##############################################################################
##############################################################################
###
### Running command:
###
### /home/biocbuild/R/R/bin/R CMD check --install=check:IONiseR.install-out.txt --library=/home/biocbuild/R/R/site-library --no-vignettes --timings IONiseR_2.33.0.tar.gz
###
##############################################################################
##############################################################################
* using log directory ‘/home/biocbuild/bbs-3.22-bioc/meat/IONiseR.Rcheck’
* using R version 4.5.0 (2025-04-11)
* using platform: aarch64-unknown-linux-gnu
* R was compiled by
aarch64-unknown-linux-gnu-gcc (GCC) 14.2.0
GNU Fortran (GCC) 14.2.0
* running under: openEuler 24.03 (LTS)
* using session charset: UTF-8
* using option ‘--no-vignettes’
* checking for file ‘IONiseR/DESCRIPTION’ ... OK
* this is package ‘IONiseR’ version ‘2.33.0’
* checking package namespace information ... OK
* checking package dependencies ... OK
* checking if this is a source package ... OK
* checking if there is a namespace ... OK
* checking for hidden files and directories ... NOTE
Found the following hidden files and directories:
.travis.yml
These were most likely included in error. See section ‘Package
structure’ in the ‘Writing R Extensions’ manual.
* checking for portable file names ... OK
* checking for sufficient/correct file permissions ... OK
* checking whether package ‘IONiseR’ can be installed ... OK
* checking installed package size ... OK
* checking package directory ... OK
* checking ‘build’ directory ... OK
* checking DESCRIPTION meta-information ... OK
* checking top-level files ... OK
* checking for left-over files ... OK
* checking index information ... OK
* checking package subdirectories ... OK
* checking code files for non-ASCII characters ... OK
* checking R files for syntax errors ... OK
* checking whether the package can be loaded ... OK
* checking whether the package can be loaded with stated dependencies ... OK
* checking whether the package can be unloaded cleanly ... OK
* checking whether the namespace can be loaded with stated dependencies ... OK
* checking whether the namespace can be unloaded cleanly ... OK
* checking loading without being on the library search path ... OK
* checking dependencies in R code ... OK
* checking S3 generic/method consistency ... OK
* checking replacement functions ... OK
* checking foreign function calls ... OK
* checking R code for possible problems ... NOTE
.fast5status : <anonymous>: no visible binding for global variable
‘group’
.fast5status : <anonymous>: no visible binding for global variable
‘name’
.get2D: no visible binding for global variable ‘full_2D’
.muxToXY: no visible binding for global variable ‘matrixCol’
.muxToXY: no visible binding for global variable ‘mux’
.muxToXY: no visible binding for global variable ‘oddEven’
.muxToXY: no visible global function definition for ‘:=’
.muxToXY: no visible binding for global variable ‘matrixRow’
.processFastq: no visible binding for global variable ‘readIDs’
.strandExistence: no visible binding for global variable ‘name’
.strandExistence: no visible binding for global variable ‘group’
channelActivityPlot: no visible binding for global variable ‘channel’
channelActivityPlot: no visible binding for global variable
‘start_time’
channelActivityPlot: no visible binding for global variable ‘duration’
channelActivityPlot: no visible binding for global variable ‘zvalue’
channelActivityPlot: no visible binding for global variable ‘time_bin’
channelActivityPlot: no visible binding for global variable
‘mean_value’
layoutPlot: no visible binding for global variable ‘channel’
layoutPlot: no visible binding for global variable ‘seq_length’
layoutPlot: no visible binding for global variable ‘median_signal’
layoutPlot: no visible global function definition for ‘error’
muxHeatmap: no visible binding for global variable ‘channel’
muxHeatmap: no visible binding for global variable ‘matrixRow’
muxHeatmap: no visible binding for global variable ‘matrixCol’
muxHeatmap: no visible binding for global variable ‘meanZValue’
muxHeatmap: no visible global function definition for ‘rbindlist’
muxHeatmap: no visible binding for global variable ‘circleFun’
muxHeatmap: no visible binding for global variable ‘x’
muxHeatmap: no visible binding for global variable ‘y’
plot2DYield: no visible binding for global variable ‘start_time’
plot2DYield: no visible binding for global variable ‘pass’
plot2DYield: no visible binding for global variable ‘nbases’
plot2DYield: no visible binding for global variable ‘time_group’
plot2DYield: no visible binding for global variable ‘hour’
plot2DYield: no visible binding for global variable ‘accumulation’
plotActiveChannels: no visible binding for global variable ‘start_time’
plotActiveChannels: no visible binding for global variable ‘duration’
plotActiveChannels: no visible binding for global variable ‘minute’
plotBaseProductionRate: no visible binding for global variable
‘start_time’
plotBaseProductionRate: no visible binding for global variable
‘bases_called’
plotBaseProductionRate: no visible binding for global variable
‘duration’
plotCurrentByTime: no visible binding for global variable ‘start_time’
plotCurrentByTime: no visible binding for global variable
‘median_signal’
plotEventRate: no visible binding for global variable ‘start_time’
plotEventRate: no visible binding for global variable ‘num_events’
plotEventRate: no visible binding for global variable ‘duration’
plotKmerFrequencyCorrelation: no visible binding for global variable
‘full_2D’
plotKmerFrequencyCorrelation: no visible binding for global variable
‘start_time’
plotKmerFrequencyCorrelation: no visible binding for global variable
‘AAAAA’
plotKmerFrequencyCorrelation: no visible binding for global variable
‘TTTTT’
plotKmerFrequencyCorrelation: no visible binding for global variable
‘time_group’
plotKmerFrequencyCorrelation: no visible binding for global variable
‘freq’
plotKmerFrequencyCorrelation: no visible binding for global variable
‘pentamer’
plotKmerFrequencyCorrelation: no visible binding for global variable
‘x’
plotKmerFrequencyCorrelation: no visible binding for global variable
‘y’
plotReadAccumulation: no visible binding for global variable
‘start_time’
plotReadAccumulation: no visible binding for global variable ‘minute’
plotReadAccumulation: no visible binding for global variable
‘new_reads’
plotReadAccumulation: no visible binding for global variable
‘accumulation’
plotReadCategoryCounts: no visible binding for global variable
‘full_2D’
plotReadCategoryCounts: no visible binding for global variable ‘pass’
plotReadCategoryCounts: no visible binding for global variable
‘category’
plotReadTypeProduction: no visible binding for global variable
‘start_time’
plotReadTypeProduction: no visible binding for global variable
‘time_group’
plotReadTypeProduction: no visible binding for global variable
‘full_2D’
plotReadTypeProduction: no visible binding for global variable ‘pass’
plotReadTypeProduction: no visible binding for global variable ‘hour’
readFast5Summary: no visible binding for global variable ‘start_time’
readFast5Summary: no visible binding for global variable ‘duration’
readFast5Summary: no visible binding for global variable ‘num_events’
readFast5Summary.mc: no visible binding for global variable
‘start_time’
readFast5Summary.mc: no visible binding for global variable ‘duration’
readFast5Summary.mc: no visible binding for global variable
‘num_events’
[,Fast5Summary-ANY-ANY-ANY: no visible binding for global variable
‘baseCalledTemplate’
[,Fast5Summary-ANY-ANY-ANY: no visible binding for global variable
‘baseCalledComplement’
[,Fast5Summary-ANY-ANY-ANY: no visible binding for global variable
‘component’
[,Fast5Summary-ANY-ANY-ANY: no visible binding for global variable
‘idx’
show,Fast5Summary: no visible binding for global variable ‘full_2D’
show,Fast5Summary: no visible binding for global variable ‘pass’
Undefined global functions or variables:
:= AAAAA TTTTT accumulation baseCalledComplement baseCalledTemplate
bases_called category channel circleFun component duration error freq
full_2D group hour idx matrixCol matrixRow meanZValue mean_value
median_signal minute mux name nbases new_reads num_events oddEven
pass pentamer rbindlist readIDs seq_length start_time time_bin
time_group x y zvalue
* checking Rd files ... OK
* checking Rd metadata ... OK
* checking Rd cross-references ... OK
* checking for missing documentation entries ... OK
* checking for code/documentation mismatches ... OK
* checking Rd \usage sections ... OK
* checking Rd contents ... OK
* checking for unstated dependencies in examples ... OK
* checking files in ‘vignettes’ ... OK
* checking examples ... OK
Examples with CPU (user + system) or elapsed time > 5s
user system elapsed
plotKmerFrequencyCorrelation 13.24 0.299 13.576
* checking for unstated dependencies in ‘tests’ ... OK
* checking tests ...
Running ‘testthat.R’
OK
* checking for unstated dependencies in vignettes ... OK
* checking package vignettes ... OK
* checking running R code from vignettes ... SKIPPED
* checking re-building of vignette outputs ... SKIPPED
* checking PDF version of manual ... OK
* DONE
Status: 2 NOTEs
See
‘/home/biocbuild/bbs-3.22-bioc/meat/IONiseR.Rcheck/00check.log’
for details.
IONiseR.Rcheck/00install.out
############################################################################## ############################################################################## ### ### Running command: ### ### /home/biocbuild/R/R/bin/R CMD INSTALL IONiseR ### ############################################################################## ############################################################################## * installing to library ‘/home/biocbuild/R/R-4.5.0/site-library’ * installing *source* package ‘IONiseR’ ... ** this is package ‘IONiseR’ version ‘2.33.0’ ** using staged installation ** R ** inst ** byte-compile and prepare package for lazy loading ** help *** installing help indices ** building package indices ** installing vignettes ** testing if installed package can be loaded from temporary location ** testing if installed package can be loaded from final location ** testing if installed package keeps a record of temporary installation path * DONE (IONiseR)
IONiseR.Rcheck/tests/testthat.Rout
R version 4.5.0 (2025-04-11) -- "How About a Twenty-Six"
Copyright (C) 2025 The R Foundation for Statistical Computing
Platform: aarch64-unknown-linux-gnu
R is free software and comes with ABSOLUTELY NO WARRANTY.
You are welcome to redistribute it under certain conditions.
Type 'license()' or 'licence()' for distribution details.
R is a collaborative project with many contributors.
Type 'contributors()' for more information and
'citation()' on how to cite R or R packages in publications.
Type 'demo()' for some demos, 'help()' for on-line help, or
'help.start()' for an HTML browser interface to help.
Type 'q()' to quit R.
> library(testthat)
> library(IONiseR)
>
> test_check("IONiseR")
[ FAIL 0 | WARN 18 | SKIP 0 | PASS 24 ]
[ FAIL 0 | WARN 18 | SKIP 0 | PASS 24 ]
>
> proc.time()
user system elapsed
22.350 1.466 23.903
IONiseR.Rcheck/IONiseR-Ex.timings
| name | user | system | elapsed | |
| Fast5Summary-class | 1.172 | 0.032 | 1.215 | |
| baseCalled | 1.261 | 0.055 | 1.321 | |
| channelActivityPlot | 2.254 | 0.152 | 2.417 | |
| channelHeatmap | 1.802 | 0.052 | 1.859 | |
| eventData | 0.487 | 0.024 | 0.513 | |
| fast5toFastq | 0.001 | 0.000 | 0.000 | |
| fastq | 0.470 | 0.024 | 0.495 | |
| fastq2D | 1.214 | 0.016 | 1.234 | |
| fastqComplement | 0.470 | 0.004 | 0.475 | |
| fastqTemplate | 0.454 | 0.028 | 0.483 | |
| layoutPlot | 0.906 | 0.024 | 0.934 | |
| plotActiveChannels | 0.754 | 0.023 | 0.779 | |
| plotBaseProductionRate | 1.549 | 0.008 | 1.561 | |
| plotCurrentByTime | 0.779 | 0.031 | 0.812 | |
| plotEventRate | 1.552 | 0.040 | 1.597 | |
| plotKmerFrequencyCorrelation | 13.240 | 0.299 | 13.576 | |
| plotReadAccumulation | 0.715 | 0.019 | 0.738 | |
| plotReadCategoryCounts | 0.776 | 0.016 | 0.794 | |
| plotReadCategoryQuals | 1.852 | 0.068 | 1.925 | |
| plotReadTypeProduction | 0.766 | 0.024 | 0.792 | |
| readFast5Log | 0.003 | 0.004 | 0.010 | |
| readFast5Summary | 0 | 0 | 0 | |
| readInfo | 0.474 | 0.004 | 0.479 | |