| Back to Multiple platform build/check report for BioC 3.22: simplified long |
|
This page was generated on 2025-10-21 12:07 -0400 (Tue, 21 Oct 2025).
| Hostname | OS | Arch (*) | R version | Installed pkgs |
|---|---|---|---|---|
| nebbiolo2 | Linux (Ubuntu 24.04.3 LTS) | x86_64 | 4.5.1 Patched (2025-08-23 r88802) -- "Great Square Root" | 4887 |
| lconway | macOS 12.7.6 Monterey | x86_64 | 4.5.1 Patched (2025-09-10 r88807) -- "Great Square Root" | 4677 |
| kjohnson3 | macOS 13.7.7 Ventura | arm64 | 4.5.1 Patched (2025-09-10 r88807) -- "Great Square Root" | 4622 |
| taishan | Linux (openEuler 24.03 LTS) | aarch64 | 4.5.0 (2025-04-11) -- "How About a Twenty-Six" | 4642 |
| Click on any hostname to see more info about the system (e.g. compilers) (*) as reported by 'uname -p', except on Windows and Mac OS X | ||||
| Package 1059/2353 | Hostname | OS / Arch | INSTALL | BUILD | CHECK | BUILD BIN | ||||||||
| INSPEcT 1.39.1 (landing page) Stefano de Pretis
| nebbiolo2 | Linux (Ubuntu 24.04.3 LTS) / x86_64 | OK | OK | OK | |||||||||
| lconway | macOS 12.7.6 Monterey / x86_64 | OK | OK | OK | OK | |||||||||
| kjohnson3 | macOS 13.7.7 Ventura / arm64 | OK | OK | OK | OK | |||||||||
| taishan | Linux (openEuler 24.03 LTS) / aarch64 | OK | OK | OK | ||||||||||
|
To the developers/maintainers of the INSPEcT package: - Allow up to 24 hours (and sometimes 48 hours) for your latest push to git@git.bioconductor.org:packages/INSPEcT.git to reflect on this report. See Troubleshooting Build Report for more information. - Use the following Renviron settings to reproduce errors and warnings. - If 'R CMD check' started to fail recently on the Linux builder(s) over a missing dependency, add the missing dependency to 'Suggests:' in your DESCRIPTION file. See Renviron.bioc for more information. - See Martin Grigorov's blog post for how to debug Linux ARM64 related issues on a x86_64 host. |
| Package: INSPEcT |
| Version: 1.39.1 |
| Command: /home/biocbuild/R/R/bin/R CMD check --install=check:INSPEcT.install-out.txt --library=/home/biocbuild/R/R/site-library --no-vignettes --timings INSPEcT_1.39.1.tar.gz |
| StartedAt: 2025-10-17 10:15:31 -0000 (Fri, 17 Oct 2025) |
| EndedAt: 2025-10-17 10:31:37 -0000 (Fri, 17 Oct 2025) |
| EllapsedTime: 965.8 seconds |
| RetCode: 0 |
| Status: OK |
| CheckDir: INSPEcT.Rcheck |
| Warnings: 0 |
##############################################################################
##############################################################################
###
### Running command:
###
### /home/biocbuild/R/R/bin/R CMD check --install=check:INSPEcT.install-out.txt --library=/home/biocbuild/R/R/site-library --no-vignettes --timings INSPEcT_1.39.1.tar.gz
###
##############################################################################
##############################################################################
* using log directory ‘/home/biocbuild/bbs-3.22-bioc/meat/INSPEcT.Rcheck’
* using R version 4.5.0 (2025-04-11)
* using platform: aarch64-unknown-linux-gnu
* R was compiled by
aarch64-unknown-linux-gnu-gcc (GCC) 14.2.0
GNU Fortran (GCC) 14.2.0
* running under: openEuler 24.03 (LTS)
* using session charset: UTF-8
* using option ‘--no-vignettes’
* checking for file ‘INSPEcT/DESCRIPTION’ ... OK
* checking extension type ... Package
* this is package ‘INSPEcT’ version ‘1.39.1’
* checking package namespace information ... OK
* checking package dependencies ... OK
* checking if this is a source package ... OK
* checking if there is a namespace ... OK
* checking for hidden files and directories ... OK
* checking for portable file names ... OK
* checking for sufficient/correct file permissions ... OK
* checking whether package ‘INSPEcT’ can be installed ... OK
* checking installed package size ... INFO
installed size is 7.1Mb
sub-directories of 1Mb or more:
R 1.8Mb
data 2.8Mb
* checking package directory ... OK
* checking ‘build’ directory ... OK
* checking DESCRIPTION meta-information ... OK
* checking top-level files ... OK
* checking for left-over files ... OK
* checking index information ... OK
* checking package subdirectories ... OK
* checking code files for non-ASCII characters ... OK
* checking R files for syntax errors ... OK
* checking whether the package can be loaded ... OK
* checking whether the package can be loaded with stated dependencies ... OK
* checking whether the package can be unloaded cleanly ... OK
* checking whether the namespace can be loaded with stated dependencies ... OK
* checking whether the namespace can be unloaded cleanly ... OK
* checking loading without being on the library search path ... OK
* checking dependencies in R code ... OK
* checking S3 generic/method consistency ... OK
* checking replacement functions ... OK
* checking foreign function calls ... OK
* checking R code for possible problems ... NOTE
output_pars: no visible global function definition for ‘plot.new’
plotSingleRNADynamic: no visible global function definition for ‘lines’
Undefined global functions or variables:
lines plot.new
Consider adding
importFrom("graphics", "lines", "plot.new")
to your NAMESPACE file.
* checking Rd files ... OK
* checking Rd metadata ... OK
* checking Rd cross-references ... NOTE
Found the following Rd file(s) with Rd \link{} targets missing package
anchors:
INSPEcT-class.Rd: featureNames
Please provide package anchors for all Rd \link{} targets not in the
package itself and the base packages.
* checking for missing documentation entries ... OK
* checking for code/documentation mismatches ... OK
* checking Rd \usage sections ... OK
* checking Rd contents ... OK
* checking for unstated dependencies in examples ... OK
* checking contents of ‘data’ directory ... OK
* checking data for non-ASCII characters ... OK
* checking data for ASCII and uncompressed saves ... OK
* checking files in ‘vignettes’ ... OK
* checking examples ... OK
Examples with CPU (user + system) or elapsed time > 5s
user system elapsed
makeSimDataset 114.151 0.475 114.973
quantifyExpressionsFromBAMs 42.918 0.323 44.281
INSPEcT_diffsteady-class 38.920 0.722 39.760
rocCurve 38.951 0.120 39.156
rocThresholds 38.363 0.111 38.550
makeSimModel 38.062 0.099 38.273
plotMA 34.894 0.083 35.084
compareSteady 34.346 0.375 34.825
modelRates 22.380 0.088 22.528
newINSPEcT 20.730 0.092 20.886
quantifyExpressionsFromTrCounts 20.588 0.147 20.781
processingDelay 18.569 0.060 18.684
makeOscillatorySimModel 8.838 0.040 8.910
compareSteadyNoNascent 7.542 0.083 7.652
* checking for unstated dependencies in vignettes ... OK
* checking package vignettes ... OK
* checking running R code from vignettes ... SKIPPED
* checking re-building of vignette outputs ... SKIPPED
* checking PDF version of manual ... OK
* DONE
Status: 2 NOTEs
See
‘/home/biocbuild/bbs-3.22-bioc/meat/INSPEcT.Rcheck/00check.log’
for details.
INSPEcT.Rcheck/00install.out
############################################################################## ############################################################################## ### ### Running command: ### ### /home/biocbuild/R/R/bin/R CMD INSTALL INSPEcT ### ############################################################################## ############################################################################## * installing to library ‘/home/biocbuild/R/R-4.5.0/site-library’ * installing *source* package ‘INSPEcT’ ... ** this is package ‘INSPEcT’ version ‘1.39.1’ ** using staged installation ** R ** data ** inst ** byte-compile and prepare package for lazy loading ** help *** installing help indices ** building package indices ** installing vignettes ** testing if installed package can be loaded from temporary location ** testing if installed package can be loaded from final location ** testing if installed package keeps a record of temporary installation path * DONE (INSPEcT)
INSPEcT.Rcheck/INSPEcT-Ex.timings
| name | user | system | elapsed | |
| AIC-INSPEcT-method | 0.194 | 0.000 | 0.198 | |
| Extract | 0.451 | 0.000 | 0.452 | |
| INSPEcT_diffsteady-class | 38.920 | 0.722 | 39.760 | |
| calculateRatePvals | 0.255 | 0.000 | 0.256 | |
| chisqmodel | 0.190 | 0.004 | 0.194 | |
| chisqtest | 0.193 | 0.000 | 0.193 | |
| combine | 0.443 | 0.000 | 0.444 | |
| compareSteady | 34.346 | 0.375 | 34.825 | |
| compareSteadyNoNascent | 7.542 | 0.083 | 7.652 | |
| convergence | 0.182 | 0.012 | 0.195 | |
| geneClass | 0.252 | 0.000 | 0.253 | |
| inHeatmap | 0.230 | 0.004 | 0.234 | |
| inspectFromPCR | 4.684 | 0.028 | 4.730 | |
| labeledSF | 0.192 | 0.000 | 0.192 | |
| logLik | 0.187 | 0.004 | 0.191 | |
| makeModelRates | 0.247 | 0.004 | 0.252 | |
| makeOscillatorySimModel | 8.838 | 0.040 | 8.910 | |
| makeSimDataset | 114.151 | 0.475 | 114.973 | |
| makeSimModel | 38.062 | 0.099 | 38.273 | |
| modelRates | 22.380 | 0.088 | 22.528 | |
| modelRatesNF | 1.830 | 0.012 | 1.848 | |
| modelSelection | 0.190 | 0.000 | 0.191 | |
| modelingParams | 0.191 | 0.000 | 0.192 | |
| nGenes | 0.191 | 0.000 | 0.192 | |
| nTpts | 0.188 | 0.004 | 0.192 | |
| newINSPEcT | 20.730 | 0.092 | 20.886 | |
| plotGene | 0.235 | 0.016 | 0.252 | |
| plotMA | 34.894 | 0.083 | 35.084 | |
| processingDelay | 18.569 | 0.060 | 18.684 | |
| quantifyExpressionsFromBAMs | 42.918 | 0.323 | 44.281 | |
| quantifyExpressionsFromTrCounts | 20.588 | 0.147 | 20.781 | |
| ratePvals | 0.182 | 0.012 | 0.195 | |
| ratesFirstGuess | 0.188 | 0.004 | 0.193 | |
| ratesFirstGuessVar | 0.191 | 0.000 | 0.191 | |
| removeModel | 0.324 | 0.004 | 0.328 | |
| rocCurve | 38.951 | 0.120 | 39.156 | |
| rocThresholds | 38.363 | 0.111 | 38.550 | |
| split | 0.324 | 0.004 | 0.328 | |
| tpts | 0.189 | 0.000 | 0.189 | |
| viewConfidenceIntervals | 0.191 | 0.000 | 0.191 | |
| viewModelRates | 0.186 | 0.004 | 0.190 | |