Back to Multiple platform build/check report for BioC 3.22:   simplified   long
ABCDEFGH[I]JKLMNOPQRSTUVWXYZ

This page was generated on 2025-10-07 12:07 -0400 (Tue, 07 Oct 2025).

HostnameOSArch (*)R versionInstalled pkgs
nebbiolo2Linux (Ubuntu 24.04.3 LTS)x86_644.5.1 Patched (2025-08-23 r88802) -- "Great Square Root" 4853
lconwaymacOS 12.7.1 Montereyx86_644.5.1 Patched (2025-09-10 r88807) -- "Great Square Root" 4640
kjohnson3macOS 13.7.7 Venturaarm644.5.1 Patched (2025-09-10 r88807) -- "Great Square Root" 4585
taishanLinux (openEuler 24.03 LTS)aarch644.5.0 (2025-04-11) -- "How About a Twenty-Six" 4584
Click on any hostname to see more info about the system (e.g. compilers)      (*) as reported by 'uname -p', except on Windows and Mac OS X

Package 1046/2341HostnameOS / ArchINSTALLBUILDCHECKBUILD BIN
IMPCdata 1.45.0  (landing page)
Jeremy Mason
Snapshot Date: 2025-10-06 13:45 -0400 (Mon, 06 Oct 2025)
git_url: https://git.bioconductor.org/packages/IMPCdata
git_branch: devel
git_last_commit: 2514e51
git_last_commit_date: 2025-04-15 10:35:54 -0400 (Tue, 15 Apr 2025)
nebbiolo2Linux (Ubuntu 24.04.3 LTS) / x86_64  OK    OK    OK  UNNEEDED, same version is already published
lconwaymacOS 12.7.1 Monterey / x86_64  OK    OK    OK    OK  UNNEEDED, same version is already published
kjohnson3macOS 13.7.7 Ventura / arm64  OK    OK    OK    OK  UNNEEDED, same version is already published
taishanLinux (openEuler 24.03 LTS) / aarch64  OK    OK    OK  


CHECK results for IMPCdata on taishan

To the developers/maintainers of the IMPCdata package:
- Allow up to 24 hours (and sometimes 48 hours) for your latest push to git@git.bioconductor.org:packages/IMPCdata.git to reflect on this report. See Troubleshooting Build Report for more information.
- Use the following Renviron settings to reproduce errors and warnings.
- If 'R CMD check' started to fail recently on the Linux builder(s) over a missing dependency, add the missing dependency to 'Suggests:' in your DESCRIPTION file. See Renviron.bioc for more information.
- See Martin Grigorov's blog post for how to debug Linux ARM64 related issues on a x86_64 host.

raw results


Summary

Package: IMPCdata
Version: 1.45.0
Command: /home/biocbuild/R/R/bin/R CMD check --install=check:IMPCdata.install-out.txt --library=/home/biocbuild/R/R/site-library --no-vignettes --timings IMPCdata_1.45.0.tar.gz
StartedAt: 2025-10-07 08:52:35 -0000 (Tue, 07 Oct 2025)
EndedAt: 2025-10-07 08:54:33 -0000 (Tue, 07 Oct 2025)
EllapsedTime: 118.1 seconds
RetCode: 0
Status:   OK  
CheckDir: IMPCdata.Rcheck
Warnings: 0

Command output

##############################################################################
##############################################################################
###
### Running command:
###
###   /home/biocbuild/R/R/bin/R CMD check --install=check:IMPCdata.install-out.txt --library=/home/biocbuild/R/R/site-library --no-vignettes --timings IMPCdata_1.45.0.tar.gz
###
##############################################################################
##############################################################################


* using log directory ‘/home/biocbuild/bbs-3.22-bioc/meat/IMPCdata.Rcheck’
* using R version 4.5.0 (2025-04-11)
* using platform: aarch64-unknown-linux-gnu
* R was compiled by
    aarch64-unknown-linux-gnu-gcc (GCC) 14.2.0
    GNU Fortran (GCC) 14.2.0
* running under: openEuler 24.03 (LTS)
* using session charset: UTF-8
* using option ‘--no-vignettes’
* checking for file ‘IMPCdata/DESCRIPTION’ ... OK
* checking extension type ... Package
* this is package ‘IMPCdata’ version ‘1.45.0’
* checking package namespace information ... OK
* checking package dependencies ... OK
* checking if this is a source package ... OK
* checking if there is a namespace ... OK
* checking for hidden files and directories ... OK
* checking for portable file names ... OK
* checking for sufficient/correct file permissions ... OK
* checking whether package ‘IMPCdata’ can be installed ... OK
* checking installed package size ... OK
* checking package directory ... OK
* checking ‘build’ directory ... OK
* checking DESCRIPTION meta-information ... OK
* checking top-level files ... OK
* checking for left-over files ... OK
* checking index information ... OK
* checking package subdirectories ... OK
* checking code files for non-ASCII characters ... OK
* checking R files for syntax errors ... OK
* checking whether the package can be loaded ... OK
* checking whether the package can be loaded with stated dependencies ... OK
* checking whether the package can be unloaded cleanly ... OK
* checking whether the namespace can be loaded with stated dependencies ... OK
* checking whether the namespace can be unloaded cleanly ... OK
* checking loading without being on the library search path ... OK
* checking dependencies in R code ... OK
* checking S3 generic/method consistency ... OK
* checking replacement functions ... OK
* checking foreign function calls ... OK
* checking R code for possible problems ... OK
* checking Rd files ... OK
* checking Rd metadata ... OK
* checking Rd cross-references ... OK
* checking for missing documentation entries ... OK
* checking for code/documentation mismatches ... OK
* checking Rd \usage sections ... OK
* checking Rd contents ... OK
* checking for unstated dependencies in examples ... OK
* checking files in ‘vignettes’ ... OK
* checking examples ... OK
Examples with CPU (user + system) or elapsed time > 5s
                  user system elapsed
getPhenCenters   0.260  0.011  16.051
getAlleles       0.138  0.011   6.888
getProcedures    0.114  0.009   6.574
getGenes         0.114  0.008   5.535
getParameters    0.114  0.008   5.571
getPipelines     0.114  0.008   6.354
printAlleles     0.112  0.004   5.529
printParameters  0.108  0.008   5.550
printProcedures  0.108  0.008   6.033
printGenes       0.114  0.000   5.527
printPipelines   0.110  0.004   8.153
printPhenCenters 0.039  0.000   5.048
* checking for unstated dependencies in vignettes ... OK
* checking package vignettes ... OK
* checking running R code from vignettes ... SKIPPED
* checking re-building of vignette outputs ... SKIPPED
* checking PDF version of manual ... OK
* DONE

Status: OK


Installation output

IMPCdata.Rcheck/00install.out

##############################################################################
##############################################################################
###
### Running command:
###
###   /home/biocbuild/R/R/bin/R CMD INSTALL IMPCdata
###
##############################################################################
##############################################################################


* installing to library ‘/home/biocbuild/R/R-4.5.0/site-library’
* installing *source* package ‘IMPCdata’ ...
** this is package ‘IMPCdata’ version ‘1.45.0’
** using staged installation
** R
** inst
** byte-compile and prepare package for lazy loading
** help
*** installing help indices
** building package indices
** installing vignettes
** testing if installed package can be loaded from temporary location
** testing if installed package can be loaded from final location
** testing if installed package keeps a record of temporary installation path
* DONE (IMPCdata)

Tests output


Example timings

IMPCdata.Rcheck/IMPCdata-Ex.timings

nameusersystemelapsed
getAlleles0.1380.0116.888
getGenes0.1140.0085.535
getIMPCDataset0.0210.0001.234
getIMPCTable0.0720.0073.687
getName0.0190.0001.354
getParameters0.1140.0085.571
getPhenCenters 0.260 0.01116.051
getPipelines0.1140.0086.354
getProcedures0.1140.0096.574
getStrains0.0640.0003.776
getZygosities0.0200.0040.927
printAlleles0.1120.0045.529
printGenes0.1140.0005.527
printParameters0.1080.0085.550
printPhenCenters0.0390.0005.048
printPipelines0.1100.0048.153
printProcedures0.1080.0086.033
printStrains0.0540.0043.165