Back to Multiple platform build/check report for BioC 3.22:   simplified   long
ABCDEFG[H]IJKLMNOPQRSTUVWXYZ

This page was generated on 2025-05-23 12:10 -0400 (Fri, 23 May 2025).

HostnameOSArch (*)R versionInstalled pkgs
nebbiolo2Linux (Ubuntu 24.04.1 LTS)x86_644.5.0 (2025-04-11) -- "How About a Twenty-Six" 4753
palomino8Windows Server 2022 Datacenterx644.5.0 (2025-04-11 ucrt) -- "How About a Twenty-Six" 4528
lconwaymacOS 12.7.1 Montereyx86_644.5.0 Patched (2025-04-21 r88169) -- "How About a Twenty-Six" 4553
kjohnson3macOS 13.7.1 Venturaarm644.5.0 Patched (2025-04-21 r88169) -- "How About a Twenty-Six" 4493
taishanLinux (openEuler 24.03 LTS)aarch644.5.0 (2025-04-11) -- "How About a Twenty-Six" 4460
Click on any hostname to see more info about the system (e.g. compilers)      (*) as reported by 'uname -p', except on Windows and Mac OS X

Package 939/2306HostnameOS / ArchINSTALLBUILDCHECKBUILD BIN
Harshlight 1.81.0  (landing page)
Maurizio Pellegrino
Snapshot Date: 2025-05-22 13:25 -0400 (Thu, 22 May 2025)
git_url: https://git.bioconductor.org/packages/Harshlight
git_branch: devel
git_last_commit: ecfb66a
git_last_commit_date: 2025-04-15 09:38:43 -0400 (Tue, 15 Apr 2025)
nebbiolo2Linux (Ubuntu 24.04.1 LTS) / x86_64  ERROR    ERROR  skipped
palomino8Windows Server 2022 Datacenter / x64  ERROR    ERROR  skippedskipped
lconwaymacOS 12.7.1 Monterey / x86_64  OK    OK    OK    OK  UNNEEDED, same version is already published
kjohnson3macOS 13.7.1 Ventura / arm64  ERROR    ERROR  skippedskipped
taishanLinux (openEuler 24.03 LTS) / aarch64  ERROR    ERROR  skipped


INSTALL results for Harshlight on kjohnson3

To the developers/maintainers of the Harshlight package:
- Allow up to 24 hours (and sometimes 48 hours) for your latest push to git@git.bioconductor.org:packages/Harshlight.git to reflect on this report. See Troubleshooting Build Report for more information.
- Use the following Renviron settings to reproduce errors and warnings.
- If 'R CMD check' started to fail recently on the Linux builder(s) over a missing dependency, add the missing dependency to 'Suggests:' in your DESCRIPTION file. See Renviron.bioc for more information.

raw results


Summary

Package: Harshlight
Version: 1.81.0
Command: /Library/Frameworks/R.framework/Resources/bin/R CMD INSTALL Harshlight
StartedAt: 2025-05-22 15:07:55 -0400 (Thu, 22 May 2025)
EndedAt: 2025-05-22 15:07:56 -0400 (Thu, 22 May 2025)
EllapsedTime: 1.2 seconds
RetCode: 1
Status:   ERROR  

Command output

##############################################################################
##############################################################################
###
### Running command:
###
###   /Library/Frameworks/R.framework/Resources/bin/R CMD INSTALL Harshlight
###
##############################################################################
##############################################################################


* installing to library ‘/Library/Frameworks/R.framework/Versions/4.5-arm64/Resources/library’
* installing *source* package ‘Harshlight’ ...
** this is package ‘Harshlight’ version ‘1.81.0’
** using staged installation
** libs
using C compiler: ‘Apple clang version 15.0.0 (clang-1500.1.0.2.5)’
using SDK: ‘MacOSX11.3.sdk’
clang -arch arm64 -std=gnu2x -I"/Library/Frameworks/R.framework/Resources/include" -DNDEBUG   -I/opt/R/arm64/include    -fPIC  -falign-functions=64 -Wall -g -O2  -c Harshlight.c -o Harshlight.o
Harshlight.c:564:20: warning: variable 'p_num_points' set but not used [-Wunused-but-set-variable]
  int num_points, *p_num_points; //number of points inside the median kernel
                   ^
Harshlight.c:789:7: warning: variable 'counter' set but not used [-Wunused-but-set-variable]
  int counter = 0; //counter
      ^
Harshlight.c:948:10: warning: variable 'cell_value' set but not used [-Wunused-but-set-variable]
  double cell_value;
         ^
Harshlight.c:1316:27: warning: unused variable 'sorted2' [-Wunused-variable]
  double *sorted; double *sorted2;
                          ^
Harshlight.c:1471:26: warning: invalid conversion specifier ')' [-Wformat-invalid-specifier]
  PP "%d %d moveto (%.2f%) show\n", x_text_val, y_text - 215, *diff_br);
                        ~^
Harshlight.c:1474:26: warning: invalid conversion specifier ')' [-Wformat-invalid-specifier]
  PP "%d %d moveto (%.2f%) show\n", x_text_val, y_text - 230, *diff_dr);
                        ~^
Harshlight.c:1504:6: error: conflicting types for 'chip_overall_header'
void chip_overall_header(int *chip_number, char **chip_name){
     ^
Harshlight.c:93:6: note: previous declaration is here
void chip_overall_header(); //general header for a chip
     ^
Harshlight.c:1532:107: warning: invalid conversion specifier ')' [-Wformat-invalid-specifier]
  PP "%d %d moveto (Extended defects: the variance of the Error Image explained by the background is %.2f%) show\n", x_text, y_text - 30, *var);
                                                                                                         ~^
Harshlight.c:1542:26: warning: invalid conversion specifier ')' [-Wformat-invalid-specifier]
  PP "%d %d moveto (%.2f%) show\n", x_val_1, y_text - 100, *perc_c);
                        ~^
Harshlight.c:1543:26: warning: invalid conversion specifier ')' [-Wformat-invalid-specifier]
  PP "%d %d moveto (%.2f%) show\n", x_val_2, y_text - 100, *perc_d);
                        ~^
Harshlight.c:1555:107: warning: invalid conversion specifier ')' [-Wformat-invalid-specifier]
  PP "%d %d moveto (Extended defects: the variance of the Error Image explained by the background is %.2f%) show\n", x_text, y_text - 30, *var);
                                                                                                         ~^
10 warnings and 1 error generated.
make: *** [Harshlight.o] Error 1
ERROR: compilation failed for package ‘Harshlight’
* removing ‘/Library/Frameworks/R.framework/Versions/4.5-arm64/Resources/library/Harshlight’