| Back to Multiple platform build/check report for BioC 3.22: simplified long |
|
This page was generated on 2025-10-25 12:04 -0400 (Sat, 25 Oct 2025).
| Hostname | OS | Arch (*) | R version | Installed pkgs |
|---|---|---|---|---|
| nebbiolo2 | Linux (Ubuntu 24.04.3 LTS) | x86_64 | 4.5.1 Patched (2025-08-23 r88802) -- "Great Square Root" | 4901 |
| lconway | macOS 12.7.6 Monterey | x86_64 | 4.5.1 Patched (2025-09-10 r88807) -- "Great Square Root" | 4691 |
| kjohnson3 | macOS 13.7.7 Ventura | arm64 | 4.5.1 Patched (2025-09-10 r88807) -- "Great Square Root" | 4637 |
| taishan | Linux (openEuler 24.03 LTS) | aarch64 | 4.5.0 (2025-04-11) -- "How About a Twenty-Six" | 4658 |
| Click on any hostname to see more info about the system (e.g. compilers) (*) as reported by 'uname -p', except on Windows and Mac OS X | ||||
| Package 975/2361 | Hostname | OS / Arch | INSTALL | BUILD | CHECK | BUILD BIN | ||||||||
| HIBAG 1.45.0 (landing page) Xiuwen Zheng
| nebbiolo2 | Linux (Ubuntu 24.04.3 LTS) / x86_64 | OK | OK | OK | |||||||||
| lconway | macOS 12.7.6 Monterey / x86_64 | OK | OK | OK | OK | |||||||||
| kjohnson3 | macOS 13.7.7 Ventura / arm64 | OK | OK | OK | OK | |||||||||
| taishan | Linux (openEuler 24.03 LTS) / aarch64 | OK | NA | NA | ||||||||||
|
To the developers/maintainers of the HIBAG package: - Allow up to 24 hours (and sometimes 48 hours) for your latest push to git@git.bioconductor.org:packages/HIBAG.git to reflect on this report. See Troubleshooting Build Report for more information. - Use the following Renviron settings to reproduce errors and warnings. - If 'R CMD check' started to fail recently on the Linux builder(s) over a missing dependency, add the missing dependency to 'Suggests:' in your DESCRIPTION file. See Renviron.bioc for more information. |
| Package: HIBAG |
| Version: 1.45.0 |
| Command: /Library/Frameworks/R.framework/Resources/bin/R CMD check --install=check:HIBAG.install-out.txt --library=/Library/Frameworks/R.framework/Resources/library --no-vignettes --timings HIBAG_1.45.0.tar.gz |
| StartedAt: 2025-10-24 21:46:43 -0400 (Fri, 24 Oct 2025) |
| EndedAt: 2025-10-24 21:47:55 -0400 (Fri, 24 Oct 2025) |
| EllapsedTime: 72.2 seconds |
| RetCode: 0 |
| Status: OK |
| CheckDir: HIBAG.Rcheck |
| Warnings: 0 |
##############################################################################
##############################################################################
###
### Running command:
###
### /Library/Frameworks/R.framework/Resources/bin/R CMD check --install=check:HIBAG.install-out.txt --library=/Library/Frameworks/R.framework/Resources/library --no-vignettes --timings HIBAG_1.45.0.tar.gz
###
##############################################################################
##############################################################################
* using log directory ‘/Users/biocbuild/bbs-3.22-bioc/meat/HIBAG.Rcheck’
* using R version 4.5.1 Patched (2025-09-10 r88807)
* using platform: x86_64-apple-darwin20
* R was compiled by
Apple clang version 14.0.0 (clang-1400.0.29.202)
GNU Fortran (GCC) 14.2.0
* running under: macOS Monterey 12.7.6
* using session charset: UTF-8
* using option ‘--no-vignettes’
* checking for file ‘HIBAG/DESCRIPTION’ ... OK
* checking extension type ... Package
* this is package ‘HIBAG’ version ‘1.45.0’
* checking package namespace information ... OK
* checking package dependencies ... OK
* checking if this is a source package ... OK
* checking if there is a namespace ... OK
* checking for hidden files and directories ... OK
* checking for portable file names ... OK
* checking for sufficient/correct file permissions ... OK
* checking whether package ‘HIBAG’ can be installed ... OK
* used C compiler: ‘Apple clang version 14.0.0 (clang-1400.0.29.202)’
* used C++ compiler: ‘Apple clang version 14.0.0 (clang-1400.0.29.202)’
* used SDK: ‘MacOSX11.3.1.sdk’
* checking C++ specification ... NOTE
Specified C++11: please drop specification unless essential
* checking installed package size ... OK
* checking package directory ... OK
* checking ‘build’ directory ... OK
* checking DESCRIPTION meta-information ... OK
* checking top-level files ... OK
* checking for left-over files ... OK
* checking index information ... OK
* checking package subdirectories ... OK
* checking code files for non-ASCII characters ... OK
* checking R files for syntax errors ... OK
* checking whether the package can be loaded ... OK
* checking whether the package can be loaded with stated dependencies ... OK
* checking whether the package can be unloaded cleanly ... OK
* checking whether the namespace can be loaded with stated dependencies ... OK
* checking whether the namespace can be unloaded cleanly ... OK
* checking whether startup messages can be suppressed ... OK
* checking dependencies in R code ... OK
* checking S3 generic/method consistency ... OK
* checking replacement functions ... OK
* checking foreign function calls ... OK
* checking R code for possible problems ... OK
* checking Rd files ... OK
* checking Rd metadata ... OK
* checking Rd cross-references ... OK
* checking for missing documentation entries ... OK
* checking for code/documentation mismatches ... OK
* checking Rd \usage sections ... OK
* checking Rd contents ... OK
* checking for unstated dependencies in examples ... OK
* checking contents of ‘data’ directory ... OK
* checking data for non-ASCII characters ... OK
* checking LazyData ... OK
* checking data for ASCII and uncompressed saves ... OK
* checking line endings in C/C++/Fortran sources/headers ... OK
* checking line endings in Makefiles ... OK
* checking compilation flags in Makevars ... OK
* checking for GNU extensions in Makefiles ... INFO
GNU make is a SystemRequirements.
* checking for portable use of $(BLAS_LIBS) and $(LAPACK_LIBS) ... OK
* checking use of PKG_*FLAGS in Makefiles ... OK
* checking compiled code ... NOTE
Note: information on .o files is not available
File ‘/Library/Frameworks/R.framework/Versions/4.5-x86_64/Resources/library/HIBAG/libs/HIBAG.so’:
Found ‘___assert_rtn’, possibly from ‘assert’ (C)
File ‘HIBAG/libs/HIBAG.so’:
Found non-API call to R: ‘R_new_custom_connection’
Compiled code should not call entry points which might terminate R nor
write to stdout/stderr instead of to the console, nor use Fortran I/O
nor system RNGs nor [v]sprintf. The detected symbols are linked into
the code but might come from libraries and not actually be called.
Compiled code should not call non-API entry points in R.
See ‘Writing portable packages’ in the ‘Writing R Extensions’ manual,
and section ‘Moving into C API compliance’ for issues with the use of
non-API entry points.
* checking installed files from ‘inst/doc’ ... OK
* checking files in ‘vignettes’ ... OK
* checking examples ... OK
* checking for unstated dependencies in ‘tests’ ... OK
* checking tests ...
Running ‘runTests.R’
OK
* checking for unstated dependencies in vignettes ... OK
* checking package vignettes ... OK
* checking running R code from vignettes ... SKIPPED
* checking re-building of vignette outputs ... SKIPPED
* checking PDF version of manual ... OK
* DONE
Status: 2 NOTEs
See
‘/Users/biocbuild/bbs-3.22-bioc/meat/HIBAG.Rcheck/00check.log’
for details.
HIBAG.Rcheck/00install.out
############################################################################## ############################################################################## ### ### Running command: ### ### /Library/Frameworks/R.framework/Resources/bin/R CMD INSTALL HIBAG ### ############################################################################## ############################################################################## * installing to library ‘/Library/Frameworks/R.framework/Versions/4.5-x86_64/Resources/library’ * installing *source* package ‘HIBAG’ ... ** this is package ‘HIBAG’ version ‘1.45.0’ ** using staged installation ** libs using C compiler: ‘Apple clang version 14.0.0 (clang-1400.0.29.202)’ using C++ compiler: ‘Apple clang version 14.0.0 (clang-1400.0.29.202)’ using C++11 using SDK: ‘MacOSX11.3.1.sdk’ clang++ -arch x86_64 -std=gnu++11 -I"/Library/Frameworks/R.framework/Resources/include" -DNDEBUG -I../inst/include -I'/Library/Frameworks/R.framework/Versions/4.5-x86_64/Resources/library/RcppParallel/include' -I/opt/R/x86_64/include -fPIC -falign-functions=64 -Wall -g -O2 -c HIBAG.cpp -o HIBAG.o clang++ -arch x86_64 -std=gnu++11 -I"/Library/Frameworks/R.framework/Resources/include" -DNDEBUG -I../inst/include -I'/Library/Frameworks/R.framework/Versions/4.5-x86_64/Resources/library/RcppParallel/include' -I/opt/R/x86_64/include -fPIC -falign-functions=64 -Wall -g -O2 -c LibHLA.cpp -o LibHLA.o clang++ -arch x86_64 -std=gnu++11 -I"/Library/Frameworks/R.framework/Resources/include" -DNDEBUG -I../inst/include -I'/Library/Frameworks/R.framework/Versions/4.5-x86_64/Resources/library/RcppParallel/include' -I/opt/R/x86_64/include -fPIC -falign-functions=64 -Wall -g -O2 -c LibHLA_ext_avx.cpp -o LibHLA_ext_avx.o clang++ -arch x86_64 -std=gnu++11 -I"/Library/Frameworks/R.framework/Resources/include" -DNDEBUG -I../inst/include -I'/Library/Frameworks/R.framework/Versions/4.5-x86_64/Resources/library/RcppParallel/include' -I/opt/R/x86_64/include -fPIC -falign-functions=64 -Wall -g -O2 -c LibHLA_ext_avx2.cpp -o LibHLA_ext_avx2.o clang++ -arch x86_64 -std=gnu++11 -I"/Library/Frameworks/R.framework/Resources/include" -DNDEBUG -I../inst/include -I'/Library/Frameworks/R.framework/Versions/4.5-x86_64/Resources/library/RcppParallel/include' -I/opt/R/x86_64/include -fPIC -falign-functions=64 -Wall -g -O2 -c LibHLA_ext_avx512bw.cpp -o LibHLA_ext_avx512bw.o clang++ -arch x86_64 -std=gnu++11 -I"/Library/Frameworks/R.framework/Resources/include" -DNDEBUG -I../inst/include -I'/Library/Frameworks/R.framework/Versions/4.5-x86_64/Resources/library/RcppParallel/include' -I/opt/R/x86_64/include -fPIC -falign-functions=64 -Wall -g -O2 -c LibHLA_ext_avx512f.cpp -o LibHLA_ext_avx512f.o clang++ -arch x86_64 -std=gnu++11 -I"/Library/Frameworks/R.framework/Resources/include" -DNDEBUG -I../inst/include -I'/Library/Frameworks/R.framework/Versions/4.5-x86_64/Resources/library/RcppParallel/include' -I/opt/R/x86_64/include -fPIC -falign-functions=64 -Wall -g -O2 -c LibHLA_ext_avx512vpopcnt.cpp -o LibHLA_ext_avx512vpopcnt.o clang++ -arch x86_64 -std=gnu++11 -I"/Library/Frameworks/R.framework/Resources/include" -DNDEBUG -I../inst/include -I'/Library/Frameworks/R.framework/Versions/4.5-x86_64/Resources/library/RcppParallel/include' -I/opt/R/x86_64/include -fPIC -falign-functions=64 -Wall -g -O2 -c LibHLA_ext_sse2.cpp -o LibHLA_ext_sse2.o clang++ -arch x86_64 -std=gnu++11 -I"/Library/Frameworks/R.framework/Resources/include" -DNDEBUG -I../inst/include -I'/Library/Frameworks/R.framework/Versions/4.5-x86_64/Resources/library/RcppParallel/include' -I/opt/R/x86_64/include -fPIC -falign-functions=64 -Wall -g -O2 -c LibHLA_ext_sse4_2.cpp -o LibHLA_ext_sse4_2.o clang -arch x86_64 -I"/Library/Frameworks/R.framework/Resources/include" -DNDEBUG -I../inst/include -I'/Library/Frameworks/R.framework/Versions/4.5-x86_64/Resources/library/RcppParallel/include' -I/opt/R/x86_64/include -fPIC -falign-functions=64 -Wall -g -O2 -c samtools_ext.c -o samtools_ext.o clang++ -arch x86_64 -std=gnu++11 -dynamiclib -Wl,-headerpad_max_install_names -undefined dynamic_lookup -L/Library/Frameworks/R.framework/Resources/lib -L/opt/R/x86_64/lib -o HIBAG.so HIBAG.o LibHLA.o LibHLA_ext_avx.o LibHLA_ext_avx2.o LibHLA_ext_avx512bw.o LibHLA_ext_avx512f.o LibHLA_ext_avx512vpopcnt.o LibHLA_ext_sse2.o LibHLA_ext_sse4_2.o samtools_ext.o -L/Library/Frameworks/R.framework/Versions/4.5-x86_64/Resources/library/RcppParallel/lib -ltbb -ltbbmalloc -F/Library/Frameworks/R.framework/.. -framework R installing to /Library/Frameworks/R.framework/Versions/4.5-x86_64/Resources/library/00LOCK-HIBAG/00new/HIBAG/libs ** R ** data *** moving datasets to lazyload DB ** inst ** byte-compile and prepare package for lazy loading ** help *** installing help indices ** building package indices ** installing vignettes ** testing if installed package can be loaded from temporary location ** checking absolute paths in shared objects and dynamic libraries ** testing if installed package can be loaded from final location ** testing if installed package keeps a record of temporary installation path * DONE (HIBAG)
HIBAG.Rcheck/tests/runTests.Rout
R version 4.5.1 Patched (2025-09-10 r88807) -- "Great Square Root"
Copyright (C) 2025 The R Foundation for Statistical Computing
Platform: x86_64-apple-darwin20
R is free software and comes with ABSOLUTELY NO WARRANTY.
You are welcome to redistribute it under certain conditions.
Type 'license()' or 'licence()' for distribution details.
R is a collaborative project with many contributors.
Type 'contributors()' for more information and
'citation()' on how to cite R or R packages in publications.
Type 'demo()' for some demos, 'help()' for on-line help, or
'help.start()' for an HTML browser interface to help.
Type 'q()' to quit R.
> #############################################################
> #
> # DESCRIPTION: Unit tests in the HIBAG package
> #
>
> # load the HIBAG package
> library(HIBAG)
HIBAG (HLA Genotype Imputation with Attribute Bagging)
Kernel Version: v1.5 (64-bit, AVX512BW)
>
>
> #############################################################
>
> # a list of HLA genes
> hla.list <- c("A", "B", "C", "DQA1", "DQB1", "DRB1")
>
> # pre-defined lower bound of prediction accuracy
> hla.acc <- c(0.9, 0.8, 0.8, 0.8, 0.8, 0.7)
>
>
> for (hla.idx in seq_along(hla.list))
+ {
+ hla.id <- hla.list[hla.idx]
+
+ # make a "hlaAlleleClass" object
+ hla <- hlaAllele(HLA_Type_Table$sample.id,
+ H1 = HLA_Type_Table[, paste(hla.id, ".1", sep="")],
+ H2 = HLA_Type_Table[, paste(hla.id, ".2", sep="")],
+ locus=hla.id, assembly="hg19")
+
+ # divide HLA types randomly
+ set.seed(100)
+ hlatab <- hlaSplitAllele(hla, train.prop=0.5)
+
+ # SNP predictors within the flanking region on each side
+ region <- 500 # kb
+ snpid <- hlaFlankingSNP(HapMap_CEU_Geno$snp.id,
+ HapMap_CEU_Geno$snp.position,
+ hla.id, region*1000, assembly="hg19")
+
+ # training and validation genotypes
+ train.geno <- hlaGenoSubset(HapMap_CEU_Geno,
+ snp.sel=match(snpid, HapMap_CEU_Geno$snp.id),
+ samp.sel=match(hlatab$training$value$sample.id,
+ HapMap_CEU_Geno$sample.id))
+ test.geno <- hlaGenoSubset(HapMap_CEU_Geno,
+ samp.sel=match(hlatab$validation$value$sample.id,
+ HapMap_CEU_Geno$sample.id))
+
+
+ # train a HIBAG model
+ set.seed(100)
+ model <- hlaAttrBagging(hlatab$training, train.geno, nclassifier=10)
+ summary(model)
+
+ # validation
+ pred <- hlaPredict(model, test.geno, type="response")
+ summary(pred)
+
+ # compare
+ comp <- hlaCompareAllele(hlatab$validation, pred, allele.limit=model,
+ call.threshold=0)
+ print(comp$overall)
+
+ # check
+ if (comp$overall$acc.haplo < hla.acc[hla.idx])
+ stop("HLA - ", hla.id, ", 'acc.haplo' should be >= ", hla.acc[hla.idx], ".")
+
+ cat("\n\n")
+ }
Build a HIBAG model with 10 individual classifiers:
MAF threshold: NaN
excluding 11 monomorphic SNPs
# of SNPs randomly sampled as candidates for each selection: 17
# of SNPs: 264
# of samples: 34
# of unique HLA alleles: 14
CPU flags: 64-bit, AVX512BW
# of threads: 1
[-] 2025-10-24 21:47:38
=== building individual classifier 1, out-of-bag (11/32.4%) ===
[1] 2025-10-24 21:47:38, oob acc: 77.27%, # of SNPs: 13, # of haplo: 23
=== building individual classifier 2, out-of-bag (13/38.2%) ===
[2] 2025-10-24 21:47:38, oob acc: 88.46%, # of SNPs: 12, # of haplo: 48
=== building individual classifier 3, out-of-bag (14/41.2%) ===
[3] 2025-10-24 21:47:39, oob acc: 85.71%, # of SNPs: 11, # of haplo: 14
=== building individual classifier 4, out-of-bag (10/29.4%) ===
[4] 2025-10-24 21:47:39, oob acc: 75.00%, # of SNPs: 13, # of haplo: 23
=== building individual classifier 5, out-of-bag (17/50.0%) ===
[5] 2025-10-24 21:47:39, oob acc: 79.41%, # of SNPs: 13, # of haplo: 34
=== building individual classifier 6, out-of-bag (11/32.4%) ===
[6] 2025-10-24 21:47:39, oob acc: 100.00%, # of SNPs: 19, # of haplo: 72
=== building individual classifier 7, out-of-bag (9/26.5%) ===
[7] 2025-10-24 21:47:39, oob acc: 100.00%, # of SNPs: 17, # of haplo: 37
=== building individual classifier 8, out-of-bag (13/38.2%) ===
[8] 2025-10-24 21:47:39, oob acc: 88.46%, # of SNPs: 15, # of haplo: 57
=== building individual classifier 9, out-of-bag (15/44.1%) ===
[9] 2025-10-24 21:47:39, oob acc: 93.33%, # of SNPs: 13, # of haplo: 22
=== building individual classifier 10, out-of-bag (13/38.2%) ===
[10] 2025-10-24 21:47:39, oob acc: 80.77%, # of SNPs: 14, # of haplo: 24
Calculating matching proportion:
Min. 0.1% Qu. 1% Qu. 1st Qu. Median 3rd Qu.
0.0005514978 0.0005592583 0.0006291033 0.0043053528 0.0091076487 0.0245841398
Max. Mean SD
0.4332369854 0.0431831923 0.0993605214
Accuracy with training data: 98.53%
Out-of-bag accuracy: 86.84%
Gene: HLA-A
Training dataset: 34 samples X 264 SNPs
# of HLA alleles: 14
# of individual classifiers: 10
total # of SNPs used: 94
avg. # of SNPs in an individual classifier: 14.00
(sd: 2.40, min: 11, max: 19, median: 13.00)
avg. # of haplotypes in an individual classifier: 35.40
(sd: 18.39, min: 14, max: 72, median: 29.00)
avg. out-of-bag accuracy: 86.84%
(sd: 8.94%, min: 75.00%, max: 100.00%, median: 87.09%)
Matching proportion:
Min. 0.1% Qu. 1% Qu. 1st Qu. Median 3rd Qu.
0.0005514978 0.0005592583 0.0006291033 0.0043053528 0.0091076487 0.0245841398
Max. Mean SD
0.4332369854 0.0431831923 0.0993605214
Genome assembly: hg19
HIBAG model for HLA-A:
10 individual classifiers
264 SNPs
14 unique HLA alleles: 01:01, 02:01, 02:06, ...
Prediction:
based on the averaged posterior probabilities
Model assembly: hg19, SNP assembly: hg19
Matching the SNPs between the model and the test data:
match.type="--" missing SNPs #
Position 0 (0.0%) *being used [1]
Pos+Allele 0 (0.0%) [2]
RefSNP+Position 0 (0.0%)
RefSNP 0 (0.0%)
[1]: useful if ambiguous strands on array-based platforms
[2]: suggested if the model and test data have been matched to the same reference genome
Model platform: not applicable
No allelic strand or A/B allele is flipped.
# of samples: 26
CPU flags: 64-bit, AVX512BW
# of threads: 1
Predicting (2025-10-24 21:47:39) 0%
Predicting (2025-10-24 21:47:39) 100%
Gene: HLA-A
Range: [29910247bp, 29913661bp] on hg19
# of samples: 26
# of unique HLA alleles: 12
# of unique HLA genotypes: 14
Posterior probability:
[0,0.25) [0.25,0.5) [0.5,0.75) [0.75,1]
1 (3.8%) 3 (11.5%) 4 (15.4%) 18 (69.2%)
Matching proportion of SNP haplotype:
Min. 1st Qu. Median Mean 3rd Qu. Max.
3.000e-08 2.500e-03 7.023e-03 3.143e-02 2.683e-02 4.332e-01
total.num.ind crt.num.ind crt.num.haplo acc.ind acc.haplo call.threshold
1 26 25 51 0.9615385 0.9807692 0
n.call call.rate
1 26 1
Build a HIBAG model with 10 individual classifiers:
MAF threshold: NaN
excluding 1 monomorphic SNP
# of SNPs randomly sampled as candidates for each selection: 19
# of SNPs: 340
# of samples: 28
# of unique HLA alleles: 22
CPU flags: 64-bit, AVX512BW
# of threads: 1
[-] 2025-10-24 21:47:39
=== building individual classifier 1, out-of-bag (12/42.9%) ===
[1] 2025-10-24 21:47:39, oob acc: 58.33%, # of SNPs: 17, # of haplo: 52
=== building individual classifier 2, out-of-bag (11/39.3%) ===
[2] 2025-10-24 21:47:39, oob acc: 63.64%, # of SNPs: 18, # of haplo: 51
=== building individual classifier 3, out-of-bag (13/46.4%) ===
[3] 2025-10-24 21:47:39, oob acc: 50.00%, # of SNPs: 15, # of haplo: 29
=== building individual classifier 4, out-of-bag (11/39.3%) ===
[4] 2025-10-24 21:47:39, oob acc: 59.09%, # of SNPs: 12, # of haplo: 57
=== building individual classifier 5, out-of-bag (11/39.3%) ===
[5] 2025-10-24 21:47:39, oob acc: 63.64%, # of SNPs: 15, # of haplo: 94
=== building individual classifier 6, out-of-bag (12/42.9%) ===
[6] 2025-10-24 21:47:39, oob acc: 79.17%, # of SNPs: 18, # of haplo: 66
=== building individual classifier 7, out-of-bag (12/42.9%) ===
[7] 2025-10-24 21:47:40, oob acc: 70.83%, # of SNPs: 15, # of haplo: 86
=== building individual classifier 8, out-of-bag (9/32.1%) ===
[8] 2025-10-24 21:47:40, oob acc: 77.78%, # of SNPs: 16, # of haplo: 117
=== building individual classifier 9, out-of-bag (9/32.1%) ===
[9] 2025-10-24 21:47:40, oob acc: 77.78%, # of SNPs: 18, # of haplo: 92
=== building individual classifier 10, out-of-bag (9/32.1%) ===
[10] 2025-10-24 21:47:40, oob acc: 61.11%, # of SNPs: 15, # of haplo: 72
Calculating matching proportion:
Min. 0.1% Qu. 1% Qu. 1st Qu. Median 3rd Qu.
9.567411e-05 9.622439e-05 1.011769e-04 3.069782e-03 7.279682e-03 1.186415e-02
Max. Mean SD
1.196521e-01 1.281183e-02 2.267335e-02
Accuracy with training data: 100.00%
Out-of-bag accuracy: 66.14%
Gene: HLA-B
Training dataset: 28 samples X 340 SNPs
# of HLA alleles: 22
# of individual classifiers: 10
total # of SNPs used: 118
avg. # of SNPs in an individual classifier: 15.90
(sd: 1.91, min: 12, max: 18, median: 15.50)
avg. # of haplotypes in an individual classifier: 71.60
(sd: 25.94, min: 29, max: 117, median: 69.00)
avg. out-of-bag accuracy: 66.14%
(sd: 9.84%, min: 50.00%, max: 79.17%, median: 63.64%)
Matching proportion:
Min. 0.1% Qu. 1% Qu. 1st Qu. Median 3rd Qu.
9.567411e-05 9.622439e-05 1.011769e-04 3.069782e-03 7.279682e-03 1.186415e-02
Max. Mean SD
1.196521e-01 1.281183e-02 2.267335e-02
Genome assembly: hg19
HIBAG model for HLA-B:
10 individual classifiers
340 SNPs
22 unique HLA alleles: 07:02, 08:01, 13:02, ...
Prediction:
based on the averaged posterior probabilities
Model assembly: hg19, SNP assembly: hg19
Matching the SNPs between the model and the test data:
match.type="--" missing SNPs #
Position 0 (0.0%) *being used [1]
Pos+Allele 0 (0.0%) [2]
RefSNP+Position 0 (0.0%)
RefSNP 0 (0.0%)
[1]: useful if ambiguous strands on array-based platforms
[2]: suggested if the model and test data have been matched to the same reference genome
Model platform: not applicable
No allelic strand or A/B allele is flipped.
# of samples: 15
CPU flags: 64-bit, AVX512BW
# of threads: 1
Predicting (2025-10-24 21:47:40) 0%
Predicting (2025-10-24 21:47:40) 100%
Gene: HLA-B
Range: [31321649bp, 31324989bp] on hg19
# of samples: 15
# of unique HLA alleles: 9
# of unique HLA genotypes: 12
Posterior probability:
[0,0.25) [0.25,0.5) [0.5,0.75) [0.75,1]
3 (20.0%) 5 (33.3%) 3 (20.0%) 4 (26.7%)
Matching proportion of SNP haplotype:
Min. 1st Qu. Median Mean 3rd Qu. Max.
2.200e-08 4.068e-05 2.934e-03 1.789e-02 6.076e-03 1.326e-01
total.num.ind crt.num.ind crt.num.haplo acc.ind acc.haplo call.threshold
1 15 11 25 0.7333333 0.8333333 0
n.call call.rate
1 15 1
Build a HIBAG model with 10 individual classifiers:
MAF threshold: NaN
excluding 2 monomorphic SNPs
# of SNPs randomly sampled as candidates for each selection: 19
# of SNPs: 354
# of samples: 36
# of unique HLA alleles: 17
CPU flags: 64-bit, AVX512BW
# of threads: 1
[-] 2025-10-24 21:47:40
=== building individual classifier 1, out-of-bag (13/36.1%) ===
[1] 2025-10-24 21:47:40, oob acc: 80.77%, # of SNPs: 19, # of haplo: 40
=== building individual classifier 2, out-of-bag (11/30.6%) ===
[2] 2025-10-24 21:47:40, oob acc: 90.91%, # of SNPs: 32, # of haplo: 32
=== building individual classifier 3, out-of-bag (14/38.9%) ===
[3] 2025-10-24 21:47:40, oob acc: 89.29%, # of SNPs: 19, # of haplo: 43
=== building individual classifier 4, out-of-bag (13/36.1%) ===
[4] 2025-10-24 21:47:41, oob acc: 84.62%, # of SNPs: 19, # of haplo: 100
=== building individual classifier 5, out-of-bag (9/25.0%) ===
[5] 2025-10-24 21:47:41, oob acc: 94.44%, # of SNPs: 22, # of haplo: 58
=== building individual classifier 6, out-of-bag (17/47.2%) ===
[6] 2025-10-24 21:47:41, oob acc: 79.41%, # of SNPs: 27, # of haplo: 63
=== building individual classifier 7, out-of-bag (12/33.3%) ===
[7] 2025-10-24 21:47:41, oob acc: 75.00%, # of SNPs: 19, # of haplo: 40
=== building individual classifier 8, out-of-bag (13/36.1%) ===
[8] 2025-10-24 21:47:41, oob acc: 80.77%, # of SNPs: 20, # of haplo: 49
=== building individual classifier 9, out-of-bag (16/44.4%) ===
[9] 2025-10-24 21:47:41, oob acc: 84.38%, # of SNPs: 21, # of haplo: 25
=== building individual classifier 10, out-of-bag (11/30.6%) ===
[10] 2025-10-24 21:47:41, oob acc: 90.91%, # of SNPs: 34, # of haplo: 60
Calculating matching proportion:
Min. 0.1% Qu. 1% Qu. 1st Qu. Median 3rd Qu.
0.0001536995 0.0001609572 0.0002262765 0.0016721576 0.0036310241 0.0141928130
Max. Mean SD
0.0810449959 0.0117850523 0.0177527557
Accuracy with training data: 100.00%
Out-of-bag accuracy: 85.05%
Gene: HLA-C
Training dataset: 36 samples X 354 SNPs
# of HLA alleles: 17
# of individual classifiers: 10
total # of SNPs used: 143
avg. # of SNPs in an individual classifier: 23.20
(sd: 5.73, min: 19, max: 34, median: 20.50)
avg. # of haplotypes in an individual classifier: 51.00
(sd: 21.14, min: 25, max: 100, median: 46.00)
avg. out-of-bag accuracy: 85.05%
(sd: 6.19%, min: 75.00%, max: 94.44%, median: 84.50%)
Matching proportion:
Min. 0.1% Qu. 1% Qu. 1st Qu. Median 3rd Qu.
0.0001536995 0.0001609572 0.0002262765 0.0016721576 0.0036310241 0.0141928130
Max. Mean SD
0.0810449959 0.0117850523 0.0177527557
Genome assembly: hg19
HIBAG model for HLA-C:
10 individual classifiers
354 SNPs
17 unique HLA alleles: 01:02, 02:02, 03:03, ...
Prediction:
based on the averaged posterior probabilities
Model assembly: hg19, SNP assembly: hg19
Matching the SNPs between the model and the test data:
match.type="--" missing SNPs #
Position 0 (0.0%) *being used [1]
Pos+Allele 0 (0.0%) [2]
RefSNP+Position 0 (0.0%)
RefSNP 0 (0.0%)
[1]: useful if ambiguous strands on array-based platforms
[2]: suggested if the model and test data have been matched to the same reference genome
Model platform: not applicable
No allelic strand or A/B allele is flipped.
# of samples: 24
CPU flags: 64-bit, AVX512BW
# of threads: 1
Predicting (2025-10-24 21:47:41) 0%
Predicting (2025-10-24 21:47:41) 100%
Gene: HLA-C
Range: [31236526bp, 31239913bp] on hg19
# of samples: 24
# of unique HLA alleles: 14
# of unique HLA genotypes: 19
Posterior probability:
[0,0.25) [0.25,0.5) [0.5,0.75) [0.75,1]
3 (12.5%) 4 (16.7%) 4 (16.7%) 13 (54.2%)
Matching proportion of SNP haplotype:
Min. 1st Qu. Median Mean 3rd Qu. Max.
0.000e+00 3.900e-08 8.219e-04 8.247e-03 8.397e-03 6.105e-02
total.num.ind crt.num.ind crt.num.haplo acc.ind acc.haplo call.threshold
1 24 18 41 0.75 0.8541667 0
n.call call.rate
1 24 1
Build a HIBAG model with 10 individual classifiers:
MAF threshold: NaN
excluding 4 monomorphic SNPs
# of SNPs randomly sampled as candidates for each selection: 19
# of SNPs: 345
# of samples: 31
# of unique HLA alleles: 7
CPU flags: 64-bit, AVX512BW
# of threads: 1
[-] 2025-10-24 21:47:41
=== building individual classifier 1, out-of-bag (11/35.5%) ===
[1] 2025-10-24 21:47:41, oob acc: 95.45%, # of SNPs: 11, # of haplo: 22
=== building individual classifier 2, out-of-bag (11/35.5%) ===
[2] 2025-10-24 21:47:41, oob acc: 100.00%, # of SNPs: 13, # of haplo: 22
=== building individual classifier 3, out-of-bag (15/48.4%) ===
[3] 2025-10-24 21:47:41, oob acc: 83.33%, # of SNPs: 15, # of haplo: 23
=== building individual classifier 4, out-of-bag (14/45.2%) ===
[4] 2025-10-24 21:47:41, oob acc: 82.14%, # of SNPs: 8, # of haplo: 14
=== building individual classifier 5, out-of-bag (13/41.9%) ===
[5] 2025-10-24 21:47:41, oob acc: 88.46%, # of SNPs: 11, # of haplo: 34
=== building individual classifier 6, out-of-bag (10/32.3%) ===
[6] 2025-10-24 21:47:41, oob acc: 90.00%, # of SNPs: 11, # of haplo: 21
=== building individual classifier 7, out-of-bag (13/41.9%) ===
[7] 2025-10-24 21:47:41, oob acc: 92.31%, # of SNPs: 14, # of haplo: 23
=== building individual classifier 8, out-of-bag (13/41.9%) ===
[8] 2025-10-24 21:47:41, oob acc: 96.15%, # of SNPs: 11, # of haplo: 16
=== building individual classifier 9, out-of-bag (14/45.2%) ===
[9] 2025-10-24 21:47:41, oob acc: 89.29%, # of SNPs: 12, # of haplo: 19
=== building individual classifier 10, out-of-bag (11/35.5%) ===
[10] 2025-10-24 21:47:41, oob acc: 86.36%, # of SNPs: 8, # of haplo: 13
Calculating matching proportion:
Min. 0.1% Qu. 1% Qu. 1st Qu. Median 3rd Qu.
0.001972961 0.001998819 0.002231547 0.005363515 0.008831104 0.018431530
Max. Mean SD
0.537093886 0.028877632 0.094687228
Accuracy with training data: 96.77%
Out-of-bag accuracy: 90.35%
Gene: HLA-DQA1
Training dataset: 31 samples X 345 SNPs
# of HLA alleles: 7
# of individual classifiers: 10
total # of SNPs used: 80
avg. # of SNPs in an individual classifier: 11.40
(sd: 2.27, min: 8, max: 15, median: 11.00)
avg. # of haplotypes in an individual classifier: 20.70
(sd: 5.96, min: 13, max: 34, median: 21.50)
avg. out-of-bag accuracy: 90.35%
(sd: 5.72%, min: 82.14%, max: 100.00%, median: 89.64%)
Matching proportion:
Min. 0.1% Qu. 1% Qu. 1st Qu. Median 3rd Qu.
0.001972961 0.001998819 0.002231547 0.005363515 0.008831104 0.018431530
Max. Mean SD
0.537093886 0.028877632 0.094687228
Genome assembly: hg19
HIBAG model for HLA-DQA1:
10 individual classifiers
345 SNPs
7 unique HLA alleles: 01:01, 01:02, 01:03, ...
Prediction:
based on the averaged posterior probabilities
Model assembly: hg19, SNP assembly: hg19
Matching the SNPs between the model and the test data:
match.type="--" missing SNPs #
Position 0 (0.0%) *being used [1]
Pos+Allele 0 (0.0%) [2]
RefSNP+Position 0 (0.0%)
RefSNP 0 (0.0%)
[1]: useful if ambiguous strands on array-based platforms
[2]: suggested if the model and test data have been matched to the same reference genome
Model platform: not applicable
No allelic strand or A/B allele is flipped.
# of samples: 29
CPU flags: 64-bit, AVX512BW
# of threads: 1
Predicting (2025-10-24 21:47:42) 0%
Predicting (2025-10-24 21:47:42) 100%
Gene: HLA-DQA1
Range: [32605169bp, 32612152bp] on hg19
# of samples: 29
# of unique HLA alleles: 6
# of unique HLA genotypes: 14
Posterior probability:
[0,0.25) [0.25,0.5) [0.5,0.75) [0.75,1]
5 (17.2%) 5 (17.2%) 2 (6.9%) 17 (58.6%)
Matching proportion of SNP haplotype:
Min. 1st Qu. Median Mean 3rd Qu. Max.
8.000e-08 1.925e-03 6.991e-03 5.326e-02 1.675e-02 5.405e-01
total.num.ind crt.num.ind crt.num.haplo acc.ind acc.haplo call.threshold
1 29 21 49 0.7241379 0.8448276 0
n.call call.rate
1 29 1
Build a HIBAG model with 10 individual classifiers:
MAF threshold: NaN
excluding 6 monomorphic SNPs
# of SNPs randomly sampled as candidates for each selection: 19
# of SNPs: 350
# of samples: 34
# of unique HLA alleles: 12
CPU flags: 64-bit, AVX512BW
# of threads: 1
[-] 2025-10-24 21:47:42
=== building individual classifier 1, out-of-bag (11/32.4%) ===
[1] 2025-10-24 21:47:42, oob acc: 86.36%, # of SNPs: 13, # of haplo: 34
=== building individual classifier 2, out-of-bag (13/38.2%) ===
[2] 2025-10-24 21:47:42, oob acc: 76.92%, # of SNPs: 21, # of haplo: 42
=== building individual classifier 3, out-of-bag (13/38.2%) ===
[3] 2025-10-24 21:47:42, oob acc: 80.77%, # of SNPs: 10, # of haplo: 17
=== building individual classifier 4, out-of-bag (13/38.2%) ===
[4] 2025-10-24 21:47:42, oob acc: 92.31%, # of SNPs: 22, # of haplo: 78
=== building individual classifier 5, out-of-bag (13/38.2%) ===
[5] 2025-10-24 21:47:42, oob acc: 92.31%, # of SNPs: 11, # of haplo: 40
=== building individual classifier 6, out-of-bag (14/41.2%) ===
[6] 2025-10-24 21:47:42, oob acc: 71.43%, # of SNPs: 8, # of haplo: 22
=== building individual classifier 7, out-of-bag (14/41.2%) ===
[7] 2025-10-24 21:47:42, oob acc: 71.43%, # of SNPs: 14, # of haplo: 53
=== building individual classifier 8, out-of-bag (11/32.4%) ===
[8] 2025-10-24 21:47:42, oob acc: 86.36%, # of SNPs: 14, # of haplo: 40
=== building individual classifier 9, out-of-bag (14/41.2%) ===
[9] 2025-10-24 21:47:42, oob acc: 100.00%, # of SNPs: 16, # of haplo: 56
=== building individual classifier 10, out-of-bag (13/38.2%) ===
[10] 2025-10-24 21:47:42, oob acc: 88.46%, # of SNPs: 14, # of haplo: 34
Calculating matching proportion:
Min. 0.1% Qu. 1% Qu. 1st Qu. Median 3rd Qu.
0.0003282346 0.0003687353 0.0007332412 0.0038570393 0.0073528147 0.0148594626
Max. Mean SD
0.3073781820 0.0225078064 0.0573939534
Accuracy with training data: 98.53%
Out-of-bag accuracy: 84.64%
Gene: HLA-DQB1
Training dataset: 34 samples X 350 SNPs
# of HLA alleles: 12
# of individual classifiers: 10
total # of SNPs used: 99
avg. # of SNPs in an individual classifier: 14.30
(sd: 4.45, min: 8, max: 22, median: 14.00)
avg. # of haplotypes in an individual classifier: 41.60
(sd: 17.55, min: 17, max: 78, median: 40.00)
avg. out-of-bag accuracy: 84.64%
(sd: 9.41%, min: 71.43%, max: 100.00%, median: 86.36%)
Matching proportion:
Min. 0.1% Qu. 1% Qu. 1st Qu. Median 3rd Qu.
0.0003282346 0.0003687353 0.0007332412 0.0038570393 0.0073528147 0.0148594626
Max. Mean SD
0.3073781820 0.0225078064 0.0573939534
Genome assembly: hg19
HIBAG model for HLA-DQB1:
10 individual classifiers
350 SNPs
12 unique HLA alleles: 02:01, 02:02, 03:01, ...
Prediction:
based on the averaged posterior probabilities
Model assembly: hg19, SNP assembly: hg19
Matching the SNPs between the model and the test data:
match.type="--" missing SNPs #
Position 0 (0.0%) *being used [1]
Pos+Allele 0 (0.0%) [2]
RefSNP+Position 0 (0.0%)
RefSNP 0 (0.0%)
[1]: useful if ambiguous strands on array-based platforms
[2]: suggested if the model and test data have been matched to the same reference genome
Model platform: not applicable
No allelic strand or A/B allele is flipped.
# of samples: 26
CPU flags: 64-bit, AVX512BW
# of threads: 1
Predicting (2025-10-24 21:47:42) 0%
Predicting (2025-10-24 21:47:42) 100%
Gene: HLA-DQB1
Range: [32627241bp, 32634466bp] on hg19
# of samples: 26
# of unique HLA alleles: 10
# of unique HLA genotypes: 17
Posterior probability:
[0,0.25) [0.25,0.5) [0.5,0.75) [0.75,1]
3 (11.5%) 7 (26.9%) 5 (19.2%) 11 (42.3%)
Matching proportion of SNP haplotype:
Min. 1st Qu. Median Mean 3rd Qu. Max.
0.0000000 0.0002253 0.0018486 0.0308488 0.0099906 0.4023552
total.num.ind crt.num.ind crt.num.haplo acc.ind acc.haplo call.threshold
1 26 21 46 0.8076923 0.8846154 0
n.call call.rate
1 26 1
Build a HIBAG model with 10 individual classifiers:
MAF threshold: NaN
excluding 5 monomorphic SNPs
# of SNPs randomly sampled as candidates for each selection: 18
# of SNPs: 322
# of samples: 35
# of unique HLA alleles: 20
CPU flags: 64-bit, AVX512BW
# of threads: 1
[-] 2025-10-24 21:47:42
=== building individual classifier 1, out-of-bag (15/42.9%) ===
[1] 2025-10-24 21:47:43, oob acc: 70.00%, # of SNPs: 17, # of haplo: 77
=== building individual classifier 2, out-of-bag (16/45.7%) ===
[2] 2025-10-24 21:47:43, oob acc: 56.25%, # of SNPs: 19, # of haplo: 92
=== building individual classifier 3, out-of-bag (15/42.9%) ===
[3] 2025-10-24 21:47:43, oob acc: 70.00%, # of SNPs: 11, # of haplo: 32
=== building individual classifier 4, out-of-bag (15/42.9%) ===
[4] 2025-10-24 21:47:43, oob acc: 73.33%, # of SNPs: 20, # of haplo: 138
=== building individual classifier 5, out-of-bag (14/40.0%) ===
[5] 2025-10-24 21:47:43, oob acc: 75.00%, # of SNPs: 17, # of haplo: 73
=== building individual classifier 6, out-of-bag (12/34.3%) ===
[6] 2025-10-24 21:47:44, oob acc: 66.67%, # of SNPs: 20, # of haplo: 154
=== building individual classifier 7, out-of-bag (11/31.4%) ===
[7] 2025-10-24 21:47:44, oob acc: 63.64%, # of SNPs: 15, # of haplo: 38
=== building individual classifier 8, out-of-bag (11/31.4%) ===
[8] 2025-10-24 21:47:44, oob acc: 68.18%, # of SNPs: 19, # of haplo: 115
=== building individual classifier 9, out-of-bag (12/34.3%) ===
[9] 2025-10-24 21:47:45, oob acc: 83.33%, # of SNPs: 20, # of haplo: 137
=== building individual classifier 10, out-of-bag (12/34.3%) ===
[10] 2025-10-24 21:47:45, oob acc: 75.00%, # of SNPs: 12, # of haplo: 59
Calculating matching proportion:
Min. 0.1% Qu. 1% Qu. 1st Qu. Median 3rd Qu.
6.851730e-05 8.856651e-05 2.690095e-04 1.576564e-03 4.037759e-03 8.426505e-03
Max. Mean SD
4.480285e-01 4.087731e-02 1.195098e-01
Accuracy with training data: 92.86%
Out-of-bag accuracy: 70.14%
Gene: HLA-DRB1
Training dataset: 35 samples X 322 SNPs
# of HLA alleles: 20
# of individual classifiers: 10
total # of SNPs used: 115
avg. # of SNPs in an individual classifier: 17.00
(sd: 3.33, min: 11, max: 20, median: 18.00)
avg. # of haplotypes in an individual classifier: 91.50
(sd: 43.08, min: 32, max: 154, median: 84.50)
avg. out-of-bag accuracy: 70.14%
(sd: 7.32%, min: 56.25%, max: 83.33%, median: 70.00%)
Matching proportion:
Min. 0.1% Qu. 1% Qu. 1st Qu. Median 3rd Qu.
6.851730e-05 8.856651e-05 2.690095e-04 1.576564e-03 4.037759e-03 8.426505e-03
Max. Mean SD
4.480285e-01 4.087731e-02 1.195098e-01
Genome assembly: hg19
HIBAG model for HLA-DRB1:
10 individual classifiers
322 SNPs
20 unique HLA alleles: 01:01, 01:03, 03:01, ...
Prediction:
based on the averaged posterior probabilities
Model assembly: hg19, SNP assembly: hg19
Matching the SNPs between the model and the test data:
match.type="--" missing SNPs #
Position 0 (0.0%) *being used [1]
Pos+Allele 0 (0.0%) [2]
RefSNP+Position 0 (0.0%)
RefSNP 0 (0.0%)
[1]: useful if ambiguous strands on array-based platforms
[2]: suggested if the model and test data have been matched to the same reference genome
Model platform: not applicable
No allelic strand or A/B allele is flipped.
# of samples: 25
CPU flags: 64-bit, AVX512BW
# of threads: 1
Predicting (2025-10-24 21:47:45) 0%
Predicting (2025-10-24 21:47:45) 100%
Gene: HLA-DRB1
Range: [32546546bp, 32557613bp] on hg19
# of samples: 25
# of unique HLA alleles: 10
# of unique HLA genotypes: 18
Posterior probability:
[0,0.25) [0.25,0.5) [0.5,0.75) [0.75,1]
5 (20.0%) 5 (20.0%) 9 (36.0%) 6 (24.0%)
Matching proportion of SNP haplotype:
Min. 1st Qu. Median Mean 3rd Qu. Max.
6.200e-08 3.011e-04 2.041e-03 6.676e-03 3.592e-03 9.263e-02
total.num.ind crt.num.ind crt.num.haplo acc.ind acc.haplo call.threshold
1 25 15 39 0.6 0.78 0
n.call call.rate
1 25 1
>
>
> proc.time()
user system elapsed
6.542 0.156 6.722
HIBAG.Rcheck/HIBAG-Ex.timings
| name | user | system | elapsed | |
| HIBAG-package | 0.350 | 0.036 | 0.391 | |
| hlaAllele | 0.012 | 0.002 | 0.014 | |
| hlaAlleleDigit | 0.010 | 0.002 | 0.011 | |
| hlaAlleleSubset | 0.007 | 0.001 | 0.008 | |
| hlaAlleleToVCF | 1.838 | 0.018 | 1.867 | |
| hlaAssocTest | 0.762 | 0.035 | 0.804 | |
| hlaAttrBagging | 0.378 | 0.030 | 0.414 | |
| hlaBED2Geno | 0.090 | 0.011 | 0.102 | |
| hlaCheckAllele | 0 | 0 | 0 | |
| hlaCheckSNPs | 0.073 | 0.005 | 0.079 | |
| hlaCombineAllele | 0.022 | 0.003 | 0.024 | |
| hlaCombineModelObj | 0.226 | 0.007 | 0.234 | |
| hlaCompareAllele | 0.248 | 0.014 | 0.263 | |
| hlaConvSequence | 2.359 | 0.256 | 2.634 | |
| hlaDistance | 1.184 | 0.011 | 1.200 | |
| hlaFlankingSNP | 0.011 | 0.003 | 0.014 | |
| hlaGDS2Geno | 0.080 | 0.012 | 0.092 | |
| hlaGeno2PED | 0.024 | 0.004 | 0.027 | |
| hlaGenoAFreq | 0.004 | 0.001 | 0.005 | |
| hlaGenoCombine | 0.028 | 0.004 | 0.032 | |
| hlaGenoLD | 0.447 | 0.011 | 0.462 | |
| hlaGenoMFreq | 0.005 | 0.000 | 0.005 | |
| hlaGenoMRate | 0.003 | 0.000 | 0.003 | |
| hlaGenoMRate_Samp | 0.004 | 0.000 | 0.005 | |
| hlaGenoSubset | 0.006 | 0.000 | 0.006 | |
| hlaGenoSwitchStrand | 0.034 | 0.004 | 0.039 | |
| hlaLDMatrix | 1.974 | 0.118 | 2.104 | |
| hlaLociInfo | 0.003 | 0.002 | 0.005 | |
| hlaMakeSNPGeno | 0.016 | 0.002 | 0.018 | |
| hlaModelFiles | 0.173 | 0.009 | 0.184 | |
| hlaModelFromObj | 0.064 | 0.003 | 0.068 | |
| hlaOutOfBag | 0.387 | 0.014 | 0.404 | |
| hlaParallelAttrBagging | 0.416 | 0.041 | 1.368 | |
| hlaPredMerge | 0.296 | 0.013 | 0.310 | |
| hlaPredict | 0.259 | 0.011 | 0.270 | |
| hlaPublish | 0.292 | 0.010 | 0.303 | |
| hlaReport | 0.210 | 0.010 | 0.221 | |
| hlaReportPlot | 1.917 | 0.021 | 1.947 | |
| hlaSNPID | 0 | 0 | 0 | |
| hlaSampleAllele | 0.005 | 0.002 | 0.006 | |
| hlaSetKernelTarget | 0 | 0 | 0 | |
| hlaSplitAllele | 0.025 | 0.001 | 0.027 | |
| hlaSubModelObj | 0.048 | 0.003 | 0.052 | |
| hlaUniqueAllele | 0.012 | 0.001 | 0.013 | |
| plot.hlaAttrBagObj | 0.344 | 0.005 | 0.351 | |
| print.hlaAttrBagClass | 0.079 | 0.003 | 0.083 | |
| summary.hlaSNPGenoClass | 0.002 | 0.001 | 0.003 | |