| Back to Build/check report for BioC 3.23: simplified long | 
  | 
This page was generated on 2025-11-03 11:33 -0500 (Mon, 03 Nov 2025).
| Hostname | OS | Arch (*) | R version | Installed pkgs | 
|---|---|---|---|---|
| nebbiolo1 | Linux (Ubuntu 24.04.3 LTS) | x86_64 | R Under development (unstable) (2025-10-20 r88955) -- "Unsuffered Consequences" | 4775 | 
| Click on any hostname to see more info about the system (e.g. compilers) (*) as reported by 'uname -p', except on Windows and Mac OS X | ||||
| Package 912/2321 | Hostname | OS / Arch | INSTALL | BUILD | CHECK | BUILD BIN | ||||||||
| GraphAlignment 1.75.0  (landing page) Joern P. Meier 
  | nebbiolo1 | Linux (Ubuntu 24.04.3 LTS) / x86_64 | OK | OK | WARNINGS | |||||||||
| 
To the developers/maintainers of the GraphAlignment package: - Allow up to 24 hours (and sometimes 48 hours) for your latest push to git@git.bioconductor.org:packages/GraphAlignment.git to reflect on this report. See Troubleshooting Build Report for more information. - Use the following Renviron settings to reproduce errors and warnings. - If 'R CMD check' started to fail recently on the Linux builder(s) over a missing dependency, add the missing dependency to 'Suggests:' in your DESCRIPTION file. See Renviron.bioc for more information.  | 
| Package: GraphAlignment | 
| Version: 1.75.0 | 
| Command: /home/biocbuild/bbs-3.23-bioc/R/bin/R CMD INSTALL GraphAlignment | 
| StartedAt: 2025-11-02 15:13:48 -0500 (Sun, 02 Nov 2025) | 
| EndedAt: 2025-11-02 15:14:08 -0500 (Sun, 02 Nov 2025) | 
| EllapsedTime: 19.8 seconds | 
| RetCode: 0 | 
| Status: OK | 
##############################################################################
##############################################################################
###
### Running command:
###
###   /home/biocbuild/bbs-3.23-bioc/R/bin/R CMD INSTALL GraphAlignment
###
##############################################################################
##############################################################################
* installing to library ‘/home/biocbuild/bbs-3.23-bioc/R/site-library’
* installing *source* package ‘GraphAlignment’ ...
** this is package ‘GraphAlignment’ version ‘1.75.0’
** using staged installation
** libs
using C compiler: ‘gcc (Ubuntu 13.3.0-6ubuntu2~24.04) 13.3.0’
gcc -std=gnu2x -I"/home/biocbuild/bbs-3.23-bioc/R/include" -DNDEBUG   -I/usr/local/include    -fpic  -g -O2  -Wall -Werror=format-security -c GA_alloc.c -o GA_alloc.o
gcc -std=gnu2x -I"/home/biocbuild/bbs-3.23-bioc/R/include" -DNDEBUG   -I/usr/local/include    -fpic  -g -O2  -Wall -Werror=format-security -c GA_matrix.c -o GA_matrix.o
gcc -std=gnu2x -I"/home/biocbuild/bbs-3.23-bioc/R/include" -DNDEBUG   -I/usr/local/include    -fpic  -g -O2  -Wall -Werror=format-security -c GA_matrix_R.c -o GA_matrix_R.o
gcc -std=gnu2x -I"/home/biocbuild/bbs-3.23-bioc/R/include" -DNDEBUG   -I/usr/local/include    -fpic  -g -O2  -Wall -Werror=format-security -c GA_message.c -o GA_message.o
gcc -std=gnu2x -I"/home/biocbuild/bbs-3.23-bioc/R/include" -DNDEBUG   -I/usr/local/include    -fpic  -g -O2  -Wall -Werror=format-security -c GA_vector.c -o GA_vector.o
gcc -std=gnu2x -I"/home/biocbuild/bbs-3.23-bioc/R/include" -DNDEBUG   -I/usr/local/include    -fpic  -g -O2  -Wall -Werror=format-security -c GA_vector_R.c -o GA_vector_R.o
GA_vector_R.c: In function ‘GA_clamp_mode_from_R’:
GA_vector_R.c:139:9: warning: unused variable ‘size’ [-Wunused-variable]
  139 |     int size = LENGTH(robj);
      |         ^~~~
gcc -std=gnu2x -I"/home/biocbuild/bbs-3.23-bioc/R/include" -DNDEBUG   -I/usr/local/include    -fpic  -g -O2  -Wall -Werror=format-security -c GraphAlignment.c -o GraphAlignment.o
GraphAlignment.c: In function ‘GA_encode_directed_graph’:
GraphAlignment.c:138:20: warning: suggest explicit braces to avoid ambiguous ‘else’ [-Wdangling-else]
  138 |                 if (matrix->elts[i][j] == 1)
      |                    ^
GraphAlignment.c:159:20: warning: suggest explicit braces to avoid ambiguous ‘else’ [-Wdangling-else]
  159 |                 if (matrix->elts[i][j] == 1)
      |                    ^
GraphAlignment.c: In function ‘GA_directed_mode_from_R’:
GraphAlignment.c:264:9: warning: unused variable ‘size’ [-Wunused-variable]
  264 |     int size = LENGTH(robj);
      |         ^~~~
gcc -std=gnu2x -I"/home/biocbuild/bbs-3.23-bioc/R/include" -DNDEBUG   -I/usr/local/include    -fpic  -g -O2  -Wall -Werror=format-security -c lap.c -o lap.o
lap.c: In function ‘LAP_checklap’:
lap.c:348:9: warning: ignoring return value of ‘scanf’ declared with attribute ‘warn_unused_result’ [-Wunused-result]
  348 |         scanf("%c", &wait);
      |         ^~~~~~~~~~~~~~~~~~
lap.c:358:7: warning: ignoring return value of ‘scanf’ declared with attribute ‘warn_unused_result’ [-Wunused-result]
  358 |       scanf("%c", &wait);
      |       ^~~~~~~~~~~~~~~~~~
lap.c:371:7: warning: ignoring return value of ‘scanf’ declared with attribute ‘warn_unused_result’ [-Wunused-result]
  371 |       scanf("%c", &wait);
      |       ^~~~~~~~~~~~~~~~~~
lap.c:384:7: warning: ignoring return value of ‘scanf’ declared with attribute ‘warn_unused_result’ [-Wunused-result]
  384 |       scanf("%c", &wait);
      |       ^~~~~~~~~~~~~~~~~~
lap.c:394:7: warning: ignoring return value of ‘scanf’ declared with attribute ‘warn_unused_result’ [-Wunused-result]
  394 |       scanf("%c", &wait);
      |       ^~~~~~~~~~~~~~~~~~
lap.c: In function ‘LAP_lap’:
lap.c:260:11: warning: ‘min’ may be used uninitialized [-Wmaybe-uninitialized]
  260 |         h = assigncost[i][j1] - v[j1] - min;
      |         ~~^~~~~~~~~~~~~~~~~~~~~~~~~~~~~~~~~
lap.c:65:8: note: ‘min’ was declared here
   65 |   cost min, h, umin, usubmin, v2, *d;
      |        ^~~
lap.c:293:19: warning: ‘last’ may be used uninitialized [-Wmaybe-uninitialized]
  293 |     for (k = 0; k <= last; k++)
      |                 ~~^~~~~~~
lap.c:64:30: note: ‘last’ was declared here
   64 |   col  j, j1, j2, endofpath, last, low, up, *collist, *matches;
      |                              ^~~~
gcc -std=gnu2x -shared -L/home/biocbuild/bbs-3.23-bioc/R/lib -L/usr/local/lib -o GraphAlignment.so GA_alloc.o GA_matrix.o GA_matrix_R.o GA_message.o GA_vector.o GA_vector_R.o GraphAlignment.o lap.o -L/home/biocbuild/bbs-3.23-bioc/R/lib -lR
installing to /home/biocbuild/bbs-3.23-bioc/R/site-library/00LOCK-GraphAlignment/00new/GraphAlignment/libs
** R
** inst
** byte-compile and prepare package for lazy loading
** help
*** installing help indices
** building package indices
** installing vignettes
** testing if installed package can be loaded from temporary location
** checking absolute paths in shared objects and dynamic libraries
** testing if installed package can be loaded from final location
** testing if installed package keeps a record of temporary installation path
* DONE (GraphAlignment)