| Back to Multiple platform build/check report for BioC 3.22: simplified long |
|
This page was generated on 2025-10-23 12:06 -0400 (Thu, 23 Oct 2025).
| Hostname | OS | Arch (*) | R version | Installed pkgs |
|---|---|---|---|---|
| nebbiolo2 | Linux (Ubuntu 24.04.3 LTS) | x86_64 | 4.5.1 Patched (2025-08-23 r88802) -- "Great Square Root" | 4894 |
| lconway | macOS 12.7.6 Monterey | x86_64 | 4.5.1 Patched (2025-09-10 r88807) -- "Great Square Root" | 4684 |
| kjohnson3 | macOS 13.7.7 Ventura | arm64 | 4.5.1 Patched (2025-09-10 r88807) -- "Great Square Root" | 4629 |
| taishan | Linux (openEuler 24.03 LTS) | aarch64 | 4.5.0 (2025-04-11) -- "How About a Twenty-Six" | 4642 |
| Click on any hostname to see more info about the system (e.g. compilers) (*) as reported by 'uname -p', except on Windows and Mac OS X | ||||
| Package 891/2355 | Hostname | OS / Arch | INSTALL | BUILD | CHECK | BUILD BIN | ||||||||
| GlobalAncova 4.27.0 (landing page) Manuela Hummel
| nebbiolo2 | Linux (Ubuntu 24.04.3 LTS) / x86_64 | OK | OK | WARNINGS | |||||||||
| lconway | macOS 12.7.6 Monterey / x86_64 | OK | OK | WARNINGS | OK | |||||||||
| kjohnson3 | macOS 13.7.7 Ventura / arm64 | OK | OK | WARNINGS | OK | |||||||||
| taishan | Linux (openEuler 24.03 LTS) / aarch64 | OK | OK | NA | ||||||||||
|
To the developers/maintainers of the GlobalAncova package: - Allow up to 24 hours (and sometimes 48 hours) for your latest push to git@git.bioconductor.org:packages/GlobalAncova.git to reflect on this report. See Troubleshooting Build Report for more information. - Use the following Renviron settings to reproduce errors and warnings. - If 'R CMD check' started to fail recently on the Linux builder(s) over a missing dependency, add the missing dependency to 'Suggests:' in your DESCRIPTION file. See Renviron.bioc for more information. |
| Package: GlobalAncova |
| Version: 4.27.0 |
| Command: rm -rf GlobalAncova.buildbin-libdir && mkdir GlobalAncova.buildbin-libdir && /Users/biocbuild/BBS/utils/build-universal.sh GlobalAncova_4.27.0.tar.gz /Library/Frameworks/R.framework/Resources/bin/R GlobalAncova.buildbin-libdir |
| StartedAt: 2025-10-22 23:02:43 -0400 (Wed, 22 Oct 2025) |
| EndedAt: 2025-10-22 23:02:54 -0400 (Wed, 22 Oct 2025) |
| EllapsedTime: 11.2 seconds |
| RetCode: 0 |
| Status: OK |
| PackageFile: GlobalAncova_4.27.0.tgz |
| PackageFileSize: 1.626 MiB |
##############################################################################
##############################################################################
###
### Running command:
###
### rm -rf GlobalAncova.buildbin-libdir && mkdir GlobalAncova.buildbin-libdir && /Users/biocbuild/BBS/utils/build-universal.sh GlobalAncova_4.27.0.tar.gz /Library/Frameworks/R.framework/Resources/bin/R GlobalAncova.buildbin-libdir
###
##############################################################################
##############################################################################
>>>>>>>
>>>>>>> INSTALLATION WITH 'R CMD INSTALL --preclean --no-multiarch --library=GlobalAncova.buildbin-libdir GlobalAncova_4.27.0.tar.gz'
>>>>>>>
* installing *source* package ‘GlobalAncova’ ...
** this is package ‘GlobalAncova’ version ‘4.27.0’
** using staged installation
** libs
using C compiler: ‘Apple clang version 15.0.0 (clang-1500.1.0.2.5)’
using SDK: ‘MacOSX11.3.1.sdk’
clang -arch arm64 -std=gnu2x -I"/Library/Frameworks/R.framework/Resources/include" -DNDEBUG -I/opt/R/arm64/include -fPIC -falign-functions=64 -Wall -g -O2 -c GlobalAncova.c -o GlobalAncova.o
GlobalAncova.c:34:7: warning: format specifies type 'int' but the argument has type 'unsigned long' [-Wformat]
(*sD)*(*sD)*sizeof(double));
^~~~~~~~~~~~~~~~~~~~~~~~~~
GlobalAncova.c:39:7: warning: format specifies type 'int' but the argument has type 'unsigned long' [-Wformat]
(*sD)*(*sD)*sizeof(double) );
^~~~~~~~~~~~~~~~~~~~~~~~~~
GlobalAncova.c:44:7: warning: format specifies type 'int' but the argument has type 'unsigned long' [-Wformat]
(*zD)*(*sD)*sizeof(double) );
^~~~~~~~~~~~~~~~~~~~~~~~~~
GlobalAncova.c:49:7: warning: format specifies type 'int' but the argument has type 'unsigned long' [-Wformat]
(*zD)*(*zD)*sizeof(double) );
^~~~~~~~~~~~~~~~~~~~~~~~~~
GlobalAncova.c:89:7: warning: format specifies type 'int' but the argument has type 'unsigned long' [-Wformat]
(*zxx)*(*zD_full) * sizeof(double) );
^~~~~~~~~~~~~~~~~~~~~~~~~~~~~~~~~~
GlobalAncova.c:101:9: warning: format specifies type 'int' but the argument has type 'unsigned long' [-Wformat]
(*zxx)*(*zD_red) * sizeof(double) );
^~~~~~~~~~~~~~~~~~~~~~~~~~~~~~~~~
GlobalAncova.c:149:6: warning: format specifies type 'int' but the argument has type 'unsigned long' [-Wformat]
(*zrr) * sizeof(double) );
^~~~~~~~~~~~~~~~~~~~~~~
GlobalAncova.c:154:5: warning: format specifies type 'int' but the argument has type 'unsigned long' [-Wformat]
(*zrr) * sizeof(double));
^~~~~~~~~~~~~~~~~~~~~~~
GlobalAncova.c:159:5: warning: format specifies type 'int' but the argument has type 'unsigned long' [-Wformat]
(*n_test_genes) * sizeof(double));
^~~~~~~~~~~~~~~~~~~~~~~~~~~~~~~~
GlobalAncova.c:164:5: warning: format specifies type 'int' but the argument has type 'unsigned long' [-Wformat]
(*sD_full)*(*sD_full) * sizeof(double));
^~~~~~~~~~~~~~~~~~~~~~~~~~~~~~~~~~~~~~
GlobalAncova.c:171:7: warning: format specifies type 'int' but the argument has type 'unsigned long' [-Wformat]
(*N_Subjects) * sizeof(int));
^~~~~~~~~~~~~~~~~~~~~~~~~~~
GlobalAncova.c:251:6: warning: format specifies type 'int' but the argument has type 'unsigned long' [-Wformat]
(*zrr) * sizeof(double) );
^~~~~~~~~~~~~~~~~~~~~~~
GlobalAncova.c:256:5: warning: format specifies type 'int' but the argument has type 'unsigned long' [-Wformat]
(*zrr) * sizeof(double));
^~~~~~~~~~~~~~~~~~~~~~~
GlobalAncova.c:261:5: warning: format specifies type 'int' but the argument has type 'unsigned long' [-Wformat]
(*n_test_genes) * sizeof(double));
^~~~~~~~~~~~~~~~~~~~~~~~~~~~~~~~
GlobalAncova.c:266:5: warning: format specifies type 'int' but the argument has type 'unsigned long' [-Wformat]
(*sD_full)*(*sD_full) * sizeof(double));
^~~~~~~~~~~~~~~~~~~~~~~~~~~~~~~~~~~~~~
GlobalAncova.c:273:7: warning: format specifies type 'int' but the argument has type 'unsigned long' [-Wformat]
(*N_Subjects) * sizeof(int));
^~~~~~~~~~~~~~~~~~~~~~~~~~~
16 warnings generated.
clang -arch arm64 -std=gnu2x -I"/Library/Frameworks/R.framework/Resources/include" -DNDEBUG -I/opt/R/arm64/include -fPIC -falign-functions=64 -Wall -g -O2 -c ludcmp.c -o ludcmp.o
clang -arch arm64 -std=gnu2x -I"/Library/Frameworks/R.framework/Resources/include" -DNDEBUG -I/opt/R/arm64/include -fPIC -falign-functions=64 -Wall -g -O2 -c matrix.c -o matrix.o
clang -arch arm64 -std=gnu2x -dynamiclib -Wl,-headerpad_max_install_names -undefined dynamic_lookup -L/Library/Frameworks/R.framework/Resources/lib -L/opt/R/arm64/lib -o GlobalAncova.so GlobalAncova.o ludcmp.o matrix.o -F/Library/Frameworks/R.framework/.. -framework R
installing to /Users/biocbuild/bbs-3.22-bioc/meat/GlobalAncova.buildbin-libdir/00LOCK-GlobalAncova/00new/GlobalAncova/libs
** R
** data
** inst
** byte-compile and prepare package for lazy loading
** help
*** installing help indices
** building package indices
** installing vignettes
** testing if installed package can be loaded from temporary location
** checking absolute paths in shared objects and dynamic libraries
** testing if installed package can be loaded from final location
** testing if installed package keeps a record of temporary installation path
* DONE (GlobalAncova)
>>>>>>>
>>>>>>> FIXING PATHS TO DYNAMIC LIBRARIES FOR GlobalAncova.buildbin-libdir/GlobalAncova/libs/GlobalAncova.so
>>>>>>>
>>>>>>> Paths before fix:
GlobalAncova.buildbin-libdir/GlobalAncova/libs/GlobalAncova.so:
GlobalAncova.so (compatibility version 0.0.0, current version 0.0.0)
/Library/Frameworks/R.framework/Versions/4.5-arm64/Resources/lib/libR.dylib (compatibility version 4.5.0, current version 4.5.1)
/usr/lib/libSystem.B.dylib (compatibility version 1.0.0, current version 1292.100.5)
>>>>>>> Fix with install_name_tool:
install_name_tool -change "/usr/local/lib/libgcc_s.1.1.dylib" "/Library/Frameworks/R.framework/Versions/4.5-arm64/Resources/lib/libgcc_s.1.1.dylib" "GlobalAncova.buildbin-libdir/GlobalAncova/libs/GlobalAncova.so"
install_name_tool -change "/usr/local/lib/libgfortran.5.dylib" "/Library/Frameworks/R.framework/Versions/4.5-arm64/Resources/lib/libgfortran.5.dylib" "GlobalAncova.buildbin-libdir/GlobalAncova/libs/GlobalAncova.so"
install_name_tool -change "/usr/local/lib/libquadmath.0.dylib" "/Library/Frameworks/R.framework/Versions/4.5-arm64/Resources/lib/libquadmath.0.dylib" "GlobalAncova.buildbin-libdir/GlobalAncova/libs/GlobalAncova.so"
>>>>>>> Paths after fix:
GlobalAncova.buildbin-libdir/GlobalAncova/libs/GlobalAncova.so:
GlobalAncova.so (compatibility version 0.0.0, current version 0.0.0)
/Library/Frameworks/R.framework/Versions/4.5-arm64/Resources/lib/libR.dylib (compatibility version 4.5.0, current version 4.5.1)
/usr/lib/libSystem.B.dylib (compatibility version 1.0.0, current version 1292.100.5)