Back to Multiple platform build/check report for BioC 3.22:   simplified   long
ABCDEF[G]HIJKLMNOPQRSTUVWXYZ

This page was generated on 2025-10-04 12:07 -0400 (Sat, 04 Oct 2025).

HostnameOSArch (*)R versionInstalled pkgs
nebbiolo2Linux (Ubuntu 24.04.3 LTS)x86_644.5.1 Patched (2025-08-23 r88802) -- "Great Square Root" 4853
lconwaymacOS 12.7.1 Montereyx86_644.5.1 Patched (2025-09-10 r88807) -- "Great Square Root" 4640
kjohnson3macOS 13.7.7 Venturaarm644.5.1 Patched (2025-09-10 r88807) -- "Great Square Root" 4585
taishanLinux (openEuler 24.03 LTS)aarch644.5.0 (2025-04-11) -- "How About a Twenty-Six" 4576
Click on any hostname to see more info about the system (e.g. compilers)      (*) as reported by 'uname -p', except on Windows and Mac OS X

Package 837/2341HostnameOS / ArchINSTALLBUILDCHECKBUILD BIN
GenomicDistributions 1.17.1  (landing page)
Kristyna Kupkova
Snapshot Date: 2025-10-03 13:45 -0400 (Fri, 03 Oct 2025)
git_url: https://git.bioconductor.org/packages/GenomicDistributions
git_branch: devel
git_last_commit: 981f02c
git_last_commit_date: 2025-04-23 16:47:28 -0400 (Wed, 23 Apr 2025)
nebbiolo2Linux (Ubuntu 24.04.3 LTS) / x86_64  OK    OK    OK  UNNEEDED, same version is already published
lconwaymacOS 12.7.1 Monterey / x86_64  OK    OK    OK    OK  UNNEEDED, same version is already published
kjohnson3macOS 13.7.7 Ventura / arm64  OK    OK    OK    OK  UNNEEDED, same version is already published
taishanLinux (openEuler 24.03 LTS) / aarch64  OK    OK    OK  


CHECK results for GenomicDistributions on taishan

To the developers/maintainers of the GenomicDistributions package:
- Allow up to 24 hours (and sometimes 48 hours) for your latest push to git@git.bioconductor.org:packages/GenomicDistributions.git to reflect on this report. See Troubleshooting Build Report for more information.
- Use the following Renviron settings to reproduce errors and warnings.
- If 'R CMD check' started to fail recently on the Linux builder(s) over a missing dependency, add the missing dependency to 'Suggests:' in your DESCRIPTION file. See Renviron.bioc for more information.
- See Martin Grigorov's blog post for how to debug Linux ARM64 related issues on a x86_64 host.

raw results


Summary

Package: GenomicDistributions
Version: 1.17.1
Command: /home/biocbuild/R/R/bin/R CMD check --install=check:GenomicDistributions.install-out.txt --library=/home/biocbuild/R/R/site-library --no-vignettes --timings GenomicDistributions_1.17.1.tar.gz
StartedAt: 2025-10-03 07:24:49 -0000 (Fri, 03 Oct 2025)
EndedAt: 2025-10-03 07:28:28 -0000 (Fri, 03 Oct 2025)
EllapsedTime: 219.2 seconds
RetCode: 0
Status:   OK  
CheckDir: GenomicDistributions.Rcheck
Warnings: 0

Command output

##############################################################################
##############################################################################
###
### Running command:
###
###   /home/biocbuild/R/R/bin/R CMD check --install=check:GenomicDistributions.install-out.txt --library=/home/biocbuild/R/R/site-library --no-vignettes --timings GenomicDistributions_1.17.1.tar.gz
###
##############################################################################
##############################################################################


* using log directory ‘/home/biocbuild/bbs-3.22-bioc/meat/GenomicDistributions.Rcheck’
* using R version 4.5.0 (2025-04-11)
* using platform: aarch64-unknown-linux-gnu
* R was compiled by
    aarch64-unknown-linux-gnu-gcc (GCC) 14.2.0
    GNU Fortran (GCC) 14.2.0
* running under: openEuler 24.03 (LTS)
* using session charset: UTF-8
* using option ‘--no-vignettes’
* checking for file ‘GenomicDistributions/DESCRIPTION’ ... OK
* this is package ‘GenomicDistributions’ version ‘1.17.1’
* package encoding: UTF-8
* checking package namespace information ... OK
* checking package dependencies ... OK
* checking if this is a source package ... OK
* checking if there is a namespace ... OK
* checking for hidden files and directories ... OK
* checking for portable file names ... OK
* checking for sufficient/correct file permissions ... OK
* checking whether package ‘GenomicDistributions’ can be installed ... OK
* checking installed package size ... OK
* checking package directory ... OK
* checking ‘build’ directory ... OK
* checking DESCRIPTION meta-information ... OK
* checking top-level files ... OK
* checking for left-over files ... OK
* checking index information ... OK
* checking package subdirectories ... OK
* checking code files for non-ASCII characters ... OK
* checking R files for syntax errors ... OK
* checking whether the package can be loaded ... OK
* checking whether the package can be loaded with stated dependencies ... OK
* checking whether the package can be unloaded cleanly ... OK
* checking whether the namespace can be loaded with stated dependencies ... OK
* checking whether the namespace can be unloaded cleanly ... OK
* checking loading without being on the library search path ... OK
* checking dependencies in R code ... OK
* checking S3 generic/method consistency ... OK
* checking replacement functions ... OK
* checking foreign function calls ... OK
* checking R code for possible problems ... OK
* checking Rd files ... OK
* checking Rd metadata ... OK
* checking Rd cross-references ... OK
* checking for missing documentation entries ... OK
* checking for code/documentation mismatches ... OK
* checking Rd \usage sections ... OK
* checking Rd contents ... OK
* checking for unstated dependencies in examples ... OK
* checking contents of ‘data’ directory ... OK
* checking data for non-ASCII characters ... OK
* checking LazyData ... OK
* checking data for ASCII and uncompressed saves ... OK
* checking files in ‘vignettes’ ... OK
* checking examples ... OK
Examples with CPU (user + system) or elapsed time > 5s
                      user system elapsed
getGeneModelsFromGTF 9.203  0.922  10.154
* checking for unstated dependencies in ‘tests’ ... OK
* checking tests ...
  Running ‘testthat.R’
 OK
* checking for unstated dependencies in vignettes ... OK
* checking package vignettes ... OK
* checking running R code from vignettes ... SKIPPED
* checking re-building of vignette outputs ... SKIPPED
* checking PDF version of manual ... OK
* DONE

Status: OK


Installation output

GenomicDistributions.Rcheck/00install.out

##############################################################################
##############################################################################
###
### Running command:
###
###   /home/biocbuild/R/R/bin/R CMD INSTALL GenomicDistributions
###
##############################################################################
##############################################################################


* installing to library ‘/home/biocbuild/R/R-4.5.0/site-library’
* installing *source* package ‘GenomicDistributions’ ...
** this is package ‘GenomicDistributions’ version ‘1.17.1’
** using staged installation
** R
** data
*** moving datasets to lazyload DB
** inst
** byte-compile and prepare package for lazy loading
** help
*** installing help indices
** building package indices
** installing vignettes
** testing if installed package can be loaded from temporary location
** testing if installed package can be loaded from final location
** testing if installed package keeps a record of temporary installation path
* DONE (GenomicDistributions)

Tests output

GenomicDistributions.Rcheck/tests/testthat.Rout


R version 4.5.0 (2025-04-11) -- "How About a Twenty-Six"
Copyright (C) 2025 The R Foundation for Statistical Computing
Platform: aarch64-unknown-linux-gnu

R is free software and comes with ABSOLUTELY NO WARRANTY.
You are welcome to redistribute it under certain conditions.
Type 'license()' or 'licence()' for distribution details.

R is a collaborative project with many contributors.
Type 'contributors()' for more information and
'citation()' on how to cite R or R packages in publications.

Type 'demo()' for some demos, 'help()' for on-line help, or
'help.start()' for an HTML browser interface to help.
Type 'q()' to quit R.

> library(testthat)
> library("GenomicDistributions")
Loading required package: IRanges
Loading required package: BiocGenerics
Loading required package: generics

Attaching package: 'generics'

The following objects are masked from 'package:base':

    as.difftime, as.factor, as.ordered, intersect, is.element, setdiff,
    setequal, union


Attaching package: 'BiocGenerics'

The following objects are masked from 'package:stats':

    IQR, mad, sd, var, xtabs

The following objects are masked from 'package:base':

    Filter, Find, Map, Position, Reduce, anyDuplicated, aperm, append,
    as.data.frame, basename, cbind, colnames, dirname, do.call,
    duplicated, eval, evalq, get, grep, grepl, is.unsorted, lapply,
    mapply, match, mget, order, paste, pmax, pmax.int, pmin, pmin.int,
    rank, rbind, rownames, sapply, saveRDS, table, tapply, unique,
    unsplit, which.max, which.min

Loading required package: S4Vectors
Loading required package: stats4

Attaching package: 'S4Vectors'

The following object is masked from 'package:utils':

    findMatches

The following objects are masked from 'package:base':

    I, expand.grid, unname

Loading required package: GenomicRanges
Loading required package: Seqinfo
> 
> test_check("GenomicDistributions")
[ FAIL 0 | WARN 0 | SKIP 1 | PASS 48 ]

══ Skipped tests (1) ═══════════════════════════════════════════════════════════
• empty test (1): 'test_all.R:139:1'

[ FAIL 0 | WARN 0 | SKIP 1 | PASS 48 ]
> 
> proc.time()
   user  system elapsed 
 33.531   1.343  34.924 

Example timings

GenomicDistributions.Rcheck/GenomicDistributions-Ex.timings

nameusersystemelapsed
binBSGenome000
binChroms0.0160.0000.017
binRegion0.0010.0000.001
calcChromBins2.8810.1603.055
calcChromBinsRef0.0280.0000.026
calcChromBinsRefSlow0.0260.0000.024
calcCumulativePartitions3.0860.1363.231
calcCumulativePartitionsRef2.4980.0162.522
calcDinuclFreq000
calcDinuclFreqRef0.0000.0000.001
calcExpectedPartitions2.4820.0272.517
calcExpectedPartitionsRef2.1170.0202.146
calcFeatureDist0.1400.0160.156
calcFeatureDistRefTSS0.2270.0160.241
calcGCContent000
calcGCContentRef000
calcNearestNeighbors0.0450.0040.049
calcNeighborDist0.0460.0000.045
calcPartitions2.0420.0082.055
calcPartitionsRef2.3860.1352.530
calcSummarySignal0.0380.0000.037
calcWidth0.0010.0010.001
dot-validateInputs000
dtToGr0.0150.0000.014
genomePartitionList1.8700.0111.887
getChromSizes0.0030.0000.004
getChromSizesFromFasta0.0300.0000.031
getGeneModels0.1160.0000.116
getGeneModelsFromGTF 9.203 0.92210.154
getGenomeBins1.8640.0121.880
getTssFromGTF0.1910.0000.191
loadBSgenome000
loadEnsDb000
nlist000
plotChromBins0.1960.0040.200
plotCumulativePartitions3.8210.2474.081
plotDinuclFreq0.0980.0080.106
plotExpectedPartitions2.2540.0802.342
plotFeatureDist0.4340.0240.456
plotGCContent0.2430.0120.255
plotNeighborDist0.0940.0160.110
plotPartitions3.0950.1913.295
plotQTHist0.2490.0000.250
plotSummarySignal0.4140.0120.426
retrieveFile0.0010.0000.002