| Back to Build/check report for BioC 3.23: simplified long |
|
This page was generated on 2025-11-05 11:32 -0500 (Wed, 05 Nov 2025).
| Hostname | OS | Arch (*) | R version | Installed pkgs |
|---|---|---|---|---|
| nebbiolo1 | Linux (Ubuntu 24.04.3 LTS) | x86_64 | R Under development (unstable) (2025-10-20 r88955) -- "Unsuffered Consequences" | 4818 |
| Click on any hostname to see more info about the system (e.g. compilers) (*) as reported by 'uname -p', except on Windows and Mac OS X | ||||
| Package 833/2323 | Hostname | OS / Arch | INSTALL | BUILD | CHECK | BUILD BIN | ||||||||
| GenomicDataCommons 1.35.0 (landing page) Sean Davis
| nebbiolo1 | Linux (Ubuntu 24.04.3 LTS) / x86_64 | OK | OK | ERROR | |||||||||
|
To the developers/maintainers of the GenomicDataCommons package: - Allow up to 24 hours (and sometimes 48 hours) for your latest push to git@git.bioconductor.org:packages/GenomicDataCommons.git to reflect on this report. See Troubleshooting Build Report for more information. - Use the following Renviron settings to reproduce errors and warnings. - If 'R CMD check' started to fail recently on the Linux builder(s) over a missing dependency, add the missing dependency to 'Suggests:' in your DESCRIPTION file. See Renviron.bioc for more information. |
| Package: GenomicDataCommons |
| Version: 1.35.0 |
| Command: /home/biocbuild/bbs-3.23-bioc/R/bin/R CMD check --install=check:GenomicDataCommons.install-out.txt --library=/home/biocbuild/bbs-3.23-bioc/R/site-library --timings GenomicDataCommons_1.35.0.tar.gz |
| StartedAt: 2025-11-04 23:40:41 -0500 (Tue, 04 Nov 2025) |
| EndedAt: 2025-11-04 23:43:12 -0500 (Tue, 04 Nov 2025) |
| EllapsedTime: 151.2 seconds |
| RetCode: 1 |
| Status: ERROR |
| CheckDir: GenomicDataCommons.Rcheck |
| Warnings: NA |
##############################################################################
##############################################################################
###
### Running command:
###
### /home/biocbuild/bbs-3.23-bioc/R/bin/R CMD check --install=check:GenomicDataCommons.install-out.txt --library=/home/biocbuild/bbs-3.23-bioc/R/site-library --timings GenomicDataCommons_1.35.0.tar.gz
###
##############################################################################
##############################################################################
* using log directory ‘/home/biocbuild/bbs-3.23-bioc/meat/GenomicDataCommons.Rcheck’
* using R Under development (unstable) (2025-10-20 r88955)
* using platform: x86_64-pc-linux-gnu
* R was compiled by
gcc (Ubuntu 13.3.0-6ubuntu2~24.04) 13.3.0
GNU Fortran (Ubuntu 13.3.0-6ubuntu2~24.04) 13.3.0
* running under: Ubuntu 24.04.3 LTS
* using session charset: UTF-8
* checking for file ‘GenomicDataCommons/DESCRIPTION’ ... OK
* checking extension type ... Package
* this is package ‘GenomicDataCommons’ version ‘1.35.0’
* package encoding: UTF-8
* checking package namespace information ... OK
* checking package dependencies ... OK
* checking if this is a source package ... OK
* checking if there is a namespace ... OK
* checking for hidden files and directories ... OK
* checking for portable file names ... OK
* checking for sufficient/correct file permissions ... OK
* checking whether package ‘GenomicDataCommons’ can be installed ... OK
* checking installed package size ... OK
* checking package directory ... OK
* checking ‘build’ directory ... OK
* checking DESCRIPTION meta-information ... OK
* checking top-level files ... OK
* checking for left-over files ... OK
* checking index information ... OK
* checking package subdirectories ... OK
* checking code files for non-ASCII characters ... OK
* checking R files for syntax errors ... OK
* checking whether the package can be loaded ... OK
* checking whether the package can be loaded with stated dependencies ... OK
* checking whether the package can be unloaded cleanly ... OK
* checking whether the namespace can be loaded with stated dependencies ... OK
* checking whether the namespace can be unloaded cleanly ... OK
* checking loading without being on the library search path ... OK
* checking dependencies in R code ... OK
* checking S3 generic/method consistency ... OK
* checking replacement functions ... OK
* checking foreign function calls ... OK
* checking R code for possible problems ... OK
* checking Rd files ... OK
* checking Rd metadata ... OK
* checking Rd cross-references ... OK
* checking for missing documentation entries ... OK
* checking for code/documentation mismatches ... OK
* checking Rd \usage sections ... OK
* checking Rd contents ... OK
* checking for unstated dependencies in examples ... OK
* checking R/sysdata.rda ... OK
* checking files in ‘vignettes’ ... OK
* checking examples ... OK
* checking for unstated dependencies in ‘tests’ ... OK
* checking tests ...
Running ‘testthat.R’
ERROR
Running the tests in ‘tests/testthat.R’ failed.
Last 13 lines of output:
>
> test_check("GenomicDataCommons")
[ FAIL 1 | WARN 0 | SKIP 0 | PASS 45 ]
══ Failed tests ════════════════════════════════════════════════════════════════
── Failure ('test_clinical.R:17:5'): clinical data is structured properly ──────
all(vapply(clinical_data, nrow, integer(1L)) >= sizen) is not TRUE
`actual`: FALSE
`expected`: TRUE
[ FAIL 1 | WARN 0 | SKIP 0 | PASS 45 ]
Error: Test failures
Execution halted
* checking for unstated dependencies in vignettes ... OK
* checking package vignettes ... OK
* checking re-building of vignette outputs ... OK
* checking PDF version of manual ... OK
* DONE
Status: 1 ERROR
See
‘/home/biocbuild/bbs-3.23-bioc/meat/GenomicDataCommons.Rcheck/00check.log’
for details.
GenomicDataCommons.Rcheck/00install.out
############################################################################## ############################################################################## ### ### Running command: ### ### /home/biocbuild/bbs-3.23-bioc/R/bin/R CMD INSTALL GenomicDataCommons ### ############################################################################## ############################################################################## * installing to library ‘/home/biocbuild/bbs-3.23-bioc/R/site-library’ * installing *source* package ‘GenomicDataCommons’ ... ** this is package ‘GenomicDataCommons’ version ‘1.35.0’ ** using staged installation ** R ** inst ** byte-compile and prepare package for lazy loading ** help *** installing help indices ** building package indices ** installing vignettes ** testing if installed package can be loaded from temporary location ** testing if installed package can be loaded from final location ** testing if installed package keeps a record of temporary installation path * DONE (GenomicDataCommons)
GenomicDataCommons.Rcheck/tests/testthat.Rout.fail
R Under development (unstable) (2025-10-20 r88955) -- "Unsuffered Consequences"
Copyright (C) 2025 The R Foundation for Statistical Computing
Platform: x86_64-pc-linux-gnu
R is free software and comes with ABSOLUTELY NO WARRANTY.
You are welcome to redistribute it under certain conditions.
Type 'license()' or 'licence()' for distribution details.
R is a collaborative project with many contributors.
Type 'contributors()' for more information and
'citation()' on how to cite R or R packages in publications.
Type 'demo()' for some demos, 'help()' for on-line help, or
'help.start()' for an HTML browser interface to help.
Type 'q()' to quit R.
> library(testthat)
> library(GenomicDataCommons)
Attaching package: 'GenomicDataCommons'
The following object is masked from 'package:stats':
filter
>
> test_check("GenomicDataCommons")
[ FAIL 1 | WARN 0 | SKIP 0 | PASS 45 ]
══ Failed tests ════════════════════════════════════════════════════════════════
── Failure ('test_clinical.R:17:5'): clinical data is structured properly ──────
all(vapply(clinical_data, nrow, integer(1L)) >= sizen) is not TRUE
`actual`: FALSE
`expected`: TRUE
[ FAIL 1 | WARN 0 | SKIP 0 | PASS 45 ]
Error: Test failures
Execution halted
GenomicDataCommons.Rcheck/GenomicDataCommons-Ex.timings
| name | user | system | elapsed | |
| aggregations | 0.120 | 0.014 | 0.965 | |
| available_expand | 0.017 | 0.001 | 0.076 | |
| available_fields | 0.042 | 0.005 | 0.144 | |
| available_values | 0.058 | 0.007 | 0.718 | |
| constants | 0.002 | 0.000 | 0.002 | |
| count | 0.111 | 0.009 | 0.424 | |
| default_fields | 0.049 | 0.003 | 0.147 | |
| entity_name | 0.037 | 0.009 | 0.166 | |
| expand | 0.133 | 0.018 | 0.372 | |
| faceting | 0.088 | 0.013 | 0.262 | |
| field_description | 0.226 | 0.005 | 0.553 | |
| filtering | 0.699 | 0.024 | 1.895 | |
| gdc_cache | 0.002 | 0.000 | 0.002 | |
| gdc_client | 0.001 | 0.003 | 0.004 | |
| gdc_clinical | 0.488 | 0.026 | 1.146 | |
| gdc_token | 0.001 | 0.000 | 0.000 | |
| gdcdata | 0.215 | 0.017 | 0.721 | |
| grep_fields | 0.027 | 0.002 | 0.066 | |
| id_field | 0.042 | 0.000 | 0.089 | |
| ids | 0.250 | 0.015 | 1.060 | |
| manifest | 0.144 | 0.011 | 0.375 | |
| mapping | 0.013 | 0.001 | 0.049 | |
| query | 0.066 | 0.000 | 0.159 | |
| readDNAcopy | 0.216 | 0.102 | 0.307 | |
| readHTSeqFile | 0.099 | 0.013 | 0.110 | |
| response | 0.049 | 0.000 | 0.218 | |
| results | 0.049 | 0.000 | 0.239 | |
| results_all | 0.063 | 0.000 | 0.424 | |
| select | 0.204 | 0.029 | 0.535 | |
| slicing | 0.000 | 0.000 | 0.001 | |
| status | 0.011 | 0.002 | 0.066 | |
| transfer | 0 | 0 | 0 | |
| write_manifest | 0.099 | 0.007 | 0.428 | |