| Back to Multiple platform build/check report for BioC 3.22: simplified long |
|
This page was generated on 2025-10-28 12:03 -0400 (Tue, 28 Oct 2025).
| Hostname | OS | Arch (*) | R version | Installed pkgs |
|---|---|---|---|---|
| nebbiolo2 | Linux (Ubuntu 24.04.3 LTS) | x86_64 | 4.5.1 Patched (2025-08-23 r88802) -- "Great Square Root" | 4901 |
| lconway | macOS 12.7.6 Monterey | x86_64 | 4.5.1 Patched (2025-09-10 r88807) -- "Great Square Root" | 4691 |
| kjohnson3 | macOS 13.7.7 Ventura | arm64 | 4.5.1 Patched (2025-09-10 r88807) -- "Great Square Root" | 4637 |
| Click on any hostname to see more info about the system (e.g. compilers) (*) as reported by 'uname -p', except on Windows and Mac OS X | ||||
| Package 842/2361 | Hostname | OS / Arch | INSTALL | BUILD | CHECK | BUILD BIN | ||||||||
| GenomicAlignments 1.45.5 (landing page) Hervé Pagès
| nebbiolo2 | Linux (Ubuntu 24.04.3 LTS) / x86_64 | OK | OK | OK | |||||||||
| lconway | macOS 12.7.6 Monterey / x86_64 | OK | OK | OK | OK | |||||||||
| kjohnson3 | macOS 13.7.7 Ventura / arm64 | OK | OK | OK | OK | |||||||||
|
To the developers/maintainers of the GenomicAlignments package: - Allow up to 24 hours (and sometimes 48 hours) for your latest push to git@git.bioconductor.org:packages/GenomicAlignments.git to reflect on this report. See Troubleshooting Build Report for more information. - Use the following Renviron settings to reproduce errors and warnings. - If 'R CMD check' started to fail recently on the Linux builder(s) over a missing dependency, add the missing dependency to 'Suggests:' in your DESCRIPTION file. See Renviron.bioc for more information. |
| Package: GenomicAlignments |
| Version: 1.45.5 |
| Command: /Library/Frameworks/R.framework/Resources/bin/R CMD check --install=check:GenomicAlignments.install-out.txt --library=/Library/Frameworks/R.framework/Resources/library --no-vignettes --timings GenomicAlignments_1.45.5.tar.gz |
| StartedAt: 2025-10-27 21:53:59 -0400 (Mon, 27 Oct 2025) |
| EndedAt: 2025-10-27 21:59:15 -0400 (Mon, 27 Oct 2025) |
| EllapsedTime: 315.9 seconds |
| RetCode: 0 |
| Status: OK |
| CheckDir: GenomicAlignments.Rcheck |
| Warnings: 0 |
##############################################################################
##############################################################################
###
### Running command:
###
### /Library/Frameworks/R.framework/Resources/bin/R CMD check --install=check:GenomicAlignments.install-out.txt --library=/Library/Frameworks/R.framework/Resources/library --no-vignettes --timings GenomicAlignments_1.45.5.tar.gz
###
##############################################################################
##############################################################################
* using log directory ‘/Users/biocbuild/bbs-3.22-bioc/meat/GenomicAlignments.Rcheck’
* using R version 4.5.1 Patched (2025-09-10 r88807)
* using platform: x86_64-apple-darwin20
* R was compiled by
Apple clang version 14.0.0 (clang-1400.0.29.202)
GNU Fortran (GCC) 14.2.0
* running under: macOS Monterey 12.7.6
* using session charset: UTF-8
* using option ‘--no-vignettes’
* checking for file ‘GenomicAlignments/DESCRIPTION’ ... OK
* this is package ‘GenomicAlignments’ version ‘1.45.5’
* package encoding: UTF-8
* checking package namespace information ... OK
* checking package dependencies ... INFO
Depends: includes the non-default packages:
'BiocGenerics', 'S4Vectors', 'IRanges', 'Seqinfo', 'GenomicRanges',
'SummarizedExperiment', 'Biostrings', 'Rsamtools'
Adding so many packages to the search path is excessive and importing
selectively is preferable.
* checking if this is a source package ... OK
* checking if there is a namespace ... OK
* checking for hidden files and directories ... OK
* checking for portable file names ... OK
* checking for sufficient/correct file permissions ... OK
* checking whether package ‘GenomicAlignments’ can be installed ... OK
* used C compiler: ‘Apple clang version 14.0.0 (clang-1400.0.29.202)’
* used SDK: ‘MacOSX11.3.1.sdk’
* checking installed package size ... OK
* checking package directory ... OK
* checking ‘build’ directory ... OK
* checking DESCRIPTION meta-information ... NOTE
Packages listed in more than one of Depends, Imports, Suggests, Enhances:
‘methods’ ‘BiocGenerics’ ‘S4Vectors’ ‘IRanges’ ‘GenomicRanges’ ‘Biostrings’ ‘Rsamtools’
A package should be listed in only one of these fields.
* checking top-level files ... OK
* checking for left-over files ... OK
* checking index information ... OK
* checking package subdirectories ... NOTE
Problems with news in ‘NEWS’:
Cannot process chunk/lines:
No NEW FEATURES or SIGNIFICANT USER-VISIBLE CHANGES or BUG FIXES since
Cannot process chunk/lines:
version 1.18.0
Cannot process chunk/lines:
No NEW FEATURES or SIGNIFICANT USER-VISIBLE CHANGES or BUG FIXES since
Cannot process chunk/lines:
version 1.16.0
Cannot process chunk/lines:
The first version of GenomicAlignments was included in Bioconductor 2.14.
Cannot process chunk/lines:
The package was created from existing code in IRanges, ShortRead,
Cannot process chunk/lines:
Rsamtools and GenomicRanges.
* checking code files for non-ASCII characters ... OK
* checking R files for syntax errors ... OK
* checking whether the package can be loaded ... OK
* checking whether the package can be loaded with stated dependencies ... OK
* checking whether the package can be unloaded cleanly ... OK
* checking whether the namespace can be loaded with stated dependencies ... OK
* checking whether the namespace can be unloaded cleanly ... OK
* checking dependencies in R code ... NOTE
Unexported objects imported by ':::' calls:
‘Rsamtools:::.BamViews_delegate’ ‘Rsamtools:::.findMateWithinGroups’
‘Rsamtools:::.load_bamcols_from_scanBam_res’
See the note in ?`:::` about the use of this operator.
* checking S3 generic/method consistency ... OK
* checking replacement functions ... OK
* checking foreign function calls ... OK
* checking R code for possible problems ... OK
* checking Rd files ... OK
* checking Rd metadata ... OK
* checking Rd cross-references ... NOTE
Found the following Rd file(s) with Rd \link{} targets missing package
anchors:
GAlignmentPairs-class.Rd: seqlevels, GRanges, GRangesList
GAlignments-class.Rd: seqlevels, GRanges, GRangesList
GAlignmentsList-class.Rd: GRanges, GRangesList
coordinate-mapping-methods.Rd: GenomicRanges-class
findCompatibleOverlaps-methods.Rd: GRangesList
findOverlaps-methods.Rd: GRangesList, GRanges-class,
GRangesList-class
intra-range-methods.Rd: GRanges, GRangesList
readGAlignments.Rd: scanBam, ScanBamParam-class
sequenceLayer.Rd: XStringSet
stackStringsFromGAlignments.Rd: scanBam, ScanBamParam
summarizeOverlaps-methods.Rd: BamFile, ScanBamParam, register
Please provide package anchors for all Rd \link{} targets not in the
package itself and the base packages.
* checking for missing documentation entries ... OK
* checking for code/documentation mismatches ... OK
* checking Rd \usage sections ... OK
* checking Rd contents ... OK
* checking for unstated dependencies in examples ... OK
* checking line endings in C/C++/Fortran sources/headers ... OK
* checking compiled code ... NOTE
Note: information on .o files is not available
* checking sizes of PDF files under ‘inst/doc’ ... OK
* checking files in ‘vignettes’ ... OK
* checking examples ... OK
Examples with CPU (user + system) or elapsed time > 5s
user system elapsed
readGAlignments 14.832 3.610 18.690
junctions-methods 14.079 1.882 16.202
summarizeOverlaps-methods 8.703 2.784 11.087
coordinate-mapping-methods 7.983 0.278 8.328
findSpliceOverlaps-methods 5.378 0.248 5.685
* checking for unstated dependencies in ‘tests’ ... OK
* checking tests ...
Running ‘run_unitTests.R’
OK
* checking for unstated dependencies in vignettes ... OK
* checking package vignettes ... OK
* checking running R code from vignettes ... SKIPPED
* checking re-building of vignette outputs ... SKIPPED
* checking PDF version of manual ... OK
* DONE
Status: 5 NOTEs
See
‘/Users/biocbuild/bbs-3.22-bioc/meat/GenomicAlignments.Rcheck/00check.log’
for details.
GenomicAlignments.Rcheck/00install.out
############################################################################## ############################################################################## ### ### Running command: ### ### /Library/Frameworks/R.framework/Resources/bin/R CMD INSTALL GenomicAlignments ### ############################################################################## ############################################################################## * installing to library ‘/Library/Frameworks/R.framework/Versions/4.5-x86_64/Resources/library’ * installing *source* package ‘GenomicAlignments’ ... ** this is package ‘GenomicAlignments’ version ‘1.45.5’ ** using staged installation ** libs using C compiler: ‘Apple clang version 14.0.0 (clang-1400.0.29.202)’ using SDK: ‘MacOSX11.3.1.sdk’ clang -arch x86_64 -I"/Library/Frameworks/R.framework/Resources/include" -DNDEBUG -I'/Library/Frameworks/R.framework/Versions/4.5-x86_64/Resources/library/S4Vectors/include' -I'/Library/Frameworks/R.framework/Versions/4.5-x86_64/Resources/library/IRanges/include' -I/opt/R/x86_64/include -fPIC -falign-functions=64 -Wall -g -O2 -c IRanges_stubs.c -o IRanges_stubs.o clang -arch x86_64 -I"/Library/Frameworks/R.framework/Resources/include" -DNDEBUG -I'/Library/Frameworks/R.framework/Versions/4.5-x86_64/Resources/library/S4Vectors/include' -I'/Library/Frameworks/R.framework/Versions/4.5-x86_64/Resources/library/IRanges/include' -I/opt/R/x86_64/include -fPIC -falign-functions=64 -Wall -g -O2 -c R_init_GenomicAlignments.c -o R_init_GenomicAlignments.o clang -arch x86_64 -I"/Library/Frameworks/R.framework/Resources/include" -DNDEBUG -I'/Library/Frameworks/R.framework/Versions/4.5-x86_64/Resources/library/S4Vectors/include' -I'/Library/Frameworks/R.framework/Versions/4.5-x86_64/Resources/library/IRanges/include' -I/opt/R/x86_64/include -fPIC -falign-functions=64 -Wall -g -O2 -c S4Vectors_stubs.c -o S4Vectors_stubs.o clang -arch x86_64 -I"/Library/Frameworks/R.framework/Resources/include" -DNDEBUG -I'/Library/Frameworks/R.framework/Versions/4.5-x86_64/Resources/library/S4Vectors/include' -I'/Library/Frameworks/R.framework/Versions/4.5-x86_64/Resources/library/IRanges/include' -I/opt/R/x86_64/include -fPIC -falign-functions=64 -Wall -g -O2 -c encodeOverlaps_methods.c -o encodeOverlaps_methods.o clang -arch x86_64 -dynamiclib -Wl,-headerpad_max_install_names -undefined dynamic_lookup -L/Library/Frameworks/R.framework/Resources/lib -L/opt/R/x86_64/lib -o GenomicAlignments.so IRanges_stubs.o R_init_GenomicAlignments.o S4Vectors_stubs.o encodeOverlaps_methods.o -F/Library/Frameworks/R.framework/.. -framework R installing to /Library/Frameworks/R.framework/Versions/4.5-x86_64/Resources/library/00LOCK-GenomicAlignments/00new/GenomicAlignments/libs ** R ** inst ** byte-compile and prepare package for lazy loading ** help *** installing help indices ** building package indices ** installing vignettes ** testing if installed package can be loaded from temporary location ** checking absolute paths in shared objects and dynamic libraries ** testing if installed package can be loaded from final location ** testing if installed package keeps a record of temporary installation path * DONE (GenomicAlignments)
GenomicAlignments.Rcheck/tests/run_unitTests.Rout
R version 4.5.1 Patched (2025-09-10 r88807) -- "Great Square Root"
Copyright (C) 2025 The R Foundation for Statistical Computing
Platform: x86_64-apple-darwin20
R is free software and comes with ABSOLUTELY NO WARRANTY.
You are welcome to redistribute it under certain conditions.
Type 'license()' or 'licence()' for distribution details.
R is a collaborative project with many contributors.
Type 'contributors()' for more information and
'citation()' on how to cite R or R packages in publications.
Type 'demo()' for some demos, 'help()' for on-line help, or
'help.start()' for an HTML browser interface to help.
Type 'q()' to quit R.
> require("GenomicAlignments") || stop("unable to load GenomicRanges package")
Loading required package: GenomicAlignments
Loading required package: BiocGenerics
Loading required package: generics
Attaching package: 'generics'
The following objects are masked from 'package:base':
as.difftime, as.factor, as.ordered, intersect, is.element, setdiff,
setequal, union
Attaching package: 'BiocGenerics'
The following objects are masked from 'package:stats':
IQR, mad, sd, var, xtabs
The following objects are masked from 'package:base':
Filter, Find, Map, Position, Reduce, anyDuplicated, aperm, append,
as.data.frame, basename, cbind, colnames, dirname, do.call,
duplicated, eval, evalq, get, grep, grepl, is.unsorted, lapply,
mapply, match, mget, order, paste, pmax, pmax.int, pmin, pmin.int,
rank, rbind, rownames, sapply, saveRDS, table, tapply, unique,
unsplit, which.max, which.min
Loading required package: S4Vectors
Loading required package: stats4
Attaching package: 'S4Vectors'
The following object is masked from 'package:utils':
findMatches
The following objects are masked from 'package:base':
I, expand.grid, unname
Loading required package: IRanges
Loading required package: Seqinfo
Loading required package: GenomicRanges
Loading required package: SummarizedExperiment
Loading required package: MatrixGenerics
Loading required package: matrixStats
Attaching package: 'MatrixGenerics'
The following objects are masked from 'package:matrixStats':
colAlls, colAnyNAs, colAnys, colAvgsPerRowSet, colCollapse,
colCounts, colCummaxs, colCummins, colCumprods, colCumsums,
colDiffs, colIQRDiffs, colIQRs, colLogSumExps, colMadDiffs,
colMads, colMaxs, colMeans2, colMedians, colMins, colOrderStats,
colProds, colQuantiles, colRanges, colRanks, colSdDiffs, colSds,
colSums2, colTabulates, colVarDiffs, colVars, colWeightedMads,
colWeightedMeans, colWeightedMedians, colWeightedSds,
colWeightedVars, rowAlls, rowAnyNAs, rowAnys, rowAvgsPerColSet,
rowCollapse, rowCounts, rowCummaxs, rowCummins, rowCumprods,
rowCumsums, rowDiffs, rowIQRDiffs, rowIQRs, rowLogSumExps,
rowMadDiffs, rowMads, rowMaxs, rowMeans2, rowMedians, rowMins,
rowOrderStats, rowProds, rowQuantiles, rowRanges, rowRanks,
rowSdDiffs, rowSds, rowSums2, rowTabulates, rowVarDiffs, rowVars,
rowWeightedMads, rowWeightedMeans, rowWeightedMedians,
rowWeightedSds, rowWeightedVars
Loading required package: Biobase
Welcome to Bioconductor
Vignettes contain introductory material; view with
'browseVignettes()'. To cite Bioconductor, see
'citation("Biobase")', and for packages 'citation("pkgname")'.
Attaching package: 'Biobase'
The following object is masked from 'package:MatrixGenerics':
rowMedians
The following objects are masked from 'package:matrixStats':
anyMissing, rowMedians
Loading required package: Biostrings
Loading required package: XVector
Attaching package: 'Biostrings'
The following object is masked from 'package:base':
strsplit
Loading required package: Rsamtools
[1] TRUE
> GenomicAlignments:::.test()
RUNIT TEST PROTOCOL -- Mon Oct 27 21:59:03 2025
***********************************************
Number of test functions: 39
Number of errors: 0
Number of failures: 0
1 Test Suite :
GenomicAlignments RUnit Tests - 39 test functions, 0 errors, 0 failures
Number of test functions: 39
Number of errors: 0
Number of failures: 0
Warning message:
In .make_GAlignmentPairs_from_GAlignments(gal, strandMode = strandMode, :
4 alignments with ambiguous pairing were dumped.
Use 'getDumpedAlignments()' to retrieve them from the dump environment.
>
> proc.time()
user system elapsed
30.086 1.550 31.506
GenomicAlignments.Rcheck/GenomicAlignments-Ex.timings
| name | user | system | elapsed | |
| GAlignmentPairs-class | 0.958 | 0.072 | 1.039 | |
| GAlignments-class | 0.395 | 0.020 | 0.416 | |
| GAlignmentsList-class | 2.823 | 0.086 | 2.927 | |
| GappedReads-class | 0.099 | 0.004 | 0.103 | |
| OverlapEncodings-class | 1.078 | 0.049 | 1.135 | |
| cigar-utils | 0.108 | 0.006 | 0.115 | |
| coordinate-mapping-methods | 7.983 | 0.278 | 8.328 | |
| coverage-methods | 2.163 | 0.114 | 2.295 | |
| encodeOverlaps-methods | 0.036 | 0.002 | 0.039 | |
| findCompatibleOverlaps-methods | 1.315 | 0.055 | 1.390 | |
| findMateAlignment | 0.164 | 0.008 | 0.173 | |
| findOverlaps-methods | 0.512 | 0.034 | 0.550 | |
| findSpliceOverlaps-methods | 5.378 | 0.248 | 5.685 | |
| intra-range-methods | 0.339 | 0.023 | 0.363 | |
| junctions-methods | 14.079 | 1.882 | 16.202 | |
| pileLettersAt | 0.601 | 0.025 | 0.632 | |
| readGAlignments | 14.832 | 3.610 | 18.690 | |
| sequenceLayer | 0.000 | 0.001 | 0.000 | |
| setops-methods | 0.119 | 0.008 | 0.135 | |
| stackStringsFromGAlignments | 3.272 | 0.298 | 3.634 | |
| summarizeOverlaps-methods | 8.703 | 2.784 | 11.087 | |