| Back to Multiple platform build/check report for BioC 3.22: simplified long |
|
This page was generated on 2025-10-21 12:07 -0400 (Tue, 21 Oct 2025).
| Hostname | OS | Arch (*) | R version | Installed pkgs |
|---|---|---|---|---|
| nebbiolo2 | Linux (Ubuntu 24.04.3 LTS) | x86_64 | 4.5.1 Patched (2025-08-23 r88802) -- "Great Square Root" | 4887 |
| lconway | macOS 12.7.6 Monterey | x86_64 | 4.5.1 Patched (2025-09-10 r88807) -- "Great Square Root" | 4677 |
| kjohnson3 | macOS 13.7.7 Ventura | arm64 | 4.5.1 Patched (2025-09-10 r88807) -- "Great Square Root" | 4622 |
| taishan | Linux (openEuler 24.03 LTS) | aarch64 | 4.5.0 (2025-04-11) -- "How About a Twenty-Six" | 4642 |
| Click on any hostname to see more info about the system (e.g. compilers) (*) as reported by 'uname -p', except on Windows and Mac OS X | ||||
| Package 811/2353 | Hostname | OS / Arch | INSTALL | BUILD | CHECK | BUILD BIN | ||||||||
| GeneBreak 1.39.0 (landing page) Evert van den Broek
| nebbiolo2 | Linux (Ubuntu 24.04.3 LTS) / x86_64 | OK | OK | OK | |||||||||
| lconway | macOS 12.7.6 Monterey / x86_64 | OK | OK | OK | OK | |||||||||
| kjohnson3 | macOS 13.7.7 Ventura / arm64 | OK | OK | OK | OK | |||||||||
| taishan | Linux (openEuler 24.03 LTS) / aarch64 | OK | OK | OK | ||||||||||
|
To the developers/maintainers of the GeneBreak package: - Allow up to 24 hours (and sometimes 48 hours) for your latest push to git@git.bioconductor.org:packages/GeneBreak.git to reflect on this report. See Troubleshooting Build Report for more information. - Use the following Renviron settings to reproduce errors and warnings. - If 'R CMD check' started to fail recently on the Linux builder(s) over a missing dependency, add the missing dependency to 'Suggests:' in your DESCRIPTION file. See Renviron.bioc for more information. - See Martin Grigorov's blog post for how to debug Linux ARM64 related issues on a x86_64 host. |
| Package: GeneBreak |
| Version: 1.39.0 |
| Command: /home/biocbuild/R/R/bin/R CMD check --install=check:GeneBreak.install-out.txt --library=/home/biocbuild/R/R/site-library --no-vignettes --timings GeneBreak_1.39.0.tar.gz |
| StartedAt: 2025-10-17 09:18:03 -0000 (Fri, 17 Oct 2025) |
| EndedAt: 2025-10-17 09:21:02 -0000 (Fri, 17 Oct 2025) |
| EllapsedTime: 179.1 seconds |
| RetCode: 0 |
| Status: OK |
| CheckDir: GeneBreak.Rcheck |
| Warnings: 0 |
##############################################################################
##############################################################################
###
### Running command:
###
### /home/biocbuild/R/R/bin/R CMD check --install=check:GeneBreak.install-out.txt --library=/home/biocbuild/R/R/site-library --no-vignettes --timings GeneBreak_1.39.0.tar.gz
###
##############################################################################
##############################################################################
* using log directory ‘/home/biocbuild/bbs-3.22-bioc/meat/GeneBreak.Rcheck’
* using R version 4.5.0 (2025-04-11)
* using platform: aarch64-unknown-linux-gnu
* R was compiled by
aarch64-unknown-linux-gnu-gcc (GCC) 14.2.0
GNU Fortran (GCC) 14.2.0
* running under: openEuler 24.03 (LTS)
* using session charset: UTF-8
* using option ‘--no-vignettes’
* checking for file ‘GeneBreak/DESCRIPTION’ ... OK
* checking extension type ... Package
* this is package ‘GeneBreak’ version ‘1.39.0’
* checking package namespace information ... OK
* checking package dependencies ... OK
* checking if this is a source package ... OK
* checking if there is a namespace ... OK
* checking for hidden files and directories ... OK
* checking for portable file names ... OK
* checking for sufficient/correct file permissions ... OK
* checking whether package ‘GeneBreak’ can be installed ... OK
* checking installed package size ... OK
* checking package directory ... OK
* checking ‘build’ directory ... OK
* checking DESCRIPTION meta-information ... OK
* checking top-level files ... OK
* checking for left-over files ... OK
* checking index information ... OK
* checking package subdirectories ... OK
* checking code files for non-ASCII characters ... OK
* checking R files for syntax errors ... OK
* checking whether the package can be loaded ... OK
* checking whether the package can be loaded with stated dependencies ... OK
* checking whether the package can be unloaded cleanly ... OK
* checking whether the namespace can be loaded with stated dependencies ... OK
* checking whether the namespace can be unloaded cleanly ... OK
* checking loading without being on the library search path ... OK
* checking dependencies in R code ... OK
* checking S3 generic/method consistency ... OK
* checking replacement functions ... OK
* checking foreign function calls ... OK
* checking R code for possible problems ... NOTE
.glmbreak: no visible global function definition for ‘glm’
.glmbreak: no visible global function definition for ‘predict’
addGeneAnnotation,CopyNumberBreakPoints: no visible global function
definition for ‘head’
bpStats,CopyNumberBreakPoints: no visible global function definition
for ‘sd’
bpStats,CopyNumberBreakPoints: no visible global function definition
for ‘p.adjust’
Undefined global functions or variables:
glm head p.adjust predict sd
Consider adding
importFrom("stats", "glm", "p.adjust", "predict", "sd")
importFrom("utils", "head")
to your NAMESPACE file.
* checking Rd files ... OK
* checking Rd metadata ... OK
* checking Rd cross-references ... OK
* checking for missing documentation entries ... OK
* checking for code/documentation mismatches ... OK
* checking Rd \usage sections ... OK
* checking Rd contents ... OK
* checking for unstated dependencies in examples ... OK
* checking contents of ‘data’ directory ... OK
* checking data for non-ASCII characters ... OK
* checking data for ASCII and uncompressed saves ... OK
* checking files in ‘vignettes’ ... OK
* checking examples ... OK
Examples with CPU (user + system) or elapsed time > 5s
user system elapsed
CopyNumberBreakPointGenes-class 6.860 0.104 6.988
bpPlot-CopyNumberBreakPoints-method 5.780 0.075 5.887
recurrentGenes-CopyNumberBreakPointGenes-method 5.756 0.044 5.829
bpStats-CopyNumberBreakPoints-method 5.688 0.084 5.805
* checking for unstated dependencies in vignettes ... OK
* checking package vignettes ... OK
* checking running R code from vignettes ... SKIPPED
* checking re-building of vignette outputs ... SKIPPED
* checking PDF version of manual ... OK
* DONE
Status: 1 NOTE
See
‘/home/biocbuild/bbs-3.22-bioc/meat/GeneBreak.Rcheck/00check.log’
for details.
GeneBreak.Rcheck/00install.out
############################################################################## ############################################################################## ### ### Running command: ### ### /home/biocbuild/R/R/bin/R CMD INSTALL GeneBreak ### ############################################################################## ############################################################################## * installing to library ‘/home/biocbuild/R/R-4.5.0/site-library’ * installing *source* package ‘GeneBreak’ ... ** this is package ‘GeneBreak’ version ‘1.39.0’ ** using staged installation ** R ** data ** byte-compile and prepare package for lazy loading Creating a new generic function for ‘segmentData’ in package ‘GeneBreak’ ** help *** installing help indices ** building package indices ** installing vignettes ** testing if installed package can be loaded from temporary location ** testing if installed package can be loaded from final location ** testing if installed package keeps a record of temporary installation path * DONE (GeneBreak)
GeneBreak.Rcheck/GeneBreak-Ex.timings
| name | user | system | elapsed | |
| CopyNumberBreakPointGenes-class | 6.860 | 0.104 | 6.988 | |
| CopyNumberBreakPoints-class | 1.684 | 0.063 | 1.756 | |
| accessOptions-CopyNumberBreakPoints-method | 0.867 | 0.028 | 0.899 | |
| addGeneAnnotation-CopyNumberBreakPoints-method | 2.150 | 0.020 | 2.183 | |
| bpFilter-CopyNumberBreakPoints-method | 1.532 | 0.032 | 1.573 | |
| bpGenes-CopyNumberBreakPointGenes-method | 2.372 | 0.020 | 2.404 | |
| bpPlot-CopyNumberBreakPoints-method | 5.780 | 0.075 | 5.887 | |
| bpStats-CopyNumberBreakPoints-method | 5.688 | 0.084 | 5.805 | |
| breakpointData-CopyNumberBreakPoints-method | 0.712 | 0.100 | 0.816 | |
| breakpointsPerGene-CopyNumberBreakPointGenes-method | 2.020 | 0.115 | 2.144 | |
| callData-CopyNumberBreakPoints-method | 1.103 | 0.088 | 1.196 | |
| featureChromosomes-CopyNumberBreakPoints-method | 0.857 | 0.012 | 0.873 | |
| featureInfo-CopyNumberBreakPoints-method | 2.063 | 0.048 | 2.119 | |
| featuresPerGene-CopyNumberBreakPointGenes-method | 2.051 | 0.008 | 2.068 | |
| geneChromosomes-CopyNumberBreakPointGenes-method | 2.016 | 0.013 | 2.039 | |
| geneInfo-CopyNumberBreakPointGenes-method | 1.855 | 0.030 | 1.896 | |
| getBreakpoints | 1.379 | 0.011 | 1.399 | |
| namesFeatures-CopyNumberBreakPoints-method | 0.927 | 0.020 | 0.951 | |
| recurrentGenes-CopyNumberBreakPointGenes-method | 5.756 | 0.044 | 5.829 | |
| sampleNames-CopyNumberBreakPoints-method | 0.923 | 0.016 | 0.943 | |
| segmentData-CopyNumberBreakPoints-method | 1.138 | 0.096 | 1.238 | |