| Back to Multiple platform build/check report for BioC 3.22: simplified long |
|
This page was generated on 2025-08-15 12:06 -0400 (Fri, 15 Aug 2025).
| Hostname | OS | Arch (*) | R version | Installed pkgs |
|---|---|---|---|---|
| nebbiolo2 | Linux (Ubuntu 24.04.3 LTS) | x86_64 | 4.5.1 (2025-06-13) -- "Great Square Root" | 4818 |
| palomino8 | Windows Server 2022 Datacenter | x64 | 4.5.1 (2025-06-13 ucrt) -- "Great Square Root" | 4554 |
| lconway | macOS 12.7.1 Monterey | x86_64 | 4.5.1 (2025-06-13) -- "Great Square Root" | 4595 |
| kjohnson3 | macOS 13.7.7 Ventura | arm64 | 4.5.1 Patched (2025-06-14 r88325) -- "Great Square Root" | 4537 |
| taishan | Linux (openEuler 24.03 LTS) | aarch64 | 4.5.0 (2025-04-11) -- "How About a Twenty-Six" | 4535 |
| Click on any hostname to see more info about the system (e.g. compilers) (*) as reported by 'uname -p', except on Windows and Mac OS X | ||||
| Package 793/2317 | Hostname | OS / Arch | INSTALL | BUILD | CHECK | BUILD BIN | ||||||||
| GeDi 1.5.0 (landing page) Annekathrin Nedwed
| nebbiolo2 | Linux (Ubuntu 24.04.3 LTS) / x86_64 | OK | OK | OK | |||||||||
| palomino8 | Windows Server 2022 Datacenter / x64 | OK | OK | OK | OK | |||||||||
| lconway | macOS 12.7.1 Monterey / x86_64 | OK | OK | OK | OK | |||||||||
| kjohnson3 | macOS 13.7.7 Ventura / arm64 | OK | OK | OK | OK | |||||||||
| taishan | Linux (openEuler 24.03 LTS) / aarch64 | OK | OK | OK | ||||||||||
|
To the developers/maintainers of the GeDi package: - Allow up to 24 hours (and sometimes 48 hours) for your latest push to git@git.bioconductor.org:packages/GeDi.git to reflect on this report. See Troubleshooting Build Report for more information. - Use the following Renviron settings to reproduce errors and warnings. - If 'R CMD check' started to fail recently on the Linux builder(s) over a missing dependency, add the missing dependency to 'Suggests:' in your DESCRIPTION file. See Renviron.bioc for more information. |
| Package: GeDi |
| Version: 1.5.0 |
| Command: F:\biocbuild\bbs-3.22-bioc\R\bin\R.exe CMD check --no-multiarch --install=check:GeDi.install-out.txt --library=F:\biocbuild\bbs-3.22-bioc\R\library --no-vignettes --timings GeDi_1.5.0.tar.gz |
| StartedAt: 2025-08-15 03:28:11 -0400 (Fri, 15 Aug 2025) |
| EndedAt: 2025-08-15 03:43:52 -0400 (Fri, 15 Aug 2025) |
| EllapsedTime: 941.4 seconds |
| RetCode: 0 |
| Status: OK |
| CheckDir: GeDi.Rcheck |
| Warnings: 0 |
##############################################################################
##############################################################################
###
### Running command:
###
### F:\biocbuild\bbs-3.22-bioc\R\bin\R.exe CMD check --no-multiarch --install=check:GeDi.install-out.txt --library=F:\biocbuild\bbs-3.22-bioc\R\library --no-vignettes --timings GeDi_1.5.0.tar.gz
###
##############################################################################
##############################################################################
* using log directory 'F:/biocbuild/bbs-3.22-bioc/meat/GeDi.Rcheck'
* using R version 4.5.1 (2025-06-13 ucrt)
* using platform: x86_64-w64-mingw32
* R was compiled by
gcc.exe (GCC) 14.2.0
GNU Fortran (GCC) 14.2.0
* running under: Windows Server 2022 x64 (build 20348)
* using session charset: UTF-8
* using option '--no-vignettes'
* checking for file 'GeDi/DESCRIPTION' ... OK
* this is package 'GeDi' version '1.5.0'
* package encoding: UTF-8
* checking package namespace information ... OK
* checking package dependencies ... INFO
Imports includes 29 non-default packages.
Importing from so many packages makes the package vulnerable to any of
them becoming unavailable. Move as many as possible to Suggests and
use conditionally.
* checking if this is a source package ... OK
* checking if there is a namespace ... OK
* checking for hidden files and directories ... OK
* checking for portable file names ... OK
* checking whether package 'GeDi' can be installed ... OK
* checking installed package size ... OK
* checking package directory ... OK
* checking 'build' directory ... OK
* checking DESCRIPTION meta-information ... OK
* checking top-level files ... OK
* checking for left-over files ... OK
* checking index information ... OK
* checking package subdirectories ... OK
* checking code files for non-ASCII characters ... OK
* checking R files for syntax errors ... OK
* checking whether the package can be loaded ... OK
* checking whether the package can be loaded with stated dependencies ... OK
* checking whether the package can be unloaded cleanly ... OK
* checking whether the namespace can be loaded with stated dependencies ... OK
* checking whether the namespace can be unloaded cleanly ... OK
* checking whether startup messages can be suppressed ... OK
* checking dependencies in R code ... OK
* checking S3 generic/method consistency ... OK
* checking replacement functions ... OK
* checking foreign function calls ... OK
* checking R code for possible problems ... OK
* checking Rd files ... OK
* checking Rd metadata ... OK
* checking Rd cross-references ... NOTE
Found the following Rd file(s) with Rd \link{} targets missing package
anchors:
buildClusterGraph.Rd: igraph
dot-graphMetricsGenesetsDT.Rd: igraph
getAnnotation.Rd: STRINGdb
getId.Rd: STRINGdb
getPPI.Rd: STRINGdb
getStringDB.Rd: STRINGdb
Please provide package anchors for all Rd \link{} targets not in the
package itself and the base packages.
* checking for missing documentation entries ... OK
* checking for code/documentation mismatches ... OK
* checking Rd \usage sections ... OK
* checking Rd contents ... OK
* checking for unstated dependencies in examples ... OK
* checking contents of 'data' directory ... OK
* checking data for non-ASCII characters ... OK
* checking data for ASCII and uncompressed saves ... OK
* checking files in 'vignettes' ... OK
* checking examples ... OK
Examples with CPU (user + system) or elapsed time > 5s
user system elapsed
getAnnotation 145.80 6.15 158.31
getPPI 99.21 3.94 103.73
scaleGO 6.78 0.51 7.31
goDistance 6.08 0.36 6.52
* checking for unstated dependencies in 'tests' ... OK
* checking tests ...
Running 'testthat.R'
OK
* checking for unstated dependencies in vignettes ... OK
* checking package vignettes ... OK
* checking running R code from vignettes ... SKIPPED
* checking re-building of vignette outputs ... SKIPPED
* checking PDF version of manual ... OK
* DONE
Status: 1 NOTE
See
'F:/biocbuild/bbs-3.22-bioc/meat/GeDi.Rcheck/00check.log'
for details.
GeDi.Rcheck/00install.out
############################################################################## ############################################################################## ### ### Running command: ### ### F:\biocbuild\bbs-3.22-bioc\R\bin\R.exe CMD INSTALL GeDi ### ############################################################################## ############################################################################## * installing to library 'F:/biocbuild/bbs-3.22-bioc/R/library' * installing *source* package 'GeDi' ... ** this is package 'GeDi' version '1.5.0' ** using staged installation ** R ** data ** inst ** byte-compile and prepare package for lazy loading ** help *** installing help indices *** copying figures ** building package indices ** installing vignettes ** testing if installed package can be loaded from temporary location ** testing if installed package can be loaded from final location ** testing if installed package keeps a record of temporary installation path * DONE (GeDi)
GeDi.Rcheck/tests/testthat.Rout
R version 4.5.1 (2025-06-13 ucrt) -- "Great Square Root"
Copyright (C) 2025 The R Foundation for Statistical Computing
Platform: x86_64-w64-mingw32/x64
R is free software and comes with ABSOLUTELY NO WARRANTY.
You are welcome to redistribute it under certain conditions.
Type 'license()' or 'licence()' for distribution details.
R is a collaborative project with many contributors.
Type 'contributors()' for more information and
'citation()' on how to cite R or R packages in publications.
Type 'demo()' for some demos, 'help()' for on-line help, or
'help.start()' for an HTML browser interface to help.
Type 'q()' to quit R.
> library(testthat)
> library(GeDi)
>
> test_check("GeDi")
trying URL 'https://stringdb-downloads.org/download/protein.aliases.v12.0/9606.protein.aliases.v12.0.txt.gz'
Content type 'application/octet-stream' length 19777800 bytes (18.9 MB)
==================================================
downloaded 18.9 MB
trying URL 'https://stringdb-downloads.org/download/protein.info.v12.0/9606.protein.info.v12.0.txt.gz'
Content type 'application/octet-stream' length 1970090 bytes (1.9 MB)
==================================================
downloaded 1.9 MB
trying URL 'https://stringdb-downloads.org/download/protein.links.v12.0/9606.protein.links.v12.0.txt.gz'
Content type 'application/octet-stream' length 83164437 bytes (79.3 MB)
==================================================
downloaded 79.3 MB
preparing gene to GO mapping data...
preparing gene to GO mapping data...
[ FAIL 0 | WARN 9 | SKIP 0 | PASS 185 ]
[ FAIL 0 | WARN 9 | SKIP 0 | PASS 185 ]
>
> proc.time()
user system elapsed
184.00 9.35 201.46
GeDi.Rcheck/GeDi-Ex.timings
| name | user | system | elapsed | |
| GeDi | 0 | 0 | 0 | |
| buildClusterGraph | 0.19 | 0.00 | 0.20 | |
| buildGraph | 0.02 | 0.00 | 0.02 | |
| buildHistogramData | 0.01 | 0.00 | 0.01 | |
| calculateJaccard | 0.02 | 0.01 | 0.03 | |
| calculateKappa | 0.04 | 0.00 | 0.05 | |
| calculateSorensenDice | 0.02 | 0.00 | 0.01 | |
| checkInclusion | 0.00 | 0.02 | 0.02 | |
| clustering | 0.20 | 0.03 | 0.27 | |
| deprecated | 0 | 0 | 0 | |
| distanceDendro | 0.14 | 0.05 | 0.18 | |
| distanceHeatmap | 0.27 | 0.04 | 0.25 | |
| enrichmentWordcloud | 0.72 | 0.42 | 0.58 | |
| fuzzyClustering | 0.01 | 0.02 | 0.02 | |
| getAdjacencyMatrix | 0.13 | 0.06 | 0.09 | |
| getAnnotation | 145.80 | 6.15 | 158.31 | |
| getBipartiteGraph | 0.02 | 0.00 | 0.01 | |
| getClusterAdjacencyMatrix | 0.06 | 0.00 | 0.07 | |
| getGraphTitle | 0.02 | 0.00 | 0.01 | |
| getId | 0.20 | 0.00 | 1.85 | |
| getInteractionScore | 0.01 | 0.04 | 0.04 | |
| getJaccardMatrix | 0.55 | 0.01 | 0.57 | |
| getKappaMatrix | 1.41 | 0.20 | 1.61 | |
| getMeetMinMatrix | 1.01 | 0.13 | 1.14 | |
| getPPI | 99.21 | 3.94 | 103.73 | |
| getSorensenDiceMatrix | 0.57 | 0.03 | 0.61 | |
| getStringDB | 0.11 | 0.00 | 1.20 | |
| getpMMMatrix | 1.19 | 0.01 | 1.20 | |
| goDistance | 6.08 | 0.36 | 6.52 | |
| gsHistogram | 0.05 | 0.00 | 0.04 | |
| kMeansClustering | 0.01 | 0.00 | 0.02 | |
| kNN_clustering | 0.00 | 0.02 | 0.02 | |
| louvainClustering | 0.08 | 0.00 | 0.07 | |
| markovClustering | 0.09 | 0.01 | 0.11 | |
| pMMlocal | 0.03 | 0.02 | 0.05 | |
| pamClustering | 0.02 | 0.00 | 0.01 | |
| prepareGenesetData | 0.03 | 0.00 | 0.03 | |
| scaleGO | 6.78 | 0.51 | 7.31 | |
| seedFinding | 0.01 | 0.00 | 0.02 | |