| Back to Multiple platform build/check report for BioC 3.22: simplified long |
|
This page was generated on 2025-10-21 12:07 -0400 (Tue, 21 Oct 2025).
| Hostname | OS | Arch (*) | R version | Installed pkgs |
|---|---|---|---|---|
| nebbiolo2 | Linux (Ubuntu 24.04.3 LTS) | x86_64 | 4.5.1 Patched (2025-08-23 r88802) -- "Great Square Root" | 4887 |
| lconway | macOS 12.7.6 Monterey | x86_64 | 4.5.1 Patched (2025-09-10 r88807) -- "Great Square Root" | 4677 |
| kjohnson3 | macOS 13.7.7 Ventura | arm64 | 4.5.1 Patched (2025-09-10 r88807) -- "Great Square Root" | 4622 |
| taishan | Linux (openEuler 24.03 LTS) | aarch64 | 4.5.0 (2025-04-11) -- "How About a Twenty-Six" | 4642 |
| Click on any hostname to see more info about the system (e.g. compilers) (*) as reported by 'uname -p', except on Windows and Mac OS X | ||||
| Package 901/2353 | Hostname | OS / Arch | INSTALL | BUILD | CHECK | BUILD BIN | ||||||||
| GOexpress 1.43.1 (landing page) Kevin Rue-Albrecht
| nebbiolo2 | Linux (Ubuntu 24.04.3 LTS) / x86_64 | OK | OK | OK | |||||||||
| lconway | macOS 12.7.6 Monterey / x86_64 | OK | OK | OK | OK | |||||||||
| kjohnson3 | macOS 13.7.7 Ventura / arm64 | OK | OK | OK | OK | |||||||||
| taishan | Linux (openEuler 24.03 LTS) / aarch64 | OK | OK | OK | ||||||||||
|
To the developers/maintainers of the GOexpress package: - Allow up to 24 hours (and sometimes 48 hours) for your latest push to git@git.bioconductor.org:packages/GOexpress.git to reflect on this report. See Troubleshooting Build Report for more information. - Use the following Renviron settings to reproduce errors and warnings. - If 'R CMD check' started to fail recently on the Linux builder(s) over a missing dependency, add the missing dependency to 'Suggests:' in your DESCRIPTION file. See Renviron.bioc for more information. - See Martin Grigorov's blog post for how to debug Linux ARM64 related issues on a x86_64 host. |
| Package: GOexpress |
| Version: 1.43.1 |
| Command: /home/biocbuild/R/R/bin/R CMD check --install=check:GOexpress.install-out.txt --library=/home/biocbuild/R/R/site-library --no-vignettes --timings GOexpress_1.43.1.tar.gz |
| StartedAt: 2025-10-17 09:42:23 -0000 (Fri, 17 Oct 2025) |
| EndedAt: 2025-10-17 09:45:06 -0000 (Fri, 17 Oct 2025) |
| EllapsedTime: 163.1 seconds |
| RetCode: 0 |
| Status: OK |
| CheckDir: GOexpress.Rcheck |
| Warnings: 0 |
##############################################################################
##############################################################################
###
### Running command:
###
### /home/biocbuild/R/R/bin/R CMD check --install=check:GOexpress.install-out.txt --library=/home/biocbuild/R/R/site-library --no-vignettes --timings GOexpress_1.43.1.tar.gz
###
##############################################################################
##############################################################################
* using log directory ‘/home/biocbuild/bbs-3.22-bioc/meat/GOexpress.Rcheck’
* using R version 4.5.0 (2025-04-11)
* using platform: aarch64-unknown-linux-gnu
* R was compiled by
aarch64-unknown-linux-gnu-gcc (GCC) 14.2.0
GNU Fortran (GCC) 14.2.0
* running under: openEuler 24.03 (LTS)
* using session charset: UTF-8
* using option ‘--no-vignettes’
* checking for file ‘GOexpress/DESCRIPTION’ ... OK
* this is package ‘GOexpress’ version ‘1.43.1’
* checking package namespace information ... OK
* checking package dependencies ... OK
* checking if this is a source package ... OK
* checking if there is a namespace ... OK
* checking for hidden files and directories ... NOTE
Found the following hidden files and directories:
.travis.yml
These were most likely included in error. See section ‘Package
structure’ in the ‘Writing R Extensions’ manual.
* checking for portable file names ... OK
* checking for sufficient/correct file permissions ... OK
* checking whether package ‘GOexpress’ can be installed ... OK
* checking installed package size ... OK
* checking package directory ... OK
* checking ‘build’ directory ... OK
* checking DESCRIPTION meta-information ... OK
* checking top-level files ... OK
* checking for left-over files ... OK
* checking index information ... OK
* checking package subdirectories ... OK
* checking code files for non-ASCII characters ... OK
* checking R files for syntax errors ... OK
* checking whether the package can be loaded ... OK
* checking whether the package can be loaded with stated dependencies ... OK
* checking whether the package can be unloaded cleanly ... OK
* checking whether the namespace can be loaded with stated dependencies ... OK
* checking whether the namespace can be unloaded cleanly ... OK
* checking loading without being on the library search path ... OK
* checking dependencies in R code ... OK
* checking S3 generic/method consistency ... OK
* checking replacement functions ... OK
* checking foreign function calls ... OK
* checking R code for possible problems ... NOTE
GO_analyse: no visible binding for global variable ‘microarray2dataset’
GO_analyse: no visible binding for global variable ‘prefix2dataset’
mart_from_ensembl: no visible binding for global variable
‘prefix2dataset’
Undefined global functions or variables:
microarray2dataset prefix2dataset
* checking Rd files ... NOTE
checkRd: (-1) AlvMac_GOgenes.Rd:22-23: Lost braces in \itemize; \value handles \item{}{} directly
checkRd: (-1) AlvMac_GOgenes.Rd:24: Lost braces in \itemize; \value handles \item{}{} directly
checkRd: (-1) AlvMac_allGO.Rd:23: Lost braces in \itemize; \value handles \item{}{} directly
checkRd: (-1) AlvMac_allGO.Rd:24: Lost braces in \itemize; \value handles \item{}{} directly
checkRd: (-1) AlvMac_allGO.Rd:25-27: Lost braces in \itemize; \value handles \item{}{} directly
checkRd: (-1) AlvMac_allgenes.Rd:23: Lost braces in \itemize; \value handles \item{}{} directly
checkRd: (-1) AlvMac_allgenes.Rd:24: Lost braces in \itemize; \value handles \item{}{} directly
checkRd: (-1) AlvMac_allgenes.Rd:25: Lost braces in \itemize; \value handles \item{}{} directly
checkRd: (-1) hist_scores.Rd:11: Lost braces; missing escapes or markup?
11 | variable of the {GO_analyse()} function.
| ^
* checking Rd metadata ... OK
* checking Rd cross-references ... OK
* checking for missing documentation entries ... OK
* checking for code/documentation mismatches ... OK
* checking Rd \usage sections ... OK
* checking Rd contents ... OK
* checking for unstated dependencies in examples ... OK
* checking contents of ‘data’ directory ... OK
* checking data for non-ASCII characters ... OK
* checking LazyData ... OK
* checking data for ASCII and uncompressed saves ... OK
* checking files in ‘vignettes’ ... OK
* checking examples ... OK
* checking for unstated dependencies in vignettes ... OK
* checking package vignettes ... OK
* checking running R code from vignettes ... SKIPPED
* checking re-building of vignette outputs ... SKIPPED
* checking PDF version of manual ... OK
* DONE
Status: 3 NOTEs
See
‘/home/biocbuild/bbs-3.22-bioc/meat/GOexpress.Rcheck/00check.log’
for details.
GOexpress.Rcheck/00install.out
############################################################################## ############################################################################## ### ### Running command: ### ### /home/biocbuild/R/R/bin/R CMD INSTALL GOexpress ### ############################################################################## ############################################################################## * installing to library ‘/home/biocbuild/R/R-4.5.0/site-library’ * installing *source* package ‘GOexpress’ ... ** this is package ‘GOexpress’ version ‘1.43.1’ ** using staged installation ** R ** data *** moving datasets to lazyload DB ** inst ** byte-compile and prepare package for lazy loading ** help *** installing help indices ** building package indices ** installing vignettes ** testing if installed package can be loaded from temporary location ** testing if installed package can be loaded from final location ** testing if installed package keeps a record of temporary installation path * DONE (GOexpress)
GOexpress.Rcheck/GOexpress-Ex.timings
| name | user | system | elapsed | |
| AlvMac | 0.123 | 0.008 | 0.131 | |
| AlvMac_GOgenes | 0.091 | 0.004 | 0.095 | |
| AlvMac_allGO | 0.036 | 0.000 | 0.035 | |
| AlvMac_allgenes | 0.007 | 0.000 | 0.007 | |
| AlvMac_results | 0.541 | 0.043 | 0.586 | |
| AlvMac_results.pVal | 0.838 | 0.208 | 1.048 | |
| GO_analyse | 2.841 | 0.048 | 2.897 | |
| GOexpress-package | 0.003 | 0.000 | 0.003 | |
| cluster_GO | 0.144 | 0.004 | 0.149 | |
| expression_plot | 3.366 | 0.036 | 3.412 | |
| expression_plot_symbol | 1.581 | 0.012 | 1.597 | |
| expression_profiles | 1.062 | 0.004 | 1.068 | |
| expression_profiles_symbol | 1.089 | 0.000 | 1.092 | |
| heatmap_GO | 0.642 | 0.028 | 0.673 | |
| hist_scores | 0.724 | 0.042 | 0.768 | |
| list_genes | 0.110 | 0.012 | 0.121 | |
| microarray2dataset | 0.007 | 0.000 | 0.007 | |
| pValue_GO | 0 | 0 | 0 | |
| plot_design | 0.147 | 0.000 | 0.147 | |
| prefix2dataset | 0.008 | 0.000 | 0.007 | |
| quantiles_scores | 0.139 | 0.004 | 0.143 | |
| rerank | 0.208 | 0.007 | 0.216 | |
| subEset | 0.051 | 0.000 | 0.050 | |
| subset_scores | 0.204 | 0.000 | 0.205 | |
| table_genes | 0.123 | 0.000 | 0.124 | |