Back to Multiple platform build/check report for BioC 3.23:   simplified   long
ABCDEF[G]HIJKLMNOPQRSTUVWXYZ

This page was generated on 2025-11-15 11:35 -0500 (Sat, 15 Nov 2025).

HostnameOSArch (*)R versionInstalled pkgs
nebbiolo1Linux (Ubuntu 24.04.3 LTS)x86_64R Under development (unstable) (2025-10-20 r88955) -- "Unsuffered Consequences" 4826
kjohnson3macOS 13.7.7 Venturaarm64R Under development (unstable) (2025-11-04 r88984) -- "Unsuffered Consequences" 4561
Click on any hostname to see more info about the system (e.g. compilers)      (*) as reported by 'uname -p', except on Windows and Mac OS X

Package 784/2325HostnameOS / ArchINSTALLBUILDCHECKBUILD BIN
GBScleanR 2.5.2  (landing page)
Tomoyuki Furuta
Snapshot Date: 2025-11-14 13:40 -0500 (Fri, 14 Nov 2025)
git_url: https://git.bioconductor.org/packages/GBScleanR
git_branch: devel
git_last_commit: 6f12fb4
git_last_commit_date: 2025-11-14 07:14:30 -0500 (Fri, 14 Nov 2025)
nebbiolo1Linux (Ubuntu 24.04.3 LTS) / x86_64  OK    ERROR  skipped
kjohnson3macOS 13.7.7 Ventura / arm64  OK    ERROR  skippedskipped


BUILD results for GBScleanR on kjohnson3

To the developers/maintainers of the GBScleanR package:
- Allow up to 24 hours (and sometimes 48 hours) for your latest push to git@git.bioconductor.org:packages/GBScleanR.git to reflect on this report. See Troubleshooting Build Report for more information.
- Use the following Renviron settings to reproduce errors and warnings.
- If 'R CMD check' started to fail recently on the Linux builder(s) over a missing dependency, add the missing dependency to 'Suggests:' in your DESCRIPTION file. See Renviron.bioc for more information.

raw results


Summary

Package: GBScleanR
Version: 2.5.2
Command: /Library/Frameworks/R.framework/Resources/bin/R CMD build --keep-empty-dirs --no-resave-data GBScleanR
StartedAt: 2025-11-14 16:24:00 -0500 (Fri, 14 Nov 2025)
EndedAt: 2025-11-14 16:24:26 -0500 (Fri, 14 Nov 2025)
EllapsedTime: 25.3 seconds
RetCode: 1
Status:   ERROR  
PackageFile: None
PackageFileSize: NA

Command output

##############################################################################
##############################################################################
###
### Running command:
###
###   /Library/Frameworks/R.framework/Resources/bin/R CMD build --keep-empty-dirs --no-resave-data GBScleanR
###
##############################################################################
##############################################################################


* checking for file ‘GBScleanR/DESCRIPTION’ ... OK
* preparing ‘GBScleanR’:
* checking DESCRIPTION meta-information ... OK
* cleaning src
* installing the package (it is needed to build vignettes)
* creating vignettes ... ERROR
--- re-building ‘BasicUsageOfGBScleanR.rmd’ using rmarkdown
2025-11-14 16:24:21.280 R[64873:27502681] XType: Using static font registry.

Quitting from BasicUsageOfGBScleanR.rmd:401-403 [unnamed-chunk-53]
~~~~~~~~~~~~~~~~~~~~~~~~~~~~~~~~~~~~~~~~~~~~~~~~~~~~~~~~~~~~~~~~~~~~~~~~~~~~~~~~
<error/rlang_error>
Error in `seqOptimize()`:
! unused argument (gdsfn = object$filename)
---
Backtrace:
    ▆
 1. ├─GBScleanR::setCallFilter(gds, dp_count = c(5, Inf))
 2. └─GBScleanR::setCallFilter(gds, dp_count = c(5, Inf))
 3.   └─GBScleanR (local) .local(...)
~~~~~~~~~~~~~~~~~~~~~~~~~~~~~~~~~~~~~~~~~~~~~~~~~~~~~~~~~~~~~~~~~~~~~~~~~~~~~~~~

Error: processing vignette 'BasicUsageOfGBScleanR.rmd' failed with diagnostics:
unused argument (gdsfn = object$filename)
--- failed re-building ‘BasicUsageOfGBScleanR.rmd’

SUMMARY: processing the following file failed:
  ‘BasicUsageOfGBScleanR.rmd’

Error: Vignette re-building failed.
Execution halted