Back to Multiple platform build/check report for BioC 3.22:   simplified   long
ABCDE[F]GHIJKLMNOPQRSTUVWXYZ

This page was generated on 2025-10-02 12:07 -0400 (Thu, 02 Oct 2025).

HostnameOSArch (*)R versionInstalled pkgs
nebbiolo2Linux (Ubuntu 24.04.3 LTS)x86_644.5.1 Patched (2025-08-23 r88802) -- "Great Square Root" 4844
lconwaymacOS 12.7.1 Montereyx86_644.5.1 Patched (2025-09-10 r88807) -- "Great Square Root" 4631
kjohnson3macOS 13.7.7 Venturaarm644.5.1 Patched (2025-09-10 r88807) -- "Great Square Root" 4576
taishanLinux (openEuler 24.03 LTS)aarch644.5.0 (2025-04-11) -- "How About a Twenty-Six" 4576
Click on any hostname to see more info about the system (e.g. compilers)      (*) as reported by 'uname -p', except on Windows and Mac OS X

Package 730/2337HostnameOS / ArchINSTALLBUILDCHECKBUILD BIN
FindIT2 1.15.1  (landing page)
Guandong Shang
Snapshot Date: 2025-10-01 13:45 -0400 (Wed, 01 Oct 2025)
git_url: https://git.bioconductor.org/packages/FindIT2
git_branch: devel
git_last_commit: 82d0b10
git_last_commit_date: 2025-07-22 19:49:08 -0400 (Tue, 22 Jul 2025)
nebbiolo2Linux (Ubuntu 24.04.3 LTS) / x86_64  OK    OK    OK  UNNEEDED, same version is already published
lconwaymacOS 12.7.1 Monterey / x86_64  OK    OK    OK    OK  UNNEEDED, same version is already published
kjohnson3macOS 13.7.7 Ventura / arm64  OK    OK    OK    OK  UNNEEDED, same version is already published
taishanLinux (openEuler 24.03 LTS) / aarch64  OK    OK    OK  


CHECK results for FindIT2 on taishan

To the developers/maintainers of the FindIT2 package:
- Allow up to 24 hours (and sometimes 48 hours) for your latest push to git@git.bioconductor.org:packages/FindIT2.git to reflect on this report. See Troubleshooting Build Report for more information.
- Use the following Renviron settings to reproduce errors and warnings.
- If 'R CMD check' started to fail recently on the Linux builder(s) over a missing dependency, add the missing dependency to 'Suggests:' in your DESCRIPTION file. See Renviron.bioc for more information.
- See Martin Grigorov's blog post for how to debug Linux ARM64 related issues on a x86_64 host.

raw results


Summary

Package: FindIT2
Version: 1.15.1
Command: /home/biocbuild/R/R/bin/R CMD check --install=check:FindIT2.install-out.txt --library=/home/biocbuild/R/R/site-library --no-vignettes --timings FindIT2_1.15.1.tar.gz
StartedAt: 2025-09-30 08:20:37 -0000 (Tue, 30 Sep 2025)
EndedAt: 2025-09-30 08:28:12 -0000 (Tue, 30 Sep 2025)
EllapsedTime: 454.8 seconds
RetCode: 0
Status:   OK  
CheckDir: FindIT2.Rcheck
Warnings: 0

Command output

##############################################################################
##############################################################################
###
### Running command:
###
###   /home/biocbuild/R/R/bin/R CMD check --install=check:FindIT2.install-out.txt --library=/home/biocbuild/R/R/site-library --no-vignettes --timings FindIT2_1.15.1.tar.gz
###
##############################################################################
##############################################################################


* using log directory ‘/home/biocbuild/bbs-3.22-bioc/meat/FindIT2.Rcheck’
* using R version 4.5.0 (2025-04-11)
* using platform: aarch64-unknown-linux-gnu
* R was compiled by
    aarch64-unknown-linux-gnu-gcc (GCC) 14.2.0
    GNU Fortran (GCC) 14.2.0
* running under: openEuler 24.03 (LTS)
* using session charset: UTF-8
* using option ‘--no-vignettes’
* checking for file ‘FindIT2/DESCRIPTION’ ... OK
* this is package ‘FindIT2’ version ‘1.15.1’
* package encoding: UTF-8
* checking package namespace information ... OK
* checking package dependencies ... INFO
Imports includes 22 non-default packages.
Importing from so many packages makes the package vulnerable to any of
them becoming unavailable.  Move as many as possible to Suggests and
use conditionally.
* checking if this is a source package ... OK
* checking if there is a namespace ... OK
* checking for hidden files and directories ... OK
* checking for portable file names ... OK
* checking for sufficient/correct file permissions ... OK
* checking whether package ‘FindIT2’ can be installed ... OK
* checking installed package size ... OK
* checking package directory ... OK
* checking ‘build’ directory ... OK
* checking DESCRIPTION meta-information ... OK
* checking top-level files ... OK
* checking for left-over files ... OK
* checking index information ... OK
* checking package subdirectories ... OK
* checking code files for non-ASCII characters ... OK
* checking R files for syntax errors ... OK
* checking whether the package can be loaded ... OK
* checking whether the package can be loaded with stated dependencies ... OK
* checking whether the package can be unloaded cleanly ... OK
* checking whether the namespace can be loaded with stated dependencies ... OK
* checking whether the namespace can be unloaded cleanly ... OK
* checking loading without being on the library search path ... OK
* checking dependencies in R code ... OK
* checking S3 generic/method consistency ... OK
* checking replacement functions ... OK
* checking foreign function calls ... OK
* checking R code for possible problems ... OK
* checking Rd files ... OK
* checking Rd metadata ... OK
* checking Rd cross-references ... OK
* checking for missing documentation entries ... OK
* checking for code/documentation mismatches ... OK
* checking Rd \usage sections ... OK
* checking Rd contents ... OK
* checking for unstated dependencies in examples ... OK
* checking contents of ‘data’ directory ... OK
* checking data for non-ASCII characters ... OK
* checking data for ASCII and uncompressed saves ... OK
* checking files in ‘vignettes’ ... OK
* checking examples ... OK
Examples with CPU (user + system) or elapsed time > 5s
                 user system elapsed
findIT_regionRP 7.771  0.068   7.860
calcRP_region   7.136  0.095   7.253
calcRP_coverage 6.367  0.152   6.538
* checking for unstated dependencies in ‘tests’ ... OK
* checking tests ...
  Running ‘testthat.R’
 OK
* checking for unstated dependencies in vignettes ... OK
* checking package vignettes ... OK
* checking running R code from vignettes ... SKIPPED
* checking re-building of vignette outputs ... SKIPPED
* checking PDF version of manual ... OK
* DONE

Status: OK


Installation output

FindIT2.Rcheck/00install.out

##############################################################################
##############################################################################
###
### Running command:
###
###   /home/biocbuild/R/R/bin/R CMD INSTALL FindIT2
###
##############################################################################
##############################################################################


* installing to library ‘/home/biocbuild/R/R-4.5.0/site-library’
* installing *source* package ‘FindIT2’ ...
** this is package ‘FindIT2’ version ‘1.15.1’
** using staged installation
** R
** data
** inst
** byte-compile and prepare package for lazy loading
** help
*** installing help indices
** building package indices
** installing vignettes
** testing if installed package can be loaded from temporary location
** testing if installed package can be loaded from final location
** testing if installed package keeps a record of temporary installation path
* DONE (FindIT2)

Tests output

FindIT2.Rcheck/tests/testthat.Rout


R version 4.5.0 (2025-04-11) -- "How About a Twenty-Six"
Copyright (C) 2025 The R Foundation for Statistical Computing
Platform: aarch64-unknown-linux-gnu

R is free software and comes with ABSOLUTELY NO WARRANTY.
You are welcome to redistribute it under certain conditions.
Type 'license()' or 'licence()' for distribution details.

R is a collaborative project with many contributors.
Type 'contributors()' for more information and
'citation()' on how to cite R or R packages in publications.

Type 'demo()' for some demos, 'help()' for on-line help, or
'help.start()' for an HTML browser interface to help.
Type 'q()' to quit R.

> library(testthat)
> library(FindIT2)
Loading required package: GenomicRanges
Loading required package: stats4
Loading required package: BiocGenerics
Loading required package: generics

Attaching package: 'generics'

The following objects are masked from 'package:base':

    as.difftime, as.factor, as.ordered, intersect, is.element, setdiff,
    setequal, union


Attaching package: 'BiocGenerics'

The following objects are masked from 'package:stats':

    IQR, mad, sd, var, xtabs

The following objects are masked from 'package:base':

    Filter, Find, Map, Position, Reduce, anyDuplicated, aperm, append,
    as.data.frame, basename, cbind, colnames, dirname, do.call,
    duplicated, eval, evalq, get, grep, grepl, is.unsorted, lapply,
    mapply, match, mget, order, paste, pmax, pmax.int, pmin, pmin.int,
    rank, rbind, rownames, sapply, saveRDS, table, tapply, unique,
    unsplit, which.max, which.min

Loading required package: S4Vectors

Attaching package: 'S4Vectors'

The following object is masked from 'package:utils':

    findMatches

The following objects are masked from 'package:base':

    I, expand.grid, unname

Loading required package: IRanges
Loading required package: Seqinfo
> if (!requireNamespace("TxDb.Athaliana.BioMart.plantsmart28")) {
+     stop("unable to load TxDb.Athaliana.BioMart.plantsmart28")
+ }
Loading required namespace: TxDb.Athaliana.BioMart.plantsmart28
> 
> test_check("FindIT2")
>> preparing gene features information...		2025-09-30 08:27:01
>> some scan range may cross Chr bound, trimming...		2025-09-30 08:27:02
>> preparing weight info...		2025-09-30 08:27:02
>> loading E50h_sampleChr5.bw info...		2025-09-30 08:27:02
------------
>> extracting and calcluating Chr5 signal...		2025-09-30 08:27:02
>> dealing with Chr5 left gene signal...		2025-09-30 08:27:08
>> norming Chr5RP accoring to the whole Chr RP...		2025-09-30 08:27:08
>> merging all Chr RP together...		2025-09-30 08:27:08
>> done		2025-09-30 08:27:08
>> checking seqlevels match...		2025-09-30 08:27:08
>> your peak_GR seqlevel:Chr5...
>> your Txdb seqlevel:Chr1 Chr2 Chr3 Chr4 Chr5 ChrM ChrC...
Good, your Chrs in peak_GR is all in Txdb
------------
annotatePeak using geneScan mode begins
>> preparing gene features information and scan region...		2025-09-30 08:27:08
>> some scan range may cross Chr bound, trimming...		2025-09-30 08:27:09
>> finding overlap peak in gene scan region...		2025-09-30 08:27:09
>> dealing with left peak not your gene scan region...		2025-09-30 08:27:09
>> merging two set peaks...		2025-09-30 08:27:10
>> calculating distance and dealing with gene strand...		2025-09-30 08:27:10
>> merging all info together ...		2025-09-30 08:27:10
>> done		2025-09-30 08:27:10
>> calculating peakCenter to TSS using peak-gene pair...		2025-09-30 08:27:10
>> pre-filling 1356 noAssoc peak gene's RP with 0...		2025-09-30 08:27:11
>> calculating RP using centerToTSS and peak score2025-09-30 08:27:11
>> merging all info together		2025-09-30 08:27:13
>> done		2025-09-30 08:27:14
>> calculating peakCenter to TSS using peak-gene pair...		2025-09-30 08:27:14
>> pre-filling 1356 noAssoc peak gene's RP with 0...		2025-09-30 08:27:15
>> calculating RP using centerToTSS and peak score2025-09-30 08:27:15
>> merging all info together		2025-09-30 08:27:19
>> done		2025-09-30 08:27:19
>> checking seqlevels match...		2025-09-30 08:27:19
>> your peak_GR seqlevel:Chr5...
>> your Txdb seqlevel:Chr1 Chr2 Chr3 Chr4 Chr5 ChrM ChrC...
Good, your Chrs in peak_GR is all in Txdb
------------
annotatePeak using geneScan mode begins
>> preparing gene features information and scan region...		2025-09-30 08:27:20
>> some scan range may cross Chr bound, trimming...		2025-09-30 08:27:20
>> finding overlap peak in gene scan region...		2025-09-30 08:27:20
>> dealing with left peak not your gene scan region...		2025-09-30 08:27:21
>> merging two set peaks...		2025-09-30 08:27:21
>> calculating distance and dealing with gene strand...		2025-09-30 08:27:21
>> merging all info together ...		2025-09-30 08:27:21
>> done		2025-09-30 08:27:21
>> calculating peakCenter to TSS using peak-gene pair...		2025-09-30 08:27:21
>> calculating RP using centerToTSS and TF hit		2025-09-30 08:27:23
>> merging all info together		2025-09-30 08:27:23
>> done		2025-09-30 08:27:23
>> calculating peakCenter to TSS using peak-gene pair...		2025-09-30 08:27:23
>> calculating RP using centerToTSS and TF hit		2025-09-30 08:27:23
>> merging all info together		2025-09-30 08:27:23
>> done		2025-09-30 08:27:24
>> checking seqlevels match...		2025-09-30 08:27:24
>> your peak_GR seqlevel:Chr5...
>> your Txdb seqlevel:Chr1 Chr2 Chr3 Chr4 Chr5 ChrM ChrC...
Good, your Chrs in peak_GR is all in Txdb
------------
annotatePeak using geneScan mode begins
>> preparing gene features information and scan region...		2025-09-30 08:27:24
>> some scan range may cross Chr bound, trimming...		2025-09-30 08:27:25
>> finding overlap peak in gene scan region...		2025-09-30 08:27:25
>> dealing with left peak not your gene scan region...		2025-09-30 08:27:25
>> merging two set peaks...		2025-09-30 08:27:26
>> calculating distance and dealing with gene strand...		2025-09-30 08:27:26
>> merging all info together ...		2025-09-30 08:27:26
>> done		2025-09-30 08:27:26
>> calculating peakCenter to TSS using peak-gene pair...		2025-09-30 08:27:26
>> pre-filling 1356 noAssoc peak gene's RP with 0...		2025-09-30 08:27:26
>> calculating RP using centerToTSS and peak score2025-09-30 08:27:26
>> merging all info together		2025-09-30 08:27:29
>> done		2025-09-30 08:27:29
>> extracting RP info from regionRP...		2025-09-30 08:27:30
>> dealing with TF_GR_databse...		2025-09-30 08:27:30
>> calculating percent and p-value...		2025-09-30 08:27:30
>> dealing withE5_0h_R1...		2025-09-30 08:27:30
>> dealing withE5_0h_R2...		2025-09-30 08:27:30
>> dealing withE5_4h_R1...		2025-09-30 08:27:30
>> dealing withE5_4h_R2...		2025-09-30 08:27:30
>> dealing withE5_8h_R1...		2025-09-30 08:27:30
>> dealing withE5_8h_R2...		2025-09-30 08:27:31
>> dealing withE5_16h_R1...		2025-09-30 08:27:31
>> dealing withE5_16h_R2...		2025-09-30 08:27:31
>> dealing withE5_24h_R1...		2025-09-30 08:27:31
>> dealing withE5_24h_R2...		2025-09-30 08:27:31
>> dealing withE5_48h_R1...		2025-09-30 08:27:31
>> dealing withE5_48h_R2...		2025-09-30 08:27:31
>> dealing withE5_48h_R3...		2025-09-30 08:27:31
>> dealing withE5_72h_R1...		2025-09-30 08:27:31
>> dealing withE5_72h_R2...		2025-09-30 08:27:31
>> dealing withE5_72h_R3...		2025-09-30 08:27:31
>> merging all info together...		2025-09-30 08:27:31
>> done		2025-09-30 08:27:31
>> preparing gene features information...		2025-09-30 08:27:32
>> some scan range may cross Chr bound, trimming...		2025-09-30 08:27:32
>> calculating p-value for each TF, which may be time consuming...		2025-09-30 08:27:32
>> merging all info together...		2025-09-30 08:27:32
>> done		2025-09-30 08:27:32
>> dealing with TF_GR_database...		2025-09-30 08:27:34
>> calculating coef and converting into z-score using INT...		2025-09-30 08:27:34
>> dealing with E5_0h_R1...		2025-09-30 08:27:34
>> dealing with E5_0h_R2...		2025-09-30 08:27:34
>> dealing with E5_4h_R1...		2025-09-30 08:27:34
>> dealing with E5_4h_R2...		2025-09-30 08:27:34
>> dealing with E5_8h_R1...		2025-09-30 08:27:34
>> dealing with E5_8h_R2...		2025-09-30 08:27:34
>> dealing with E5_16h_R1...		2025-09-30 08:27:34
>> dealing with E5_16h_R2...		2025-09-30 08:27:34
>> dealing with E5_24h_R1...		2025-09-30 08:27:34
>> dealing with E5_24h_R2...		2025-09-30 08:27:35
>> dealing with E5_48h_R1...		2025-09-30 08:27:35
>> dealing with E5_48h_R2...		2025-09-30 08:27:35
>> dealing with E5_48h_R3...		2025-09-30 08:27:35
>> dealing with E5_72h_R1...		2025-09-30 08:27:35
>> dealing with E5_72h_R2...		2025-09-30 08:27:35
>> dealing with E5_72h_R3...		2025-09-30 08:27:35
>> merging all info together...		2025-09-30 08:27:35
>> done		2025-09-30 08:27:35
>> checking seqlevels match...		2025-09-30 08:27:36
>> your peak_GR seqlevel:Chr5...
>> your Txdb seqlevel:Chr1 Chr2 Chr3 Chr4 Chr5 ChrM ChrC...
Good, your Chrs in peak_GR is all in Txdb
------------
annotatePeak using geneScan mode begins
>> preparing gene features information and scan region...		2025-09-30 08:27:36
>> some scan range may cross Chr bound, trimming...		2025-09-30 08:27:36
>> finding overlap peak in gene scan region...		2025-09-30 08:27:36
>> dealing with left peak not your gene scan region...		2025-09-30 08:27:36
>> merging two set peaks...		2025-09-30 08:27:37
>> calculating distance and dealing with gene strand...		2025-09-30 08:27:37
>> merging all info together ...		2025-09-30 08:27:37
>> done		2025-09-30 08:27:37
>> calculating peakCenter to TSS using peak-gene pair...		2025-09-30 08:27:37
>> calculating RP using centerToTSS and TF hit		2025-09-30 08:27:38
>> merging all info together		2025-09-30 08:27:38
>> done		2025-09-30 08:27:38
>> checking seqlevels match...		2025-09-30 08:27:38
>> your peak_GR seqlevel:5...
>> your Txdb seqlevel:Chr1 Chr2 Chr3 Chr4 Chr5 ChrM ChrC...
>> checking seqlevels match...		2025-09-30 08:27:38
>> your peak_GR seqlevel:Chr5 Chr6...
>> your Txdb seqlevel:Chr1 Chr2 Chr3 Chr4 Chr5 ChrM ChrC...
>> checking seqlevels match...		2025-09-30 08:27:42
>> your peak_GR seqlevel:Chr5...
>> your Txdb seqlevel:Chr1 Chr2 Chr3 Chr4 Chr5 ChrM ChrC...
Good, your Chrs in peak_GR is all in Txdb
>> checking seqlevels match...		2025-09-30 08:27:42
>> your peak_GR seqlevel:Chr5...
>> your Txdb seqlevel:Chr1 Chr2 Chr3 Chr4 Chr5 ChrM ChrC...
Good, your Chrs in peak_GR is all in Txdb
------------
annotating Peak using nearest gene mode begins
>> preparing gene features information...		2025-09-30 08:27:42
>> finding nearest gene and calculating distance...		2025-09-30 08:27:43
>> dealing with gene strand ...		2025-09-30 08:27:44
>> merging all info together ...		2025-09-30 08:27:44
>> done		2025-09-30 08:27:44
>> checking seqlevels match...		2025-09-30 08:27:44
>> your peak_GR seqlevel:Chr5...
>> your Txdb seqlevel:Chr1 Chr2 Chr3 Chr4 Chr5 ChrM ChrC...
Good, your Chrs in peak_GR is all in Txdb
>> checking seqlevels match...		2025-09-30 08:27:44
>> your peak_GR seqlevel:Chr5...
>> your Txdb seqlevel:Chr1 Chr2 Chr3 Chr4 Chr5 ChrM ChrC...
Good, your Chrs in peak_GR is all in Txdb
------------
annotating Peak using nearest gene mode begins
>> preparing gene features information...		2025-09-30 08:27:44
>> finding nearest gene and calculating distance...		2025-09-30 08:27:45
>> dealing with gene strand ...		2025-09-30 08:27:45
>> merging all info together ...		2025-09-30 08:27:45
>> done		2025-09-30 08:27:45
>> checking seqlevels match...		2025-09-30 08:27:46
>> your peak_GR seqlevel:Chr5...
>> your Txdb seqlevel:Chr1 Chr2 Chr3 Chr4 Chr5 ChrM ChrC...
Good, your Chrs in peak_GR is all in Txdb
>> checking seqlevels match...		2025-09-30 08:27:46
>> your peak_GR seqlevel:Chr5...
>> your Txdb seqlevel:Chr1 Chr2 Chr3 Chr4 Chr5 ChrM ChrC...
Good, your Chrs in peak_GR is all in Txdb
------------
annotating Peak using nearest gene mode begins
>> preparing gene features information...		2025-09-30 08:27:46
>> finding nearest gene and calculating distance...		2025-09-30 08:27:46
>> dealing with gene strand ...		2025-09-30 08:27:47
>> merging all info together ...		2025-09-30 08:27:47
>> done		2025-09-30 08:27:47
>> checking seqlevels match...		2025-09-30 08:27:48
>> your peak_GR seqlevel:Chr5...
>> your Txdb seqlevel:Chr1 Chr2 Chr3 Chr4 Chr5 ChrM ChrC...
Good, your Chrs in peak_GR is all in Txdb
>> checking seqlevels match...		2025-09-30 08:27:48
>> your peak_GR seqlevel:Chr5...
>> your Txdb seqlevel:Chr1 Chr2 Chr3 Chr4 Chr5 ChrM ChrC...
Good, your Chrs in peak_GR is all in Txdb
------------
annotating Peak using nearest gene mode begins
>> preparing gene features information...		2025-09-30 08:27:48
>> finding nearest gene and calculating distance...		2025-09-30 08:27:49
>> dealing with gene strand ...		2025-09-30 08:27:49
>> merging all info together ...		2025-09-30 08:27:49
>> done		2025-09-30 08:27:49
It seems that there 1 genes have not been annotated by nearestGene mode
>> checking seqlevels match...		2025-09-30 08:27:50
>> your peak_GR seqlevel:Chr5...
>> your Txdb seqlevel:Chr1 Chr2 Chr3 Chr4 Chr5 ChrM ChrC...
Good, your Chrs in peak_GR is all in Txdb
>> checking seqlevels match...		2025-09-30 08:27:50
>> your peak_GR seqlevel:Chr5...
>> your Txdb seqlevel:Chr1 Chr2 Chr3 Chr4 Chr5 ChrM ChrC...
Good, your Chrs in peak_GR is all in Txdb
------------
annotating Peak using nearest gene mode begins
>> preparing gene features information...		2025-09-30 08:27:50
>> finding nearest gene and calculating distance...		2025-09-30 08:27:51
>> dealing with gene strand ...		2025-09-30 08:27:51
>> merging all info together ...		2025-09-30 08:27:51
>> done		2025-09-30 08:27:51
It seems that there 1 genes have not been annotated by nearestGene mode
>> checking seqlevels match...		2025-09-30 08:27:52
>> your peak_GR seqlevel:Chr5...
>> your Txdb seqlevel:Chr1 Chr2 Chr3 Chr4 Chr5 ChrM ChrC...
Good, your Chrs in peak_GR is all in Txdb
>> checking seqlevels match...		2025-09-30 08:27:53
>> your peak_GR seqlevel:Chr5...
>> your Txdb seqlevel:Chr1 Chr2 Chr3 Chr4 Chr5 ChrM ChrC...
Good, your Chrs in peak_GR is all in Txdb
>> some scan range may cross Chr bound, trimming...		2025-09-30 08:27:54
>> checking seqlevels match...		2025-09-30 08:27:55
>> your peak_GR seqlevel:Chr5...
>> your Txdb seqlevel:Chr1 Chr2 Chr3 Chr4 Chr5 ChrM ChrC...
Good, your Chrs in peak_GR is all in Txdb
>> some scan range may cross Chr bound, trimming...		2025-09-30 08:27:56
Good, your two matrix colnames matchs
>> calculating cor and pvalue, which may be time consuming...		2025-09-30 08:27:57
>> merging all info together...		2025-09-30 08:27:57
>> done		2025-09-30 08:27:57
>> checking seqlevels match...		2025-09-30 08:27:58
>> your peak_GR seqlevel:Chr5...
>> your Txdb seqlevel:Chr1 Chr2 Chr3 Chr4 Chr5 ChrM ChrC...
Good, your Chrs in peak_GR is all in Txdb
>> using scanPromoter parameter to scan promoter for each gene...		2025-09-30 08:27:58
>> checking seqlevels match...		2025-09-30 08:27:58
>> your peak_GR seqlevel:Chr5...
>> your Txdb seqlevel:Chr1 Chr2 Chr3 Chr4 Chr5 ChrM ChrC...
Good, your Chrs in peak_GR is all in Txdb
>> some scan range may cross Chr bound, trimming...		2025-09-30 08:27:58
>> there are 85 gene have scaned promoter
>> using scanEnhancer parameter to scan Enhancer for each gene...		2025-09-30 08:27:59
>> checking seqlevels match...		2025-09-30 08:27:59
>> your peak_GR seqlevel:Chr5...
>> your Txdb seqlevel:Chr1 Chr2 Chr3 Chr4 Chr5 ChrM ChrC...
Good, your Chrs in peak_GR is all in Txdb
>> some scan range may cross Chr bound, trimming...		2025-09-30 08:28:00
>> calculating cor and pvalue, which may be time consuming...		2025-09-30 08:28:00
>> merging all info together...		2025-09-30 08:28:00
>> done		2025-09-30 08:28:00
Good, your two matrix colnames matchs
>> calculating cor and pvalue, which may be time consuming...		2025-09-30 08:28:00
>> merging all info together...		2025-09-30 08:28:00
>> done		2025-09-30 08:28:00
>> checking seqlevels match...		2025-09-30 08:28:01
>> your peak_GR seqlevel:Chr5...
>> your Txdb seqlevel:Chr1 Chr2 Chr3 Chr4 Chr5 ChrM ChrC...
Good, your Chrs in peak_GR is all in Txdb
------------
annotatePeak using geneScan mode begins
>> preparing gene features information and scan region...		2025-09-30 08:28:01
>> some scan range may cross Chr bound, trimming...		2025-09-30 08:28:01
>> finding overlap peak in gene scan region...		2025-09-30 08:28:01
>> dealing with left peak not your gene scan region...		2025-09-30 08:28:02
>> merging two set peaks...		2025-09-30 08:28:02
>> calculating distance and dealing with gene strand...		2025-09-30 08:28:02
>> merging all info together ...		2025-09-30 08:28:02
>> done		2025-09-30 08:28:02
Good, your two matrix colnames matchs
>> calculating cor and pvalue, which may be time consuming...		2025-09-30 08:28:03
>> merging all info together...		2025-09-30 08:28:03
>> done		2025-09-30 08:28:03
>> checking seqlevels match...		2025-09-30 08:28:03
>> your peak_GR seqlevel:Chr5...
>> your Txdb seqlevel:Chr1 Chr2 Chr3 Chr4 Chr5 ChrM ChrC...
Good, your Chrs in peak_GR is all in Txdb
>> using scanPromoter parameter to scan promoter for each gene...		2025-09-30 08:28:03
>> checking seqlevels match...		2025-09-30 08:28:03
>> your peak_GR seqlevel:Chr5...
>> your Txdb seqlevel:Chr1 Chr2 Chr3 Chr4 Chr5 ChrM ChrC...
Good, your Chrs in peak_GR is all in Txdb
>> some scan range may cross Chr bound, trimming...		2025-09-30 08:28:04
>> there are 85 gene have scaned promoter
>> using scanEnhancer parameter to scan Enhancer for each gene...		2025-09-30 08:28:05
>> checking seqlevels match...		2025-09-30 08:28:05
>> your peak_GR seqlevel:Chr5...
>> your Txdb seqlevel:Chr1 Chr2 Chr3 Chr4 Chr5 ChrM ChrC...
Good, your Chrs in peak_GR is all in Txdb
>> some scan range may cross Chr bound, trimming...		2025-09-30 08:28:06
>> calculating cor and pvalue, which may be time consuming...		2025-09-30 08:28:06
>> merging all info together...		2025-09-30 08:28:06
>> done		2025-09-30 08:28:06
Joining with `by = join_by(feature_id)`
Joining with `by = join_by(feature_id)`
`geom_smooth()` using formula = 'y ~ x'
Joining with `by = join_by(feature_id)`
Joining with `by = join_by(feature_id)`
`geom_smooth()` using formula = 'y ~ x'
[ FAIL 0 | WARN 0 | SKIP 0 | PASS 65 ]
> 
> proc.time()
   user  system elapsed 
 81.021   1.347  82.489 

Example timings

FindIT2.Rcheck/FindIT2-Ex.timings

nameusersystemelapsed
TF_target_database000
calcRP_TFHit4.1010.2634.536
calcRP_coverage6.3670.1526.538
calcRP_region7.1360.0957.253
enhancerPromoterCor3.2880.0483.345
findIT_MARA0.6030.0080.613
findIT_TFHit1.0880.0121.103
findIT_TTPair0.0950.0000.095
findIT_enrichFisher0.2110.0000.212
findIT_enrichWilcox0.230.000.23
findIT_regionRP7.7710.0687.860
getAssocPairNumber1.5310.0041.539
integrate_ChIP_RNA2.6720.0202.700
integrate_replicates0.0020.0000.002
jaccard_findIT_TTpair0.1370.0000.137
jaccard_findIT_enrichFisher0.2900.0000.291
loadPeakFile0.0790.0040.084
mm_geneBound1.5430.0041.551
mm_geneScan1.6020.0161.621
mm_nearestGene1.4080.0001.411
peakGeneCor3.0710.0043.082
plot_annoDistance2.2630.0162.285
plot_peakGeneAlias_summary2.6540.0712.733
plot_peakGeneCor4.2000.1324.345
test_geneSet0.0000.0000.001