Back to Multiple platform build/check report for BioC 3.21:   simplified   long
ABCDE[F]GHIJKLMNOPQRSTUVWXYZ

This page was generated on 2025-02-06 11:43 -0500 (Thu, 06 Feb 2025).

HostnameOSArch (*)R versionInstalled pkgs
nebbiolo1Linux (Ubuntu 24.04.1 LTS)x86_64R Under development (unstable) (2025-01-20 r87609) -- "Unsuffered Consequences" 4719
palomino7Windows Server 2022 Datacenterx64R Under development (unstable) (2025-01-21 r87610 ucrt) -- "Unsuffered Consequences" 4480
lconwaymacOS 12.7.1 Montereyx86_64R Under development (unstable) (2025-01-22 r87618) -- "Unsuffered Consequences" 4491
kjohnson3macOS 13.7.1 Venturaarm64R Under development (unstable) (2025-01-20 r87609) -- "Unsuffered Consequences" 4444
Click on any hostname to see more info about the system (e.g. compilers)      (*) as reported by 'uname -p', except on Windows and Mac OS X

Package 754/2295HostnameOS / ArchINSTALLBUILDCHECKBUILD BIN
FRGEpistasis 1.43.0  (landing page)
Futao Zhang
Snapshot Date: 2025-02-05 13:48 -0500 (Wed, 05 Feb 2025)
git_url: https://git.bioconductor.org/packages/FRGEpistasis
git_branch: devel
git_last_commit: 4b9608b
git_last_commit_date: 2024-10-29 09:51:23 -0500 (Tue, 29 Oct 2024)
nebbiolo1Linux (Ubuntu 24.04.1 LTS) / x86_64  OK    OK    OK  UNNEEDED, same version is already published
palomino7Windows Server 2022 Datacenter / x64  OK    OK    OK    OK  UNNEEDED, same version is already published
lconwaymacOS 12.7.1 Monterey / x86_64  OK    OK    OK    OK  UNNEEDED, same version is already published
kjohnson3macOS 13.7.1 Ventura / arm64  OK    OK    OK    OK  UNNEEDED, same version is already published


CHECK results for FRGEpistasis on kjohnson3

To the developers/maintainers of the FRGEpistasis package:
- Allow up to 24 hours (and sometimes 48 hours) for your latest push to git@git.bioconductor.org:packages/FRGEpistasis.git to reflect on this report. See Troubleshooting Build Report for more information.
- Use the following Renviron settings to reproduce errors and warnings.
- If 'R CMD check' started to fail recently on the Linux builder(s) over a missing dependency, add the missing dependency to 'Suggests:' in your DESCRIPTION file. See Renviron.bioc for more information.

raw results


Summary

Package: FRGEpistasis
Version: 1.43.0
Command: /Library/Frameworks/R.framework/Resources/bin/R CMD check --install=check:FRGEpistasis.install-out.txt --library=/Library/Frameworks/R.framework/Resources/library --no-vignettes --timings FRGEpistasis_1.43.0.tar.gz
StartedAt: 2025-02-05 19:22:30 -0500 (Wed, 05 Feb 2025)
EndedAt: 2025-02-05 19:23:16 -0500 (Wed, 05 Feb 2025)
EllapsedTime: 45.5 seconds
RetCode: 0
Status:   OK  
CheckDir: FRGEpistasis.Rcheck
Warnings: 0

Command output

##############################################################################
##############################################################################
###
### Running command:
###
###   /Library/Frameworks/R.framework/Resources/bin/R CMD check --install=check:FRGEpistasis.install-out.txt --library=/Library/Frameworks/R.framework/Resources/library --no-vignettes --timings FRGEpistasis_1.43.0.tar.gz
###
##############################################################################
##############################################################################


* using log directory ‘/Users/biocbuild/bbs-3.21-bioc/meat/FRGEpistasis.Rcheck’
* using R Under development (unstable) (2025-01-20 r87609)
* using platform: aarch64-apple-darwin20
* R was compiled by
    Apple clang version 14.0.0 (clang-1400.0.29.202)
    GNU Fortran (GCC) 14.2.0
* running under: macOS Ventura 13.7.1
* using session charset: UTF-8
* using option ‘--no-vignettes’
* checking for file ‘FRGEpistasis/DESCRIPTION’ ... OK
* checking extension type ... Package
* this is package ‘FRGEpistasis’ version ‘1.43.0’
* checking package namespace information ... OK
* checking package dependencies ... OK
* checking if this is a source package ... OK
* checking if there is a namespace ... OK
* checking for hidden files and directories ... OK
* checking for portable file names ... OK
* checking for sufficient/correct file permissions ... OK
* checking whether package ‘FRGEpistasis’ can be installed ... OK
* checking installed package size ... OK
* checking package directory ... OK
* checking ‘build’ directory ... OK
* checking DESCRIPTION meta-information ... NOTE
Malformed Description field: should contain one or more complete sentences.
* checking top-level files ... OK
* checking for left-over files ... OK
* checking index information ... OK
* checking package subdirectories ... OK
* checking code files for non-ASCII characters ... OK
* checking R files for syntax errors ... OK
* checking whether the package can be loaded ... OK
* checking whether the package can be loaded with stated dependencies ... OK
* checking whether the package can be unloaded cleanly ... OK
* checking whether the namespace can be loaded with stated dependencies ... OK
* checking whether the namespace can be unloaded cleanly ... OK
* checking dependencies in R code ... OK
* checking S3 generic/method consistency ... OK
* checking replacement functions ... OK
* checking foreign function calls ... OK
* checking R code for possible problems ... OK
* checking Rd files ... OK
* checking Rd metadata ... OK
* checking Rd cross-references ... OK
* checking for missing documentation entries ... OK
* checking for code/documentation mismatches ... OK
* checking Rd \usage sections ... OK
* checking Rd contents ... OK
* checking for unstated dependencies in examples ... OK
* checking sizes of PDF files under ‘inst/doc’ ... OK
* checking files in ‘vignettes’ ... OK
* checking examples ... OK
Examples with CPU (user + system) or elapsed time > 5s
                        user system elapsed
pCAPiontwiseEpistasis 21.518  0.369  21.934
* checking for unstated dependencies in vignettes ... OK
* checking package vignettes ... OK
* checking running R code from vignettes ... SKIPPED
* checking re-building of vignette outputs ... SKIPPED
* checking PDF version of manual ... OK
* DONE

Status: 1 NOTE
See
  ‘/Users/biocbuild/bbs-3.21-bioc/meat/FRGEpistasis.Rcheck/00check.log’
for details.


Installation output

FRGEpistasis.Rcheck/00install.out

##############################################################################
##############################################################################
###
### Running command:
###
###   /Library/Frameworks/R.framework/Resources/bin/R CMD INSTALL FRGEpistasis
###
##############################################################################
##############################################################################


* installing to library ‘/Library/Frameworks/R.framework/Versions/4.5-arm64/Resources/library’
* installing *source* package ‘FRGEpistasis’ ...
** this is package ‘FRGEpistasis’ version ‘1.43.0’
** using staged installation
** R
** inst
** byte-compile and prepare package for lazy loading
** help
*** installing help indices
** building package indices
** installing vignettes
** testing if installed package can be loaded from temporary location
** testing if installed package can be loaded from final location
** testing if installed package keeps a record of temporary installation path
* DONE (FRGEpistasis)

Tests output


Example timings

FRGEpistasis.Rcheck/FRGEpistasis-Ex.timings

nameusersystemelapsed
fRGEpistasis0.5540.0170.574
fRGInteraction0.0000.0000.001
fourierExpansion0.0400.0170.057
frgEpistasisTest0.3560.0050.361
innerEpi0.0030.0000.004
innerSnpListInteraction0.0030.0000.004
logTransPheno000
outerEpi0.0310.0020.033
outerSnpListInteraction0.0040.0000.003
pCAInteraction0.2030.0020.205
pCAPiontwiseEpistasis21.518 0.36921.934
pointwiseInteraction0.0820.0170.100
rankTransPheno0.0000.0010.000
reduceGeno0.1370.0100.148
snpPairInteraction0.0000.0000.001