| Back to Multiple platform build/check report for BioC 3.22: simplified long |
|
This page was generated on 2025-10-23 12:06 -0400 (Thu, 23 Oct 2025).
| Hostname | OS | Arch (*) | R version | Installed pkgs |
|---|---|---|---|---|
| nebbiolo2 | Linux (Ubuntu 24.04.3 LTS) | x86_64 | 4.5.1 Patched (2025-08-23 r88802) -- "Great Square Root" | 4894 |
| lconway | macOS 12.7.6 Monterey | x86_64 | 4.5.1 Patched (2025-09-10 r88807) -- "Great Square Root" | 4684 |
| kjohnson3 | macOS 13.7.7 Ventura | arm64 | 4.5.1 Patched (2025-09-10 r88807) -- "Great Square Root" | 4629 |
| taishan | Linux (openEuler 24.03 LTS) | aarch64 | 4.5.0 (2025-04-11) -- "How About a Twenty-Six" | 4642 |
| Click on any hostname to see more info about the system (e.g. compilers) (*) as reported by 'uname -p', except on Windows and Mac OS X | ||||
| Package 633/2355 | Hostname | OS / Arch | INSTALL | BUILD | CHECK | BUILD BIN | ||||||||
| Dune 1.21.0 (landing page) Hector Roux de Bezieux
| nebbiolo2 | Linux (Ubuntu 24.04.3 LTS) / x86_64 | OK | OK | OK | |||||||||
| lconway | macOS 12.7.6 Monterey / x86_64 | OK | OK | OK | OK | |||||||||
| kjohnson3 | macOS 13.7.7 Ventura / arm64 | OK | OK | ERROR | OK | |||||||||
| taishan | Linux (openEuler 24.03 LTS) / aarch64 | OK | OK | NA | ||||||||||
|
To the developers/maintainers of the Dune package: - Allow up to 24 hours (and sometimes 48 hours) for your latest push to git@git.bioconductor.org:packages/Dune.git to reflect on this report. See Troubleshooting Build Report for more information. - Use the following Renviron settings to reproduce errors and warnings. - If 'R CMD check' started to fail recently on the Linux builder(s) over a missing dependency, add the missing dependency to 'Suggests:' in your DESCRIPTION file. See Renviron.bioc for more information. |
| Package: Dune |
| Version: 1.21.0 |
| Command: /Library/Frameworks/R.framework/Resources/bin/R CMD check --install=check:Dune.install-out.txt --library=/Library/Frameworks/R.framework/Resources/library --no-vignettes --timings Dune_1.21.0.tar.gz |
| StartedAt: 2025-10-22 19:34:43 -0400 (Wed, 22 Oct 2025) |
| EndedAt: 2025-10-22 19:36:34 -0400 (Wed, 22 Oct 2025) |
| EllapsedTime: 111.4 seconds |
| RetCode: 1 |
| Status: ERROR |
| CheckDir: Dune.Rcheck |
| Warnings: NA |
##############################################################################
##############################################################################
###
### Running command:
###
### /Library/Frameworks/R.framework/Resources/bin/R CMD check --install=check:Dune.install-out.txt --library=/Library/Frameworks/R.framework/Resources/library --no-vignettes --timings Dune_1.21.0.tar.gz
###
##############################################################################
##############################################################################
* using log directory ‘/Users/biocbuild/bbs-3.22-bioc/meat/Dune.Rcheck’
* using R version 4.5.1 Patched (2025-09-10 r88807)
* using platform: aarch64-apple-darwin20
* R was compiled by
Apple clang version 16.0.0 (clang-1600.0.26.6)
GNU Fortran (GCC) 14.2.0
* running under: macOS Ventura 13.7.7
* using session charset: UTF-8
* using option ‘--no-vignettes’
* checking for file ‘Dune/DESCRIPTION’ ... OK
* this is package ‘Dune’ version ‘1.21.0’
* package encoding: UTF-8
* checking package namespace information ... NOTE
Found export directive that requires package ‘methods’:
‘exportMethods’
Remove all such namespace directives (if obsolete) or ensure that the
DESCRIPTION Depends or Imports field contains ‘methods’.
* checking package dependencies ... OK
* checking if this is a source package ... OK
* checking if there is a namespace ... OK
* checking for hidden files and directories ... OK
* checking for portable file names ... OK
* checking for sufficient/correct file permissions ... OK
* checking whether package ‘Dune’ can be installed ... OK
* checking installed package size ... OK
* checking package directory ... OK
* checking ‘build’ directory ... OK
* checking DESCRIPTION meta-information ... OK
* checking top-level files ... OK
* checking for left-over files ... OK
* checking index information ... OK
* checking package subdirectories ... OK
* checking code files for non-ASCII characters ... OK
* checking R files for syntax errors ... OK
* checking whether the package can be loaded ... OK
* checking whether the package can be loaded with stated dependencies ... OK
* checking whether the package can be unloaded cleanly ... OK
* checking whether the namespace can be loaded with stated dependencies ... OK
* checking whether the namespace can be unloaded cleanly ... OK
* checking whether startup messages can be suppressed ... OK
* checking dependencies in R code ... NOTE
package 'methods' is used but not declared
* checking S3 generic/method consistency ... OK
* checking replacement functions ... OK
* checking foreign function calls ... OK
* checking R code for possible problems ... NOTE
.metricTrend: no visible binding for global variable ‘.’
.metricTrend: no visible binding for global variable ‘step’
.metricTrend: no visible binding for global variable ‘change’
.metricTrend: no visible binding for global variable ‘value’
.plotMetric: no visible binding for global variable ‘label2’
.plotMetric: no visible binding for global variable ‘metric’
.plotMetric: no visible binding for global variable ‘label1’
ARIImp : f: no visible binding for global variable ‘cells’
ConfusionEvolution : <anonymous>: no visible binding for global
variable ‘Freq’
ConfusionEvolution : <anonymous>: no visible binding for global
variable ‘total_x’
ConfusionEvolution : <anonymous>: no visible binding for global
variable ‘total_y’
ConfusionEvolution: no visible binding for global variable ‘overlap’
ConfusionEvolution: no visible binding for global variable ‘Freq’
ConfusionEvolution: no visible binding for global variable ‘step’
ConfusionPlot: no visible binding for global variable ‘Freq’
ConfusionPlot: no visible binding for global variable ‘total_x’
ConfusionPlot: no visible binding for global variable ‘total_y’
ConfusionPlot: no visible binding for global variable ‘overlap’
NMIImp : f: no visible binding for global variable ‘cells’
intermediateMat: no visible binding for global variable ‘cells’
plotPrePost: no visible binding for global variable ‘Nb’
Undefined global functions or variables:
. Freq Nb cells change label1 label2 metric overlap step total_x
total_y value
Consider adding
importFrom("stats", "step")
to your NAMESPACE file.
* checking Rd files ... OK
* checking Rd metadata ... OK
* checking Rd cross-references ... NOTE
Found the following Rd file(s) with Rd \link{} targets missing package
anchors:
ARItrend.Rd: ggplot
ConfusionEvolution.Rd: transition_states, animate
ConfusionPlot.Rd: ggplot
Dune.Rd: SummarizedExperiment
NMItrend.Rd: ggplot
plotARIs.Rd: ggplot
plotNMIs.Rd: ggplot
plotPrePost.Rd: ggplot
Please provide package anchors for all Rd \link{} targets not in the
package itself and the base packages.
* checking for missing documentation entries ... OK
* checking for code/documentation mismatches ... OK
* checking Rd \usage sections ... OK
* checking Rd contents ... OK
* checking for unstated dependencies in examples ... OK
* checking contents of ‘data’ directory ... OK
* checking data for non-ASCII characters ... OK
* checking LazyData ... OK
* checking data for ASCII and uncompressed saves ... OK
* checking files in ‘vignettes’ ... OK
* checking examples ... OK
* checking for unstated dependencies in ‘tests’ ... OK
* checking tests ...
Running ‘testthat.R’
ERROR
Running the tests in ‘tests/testthat.R’ failed.
Last 13 lines of output:
`expected`: TRUE
── Failure ('test-Main-Dune.R:59:7'): Dune correctly picks the best cluster for NMI ──
mean((final_ARI - init_ARI)[upper.tri(init_ARI)]) <= ... is not TRUE
`actual`: FALSE
`expected`: TRUE
── Failure ('test-Main-Dune.R:59:7'): Dune correctly picks the best cluster for NMI ──
mean((final_ARI - init_ARI)[upper.tri(init_ARI)]) <= ... is not TRUE
`actual`: FALSE
`expected`: TRUE
[ FAIL 6 | WARN 4 | SKIP 0 | PASS 446 ]
Error: Test failures
Execution halted
* checking for unstated dependencies in vignettes ... OK
* checking package vignettes ... OK
* checking running R code from vignettes ... SKIPPED
* checking re-building of vignette outputs ... SKIPPED
* checking PDF version of manual ... OK
* DONE
Status: 1 ERROR, 4 NOTEs
See
‘/Users/biocbuild/bbs-3.22-bioc/meat/Dune.Rcheck/00check.log’
for details.
Dune.Rcheck/00install.out
############################################################################## ############################################################################## ### ### Running command: ### ### /Library/Frameworks/R.framework/Resources/bin/R CMD INSTALL Dune ### ############################################################################## ############################################################################## * installing to library ‘/Library/Frameworks/R.framework/Versions/4.5-arm64/Resources/library’ * installing *source* package ‘Dune’ ... ** this is package ‘Dune’ version ‘1.21.0’ ** using staged installation ** R ** data *** moving datasets to lazyload DB ** inst ** byte-compile and prepare package for lazy loading ** help *** installing help indices ** building package indices ** installing vignettes ** testing if installed package can be loaded from temporary location ** testing if installed package can be loaded from final location ** testing if installed package keeps a record of temporary installation path * DONE (Dune)
Dune.Rcheck/tests/testthat.Rout.fail
R version 4.5.1 Patched (2025-09-10 r88807) -- "Great Square Root"
Copyright (C) 2025 The R Foundation for Statistical Computing
Platform: aarch64-apple-darwin20
R is free software and comes with ABSOLUTELY NO WARRANTY.
You are welcome to redistribute it under certain conditions.
Type 'license()' or 'licence()' for distribution details.
R is a collaborative project with many contributors.
Type 'contributors()' for more information and
'citation()' on how to cite R or R packages in publications.
Type 'demo()' for some demos, 'help()' for on-line help, or
'help.start()' for an HTML browser interface to help.
Type 'q()' to quit R.
> library(testthat)
> library(Dune)
Dune now uses the Normalized Mutual Informationinstead of the adjusted Rand Index. You can restore the old option bysetting metric'ARI' in the Dune function.
>
> test_check("Dune")
[ FAIL 6 | WARN 4 | SKIP 0 | PASS 446 ]
══ Failed tests ════════════════════════════════════════════════════════════════
── Failure ('test-Main-Dune.R:37:7'): Dune correctly picks the best cluster for ARI ──
mean((final_ARI - init_ARI)[upper.tri(init_ARI)]) <= ... is not TRUE
`actual`: FALSE
`expected`: TRUE
── Failure ('test-Main-Dune.R:37:7'): Dune correctly picks the best cluster for ARI ──
mean((final_ARI - init_ARI)[upper.tri(init_ARI)]) <= ... is not TRUE
`actual`: FALSE
`expected`: TRUE
── Failure ('test-Main-Dune.R:37:7'): Dune correctly picks the best cluster for ARI ──
mean((final_ARI - init_ARI)[upper.tri(init_ARI)]) <= ... is not TRUE
`actual`: FALSE
`expected`: TRUE
── Failure ('test-Main-Dune.R:37:7'): Dune correctly picks the best cluster for ARI ──
mean((final_ARI - init_ARI)[upper.tri(init_ARI)]) <= ... is not TRUE
`actual`: FALSE
`expected`: TRUE
── Failure ('test-Main-Dune.R:59:7'): Dune correctly picks the best cluster for NMI ──
mean((final_ARI - init_ARI)[upper.tri(init_ARI)]) <= ... is not TRUE
`actual`: FALSE
`expected`: TRUE
── Failure ('test-Main-Dune.R:59:7'): Dune correctly picks the best cluster for NMI ──
mean((final_ARI - init_ARI)[upper.tri(init_ARI)]) <= ... is not TRUE
`actual`: FALSE
`expected`: TRUE
[ FAIL 6 | WARN 4 | SKIP 0 | PASS 446 ]
Error: Test failures
Execution halted
Dune.Rcheck/Dune-Ex.timings
| name | user | system | elapsed | |
| ARIImp | 1.051 | 0.027 | 1.079 | |
| ARIs | 0.007 | 0.001 | 0.007 | |
| ARItrend | 1.274 | 0.006 | 1.280 | |
| ConfusionEvolution | 0 | 0 | 0 | |
| ConfusionPlot | 0.191 | 0.001 | 0.192 | |
| Dune | 1.951 | 0.037 | 1.989 | |
| NMIImp | 0.917 | 0.002 | 0.919 | |
| NMIs | 0.007 | 0.000 | 0.007 | |
| NMItrend | 1.026 | 0.003 | 1.033 | |
| clusterConversion | 0.923 | 0.002 | 0.925 | |
| functionTracking | 0.960 | 0.002 | 0.962 | |
| intermediateMat | 0.959 | 0.028 | 0.988 | |
| plotARIs | 1.088 | 0.003 | 1.092 | |
| plotNMIs | 1.066 | 0.003 | 1.070 | |
| plotPrePost | 1.009 | 0.002 | 1.012 | |
| whenToStop | 0.939 | 0.002 | 0.940 | |