Back to Multiple platform build/check report for BioC 3.21:   simplified   long
ABC[D]EFGHIJKLMNOPQRSTUVWXYZ

This page was generated on 2025-02-19 11:42 -0500 (Wed, 19 Feb 2025).

HostnameOSArch (*)R versionInstalled pkgs
nebbiolo1Linux (Ubuntu 24.04.1 LTS)x86_64R Under development (unstable) (2025-01-20 r87609) -- "Unsuffered Consequences" 4720
palomino7Windows Server 2022 Datacenterx64R Under development (unstable) (2025-01-21 r87610 ucrt) -- "Unsuffered Consequences" 4482
lconwaymacOS 12.7.1 Montereyx86_64R Under development (unstable) (2025-01-22 r87618) -- "Unsuffered Consequences" 4493
kjohnson3macOS 13.7.1 Venturaarm64R Under development (unstable) (2025-01-20 r87609) -- "Unsuffered Consequences" 4446
Click on any hostname to see more info about the system (e.g. compilers)      (*) as reported by 'uname -p', except on Windows and Mac OS X

Package 577/2295HostnameOS / ArchINSTALLBUILDCHECKBUILD BIN
Director 1.33.1  (landing page)
Katherine Icay
Snapshot Date: 2025-02-18 13:40 -0500 (Tue, 18 Feb 2025)
git_url: https://git.bioconductor.org/packages/Director
git_branch: devel
git_last_commit: 2152c5d
git_last_commit_date: 2025-02-18 08:25:29 -0500 (Tue, 18 Feb 2025)
nebbiolo1Linux (Ubuntu 24.04.1 LTS) / x86_64  OK    OK    OK  YES
palomino7Windows Server 2022 Datacenter / x64  OK    TIMEOUT  skippedskipped
lconwaymacOS 12.7.1 Monterey / x86_64  OK    OK    OK    OK  YES
kjohnson3macOS 13.7.1 Ventura / arm64  OK    OK    OK    OK  YES


BUILD BIN results for Director on lconway

To the developers/maintainers of the Director package:
- Allow up to 24 hours (and sometimes 48 hours) for your latest push to git@git.bioconductor.org:packages/Director.git to reflect on this report. See Troubleshooting Build Report for more information.
- Use the following Renviron settings to reproduce errors and warnings.
- If 'R CMD check' started to fail recently on the Linux builder(s) over a missing dependency, add the missing dependency to 'Suggests:' in your DESCRIPTION file. See Renviron.bioc for more information.

raw results


Summary

Package: Director
Version: 1.33.1
Command: rm -rf Director.buildbin-libdir && mkdir Director.buildbin-libdir && /Users/biocbuild/BBS/utils/build-universal.sh Director_1.33.1.tar.gz /Library/Frameworks/R.framework/Resources/bin/R Director.buildbin-libdir
StartedAt: 2025-02-19 00:22:27 -0500 (Wed, 19 Feb 2025)
EndedAt: 2025-02-19 00:22:34 -0500 (Wed, 19 Feb 2025)
EllapsedTime: 6.9 seconds
RetCode: 0
Status:   OK  
PackageFile: Director_1.33.1.tgz
PackageFileSize: 576.5 KiB

Command output

##############################################################################
##############################################################################
###
### Running command:
###
###   rm -rf Director.buildbin-libdir && mkdir Director.buildbin-libdir && /Users/biocbuild/BBS/utils/build-universal.sh Director_1.33.1.tar.gz /Library/Frameworks/R.framework/Resources/bin/R Director.buildbin-libdir
###
##############################################################################
##############################################################################


>>>>>>> 
>>>>>>> INSTALLATION WITH 'R CMD INSTALL --preclean --no-multiarch --library=Director.buildbin-libdir Director_1.33.1.tar.gz'
>>>>>>> 

* installing *source* package ‘Director’ ...
** this is package ‘Director’ version ‘1.33.1’
** using staged installation
** R
** data
*** moving datasets to lazyload DB
** inst
** byte-compile and prepare package for lazy loading
** help
*** installing help indices
** building package indices
** installing vignettes
** testing if installed package can be loaded from temporary location
Warning in fun(libname, pkgname) :
  Package 'Director' is deprecated and will be removed from Bioconductor
  version 3.22
** testing if installed package can be loaded from final location
Warning in fun(libname, pkgname) :
  Package 'Director' is deprecated and will be removed from Bioconductor
  version 3.22
** testing if installed package keeps a record of temporary installation path
* DONE (Director)