Back to Multiple platform build/check report for BioC 3.21:   simplified   long
ABC[D]EFGHIJKLMNOPQRSTUVWXYZ

This page was generated on 2025-02-03 12:37 -0500 (Mon, 03 Feb 2025).

HostnameOSArch (*)R versionInstalled pkgs
nebbiolo1Linux (Ubuntu 24.04.1 LTS)x86_64R Under development (unstable) (2025-01-20 r87609) -- "Unsuffered Consequences" 4704
palomino7Windows Server 2022 Datacenterx64R Under development (unstable) (2025-01-21 r87610 ucrt) -- "Unsuffered Consequences" 4467
lconwaymacOS 12.7.1 Montereyx86_64R Under development (unstable) (2025-01-22 r87618) -- "Unsuffered Consequences" 4478
Click on any hostname to see more info about the system (e.g. compilers)      (*) as reported by 'uname -p', except on Windows and Mac OS X

Package 527/2289HostnameOS / ArchINSTALLBUILDCHECKBUILD BIN
DelayedArray 0.33.4  (landing page)
Hervé Pagès
Snapshot Date: 2025-02-02 13:40 -0500 (Sun, 02 Feb 2025)
git_url: https://git.bioconductor.org/packages/DelayedArray
git_branch: devel
git_last_commit: e8768a5
git_last_commit_date: 2025-01-17 18:18:43 -0500 (Fri, 17 Jan 2025)
nebbiolo1Linux (Ubuntu 24.04.1 LTS) / x86_64  OK    OK    WARNINGS  UNNEEDED, same version is already published
palomino7Windows Server 2022 Datacenter / x64  OK    OK    WARNINGS    OK  UNNEEDED, same version is already published
lconwaymacOS 12.7.1 Monterey / x86_64  OK    OK    WARNINGS    OK  UNNEEDED, same version is already published


INSTALL results for DelayedArray on palomino7

To the developers/maintainers of the DelayedArray package:
- Allow up to 24 hours (and sometimes 48 hours) for your latest push to git@git.bioconductor.org:packages/DelayedArray.git to reflect on this report. See Troubleshooting Build Report for more information.
- Use the following Renviron settings to reproduce errors and warnings.
- If 'R CMD check' started to fail recently on the Linux builder(s) over a missing dependency, add the missing dependency to 'Suggests:' in your DESCRIPTION file. See Renviron.bioc for more information.

raw results


Summary

Package: DelayedArray
Version: 0.33.4
Command: E:\biocbuild\bbs-3.21-bioc\R\bin\R.exe CMD INSTALL DelayedArray
StartedAt: 2025-02-02 15:47:49 -0500 (Sun, 02 Feb 2025)
EndedAt: 2025-02-02 15:51:58 -0500 (Sun, 02 Feb 2025)
EllapsedTime: 249.9 seconds
RetCode: 0
Status:   OK  

Command output

##############################################################################
##############################################################################
###
### Running command:
###
###   E:\biocbuild\bbs-3.21-bioc\R\bin\R.exe CMD INSTALL DelayedArray
###
##############################################################################
##############################################################################


* installing to library 'E:/biocbuild/bbs-3.21-bioc/R/library'
* installing *source* package 'DelayedArray' ...
** this is package 'DelayedArray' version '0.33.4'
** using staged installation
** libs
using C compiler: 'gcc.exe (GCC) 13.3.0'
gcc  -I"E:/biocbuild/bbs-3.21-bioc/R/include" -DNDEBUG  -I'E:/biocbuild/bbs-3.21-bioc/R/library/S4Vectors/include'   -I"C:/rtools44/x86_64-w64-mingw32.static.posix/include"      -O2 -Wall  -mfpmath=sse -msse2 -mstackrealign   -c R_init_DelayedArray.c -o R_init_DelayedArray.o
gcc  -I"E:/biocbuild/bbs-3.21-bioc/R/include" -DNDEBUG  -I'E:/biocbuild/bbs-3.21-bioc/R/library/S4Vectors/include'   -I"C:/rtools44/x86_64-w64-mingw32.static.posix/include"      -O2 -Wall  -mfpmath=sse -msse2 -mstackrealign   -c S4Vectors_stubs.c -o S4Vectors_stubs.o
gcc  -I"E:/biocbuild/bbs-3.21-bioc/R/include" -DNDEBUG  -I'E:/biocbuild/bbs-3.21-bioc/R/library/S4Vectors/include'   -I"C:/rtools44/x86_64-w64-mingw32.static.posix/include"      -O2 -Wall  -mfpmath=sse -msse2 -mstackrealign   -c compress_atomic_vector.c -o compress_atomic_vector.o
gcc -shared -s -static-libgcc -o DelayedArray.dll tmp.def R_init_DelayedArray.o S4Vectors_stubs.o compress_atomic_vector.o -LC:/rtools44/x86_64-w64-mingw32.static.posix/lib/x64 -LC:/rtools44/x86_64-w64-mingw32.static.posix/lib -LE:/biocbuild/bbs-3.21-bioc/R/bin/x64 -lR
installing to E:/biocbuild/bbs-3.21-bioc/R/library/00LOCK-DelayedArray/00new/DelayedArray/libs/x64
** R
** inst
** byte-compile and prepare package for lazy loading
Creating a new generic function for 'apply' in package 'DelayedArray'
Creating a new generic function for 'sweep' in package 'DelayedArray'
Creating a new generic function for 'scale' in package 'DelayedArray'
Creating a generic function for 'dnorm' from package 'stats' in package 'DelayedArray'
Creating a generic function for 'pnorm' from package 'stats' in package 'DelayedArray'
Creating a generic function for 'qnorm' from package 'stats' in package 'DelayedArray'
Creating a generic function for 'dbinom' from package 'stats' in package 'DelayedArray'
Creating a generic function for 'pbinom' from package 'stats' in package 'DelayedArray'
Creating a generic function for 'qbinom' from package 'stats' in package 'DelayedArray'
Creating a generic function for 'dpois' from package 'stats' in package 'DelayedArray'
Creating a generic function for 'ppois' from package 'stats' in package 'DelayedArray'
Creating a generic function for 'qpois' from package 'stats' in package 'DelayedArray'
Creating a generic function for 'dlogis' from package 'stats' in package 'DelayedArray'
Creating a generic function for 'plogis' from package 'stats' in package 'DelayedArray'
Creating a generic function for 'qlogis' from package 'stats' in package 'DelayedArray'
** help
*** installing help indices
** building package indices
** installing vignettes
** testing if installed package can be loaded from temporary location
** testing if installed package can be loaded from final location
** testing if installed package keeps a record of temporary installation path
* DONE (DelayedArray)