Back to Build/check report for BioC 3.23:   simplified   long
ABC[D]EFGHIJKLMNOPQRSTUVWXYZ

This page was generated on 2025-11-01 11:32 -0400 (Sat, 01 Nov 2025).

HostnameOSArch (*)R versionInstalled pkgs
nebbiolo1Linux (Ubuntu 24.04.3 LTS)x86_64R Under development (unstable) (2025-10-20 r88955) -- "Unsuffered Consequences" 4774
Click on any hostname to see more info about the system (e.g. compilers)      (*) as reported by 'uname -p', except on Windows and Mac OS X

Package 529/2321HostnameOS / ArchINSTALLBUILDCHECKBUILD BIN
DeconvoBuddies 1.3.0  (landing page)
Louise Huuki-Myers
Snapshot Date: 2025-10-31 13:40 -0400 (Fri, 31 Oct 2025)
git_url: https://git.bioconductor.org/packages/DeconvoBuddies
git_branch: devel
git_last_commit: a72d7d5
git_last_commit_date: 2025-10-29 11:35:32 -0400 (Wed, 29 Oct 2025)
nebbiolo1Linux (Ubuntu 24.04.3 LTS) / x86_64  OK    OK    OK  NO, package depends on 'scran' which is not available


CHECK results for DeconvoBuddies on nebbiolo1

To the developers/maintainers of the DeconvoBuddies package:
- Allow up to 24 hours (and sometimes 48 hours) for your latest push to git@git.bioconductor.org:packages/DeconvoBuddies.git to reflect on this report. See Troubleshooting Build Report for more information.
- Use the following Renviron settings to reproduce errors and warnings.
- If 'R CMD check' started to fail recently on the Linux builder(s) over a missing dependency, add the missing dependency to 'Suggests:' in your DESCRIPTION file. See Renviron.bioc for more information.

raw results


Summary

Package: DeconvoBuddies
Version: 1.3.0
Command: /home/biocbuild/bbs-3.23-bioc/R/bin/R CMD check --install=check:DeconvoBuddies.install-out.txt --library=/home/biocbuild/bbs-3.23-bioc/R/site-library --timings DeconvoBuddies_1.3.0.tar.gz
StartedAt: 2025-10-31 22:36:37 -0400 (Fri, 31 Oct 2025)
EndedAt: 2025-10-31 22:57:46 -0400 (Fri, 31 Oct 2025)
EllapsedTime: 1269.6 seconds
RetCode: 0
Status:   OK  
CheckDir: DeconvoBuddies.Rcheck
Warnings: 0

Command output

##############################################################################
##############################################################################
###
### Running command:
###
###   /home/biocbuild/bbs-3.23-bioc/R/bin/R CMD check --install=check:DeconvoBuddies.install-out.txt --library=/home/biocbuild/bbs-3.23-bioc/R/site-library --timings DeconvoBuddies_1.3.0.tar.gz
###
##############################################################################
##############################################################################


* using log directory ‘/home/biocbuild/bbs-3.23-bioc/meat/DeconvoBuddies.Rcheck’
* using R Under development (unstable) (2025-10-20 r88955)
* using platform: x86_64-pc-linux-gnu
* R was compiled by
    gcc (Ubuntu 13.3.0-6ubuntu2~24.04) 13.3.0
    GNU Fortran (Ubuntu 13.3.0-6ubuntu2~24.04) 13.3.0
* running under: Ubuntu 24.04.3 LTS
* using session charset: UTF-8
* checking for file ‘DeconvoBuddies/DESCRIPTION’ ... OK
* this is package ‘DeconvoBuddies’ version ‘1.3.0’
* package encoding: UTF-8
* checking package namespace information ... OK
* checking package dependencies ... OK
* checking if this is a source package ... OK
* checking if there is a namespace ... OK
* checking for hidden files and directories ... OK
* checking for portable file names ... OK
* checking for sufficient/correct file permissions ... OK
* checking whether package ‘DeconvoBuddies’ can be installed ... OK
* checking installed package size ... OK
* checking package directory ... OK
* checking ‘build’ directory ... OK
* checking DESCRIPTION meta-information ... OK
* checking top-level files ... OK
* checking for left-over files ... OK
* checking index information ... OK
* checking package subdirectories ... OK
* checking code files for non-ASCII characters ... OK
* checking R files for syntax errors ... OK
* checking whether the package can be loaded ... OK
* checking whether the package can be loaded with stated dependencies ... OK
* checking whether the package can be unloaded cleanly ... OK
* checking whether the namespace can be loaded with stated dependencies ... OK
* checking whether the namespace can be unloaded cleanly ... OK
* checking loading without being on the library search path ... OK
* checking dependencies in R code ... OK
* checking S3 generic/method consistency ... OK
* checking replacement functions ... OK
* checking foreign function calls ... OK
* checking R code for possible problems ... OK
* checking Rd files ... OK
* checking Rd metadata ... OK
* checking Rd cross-references ... OK
* checking for missing documentation entries ... OK
* checking for code/documentation mismatches ... OK
* checking Rd \usage sections ... OK
* checking Rd contents ... OK
* checking for unstated dependencies in examples ... OK
* checking contents of ‘data’ directory ... OK
* checking data for non-ASCII characters ... OK
* checking data for ASCII and uncompressed saves ... OK
* checking R/sysdata.rda ... OK
* checking files in ‘vignettes’ ... OK
* checking examples ... OK
Examples with CPU (user + system) or elapsed time > 5s
                           user system elapsed
plot_marker_express_ALL  23.907  1.169  25.291
plot_gene_express         9.827  0.791  10.894
findMarkers_1vAll         9.385  0.714  10.313
fetch_deconvo_data        5.610  0.727   6.874
plot_marker_express_List  4.995  1.068   6.326
plot_marker_express       5.210  0.639   6.078
* checking for unstated dependencies in ‘tests’ ... OK
* checking tests ...
  Running ‘testthat.R’
 OK
* checking for unstated dependencies in vignettes ... OK
* checking package vignettes ... OK
* checking re-building of vignette outputs ... OK
* checking PDF version of manual ... OK
* DONE

Status: OK


Installation output

DeconvoBuddies.Rcheck/00install.out

##############################################################################
##############################################################################
###
### Running command:
###
###   /home/biocbuild/bbs-3.23-bioc/R/bin/R CMD INSTALL DeconvoBuddies
###
##############################################################################
##############################################################################


* installing to library ‘/home/biocbuild/bbs-3.23-bioc/R/site-library’
* installing *source* package ‘DeconvoBuddies’ ...
** this is package ‘DeconvoBuddies’ version ‘1.3.0’
** using staged installation
** R
** data
** inst
** byte-compile and prepare package for lazy loading
** help
*** installing help indices
*** copying figures
** building package indices
** installing vignettes
** testing if installed package can be loaded from temporary location
** testing if installed package can be loaded from final location
** testing if installed package keeps a record of temporary installation path
* DONE (DeconvoBuddies)

Tests output

DeconvoBuddies.Rcheck/tests/testthat.Rout


R Under development (unstable) (2025-10-20 r88955) -- "Unsuffered Consequences"
Copyright (C) 2025 The R Foundation for Statistical Computing
Platform: x86_64-pc-linux-gnu

R is free software and comes with ABSOLUTELY NO WARRANTY.
You are welcome to redistribute it under certain conditions.
Type 'license()' or 'licence()' for distribution details.

R is a collaborative project with many contributors.
Type 'contributors()' for more information and
'citation()' on how to cite R or R packages in publications.

Type 'demo()' for some demos, 'help()' for on-line help, or
'help.start()' for an HTML browser interface to help.
Type 'q()' to quit R.

> library(testthat)
> library(DeconvoBuddies)
> 
> test_check("DeconvoBuddies")
2025-10-31 22:43:57.520566 Access ExperimentHub EH9626
see ?DeconvoBuddies and browseVignettes('DeconvoBuddies') for documentation
loading from cache
2025-10-31 22:44:06.958873 Access ExperimentHub EH9626
see ?DeconvoBuddies and browseVignettes('DeconvoBuddies') for documentation
loading from cache
2025-10-31 22:44:13.387764 Access ExperimentHub EH9626
see ?DeconvoBuddies and browseVignettes('DeconvoBuddies') for documentation
loading from cache
2025-10-31 22:44:16.020236 Access ExperimentHub EH9626
see ?DeconvoBuddies and browseVignettes('DeconvoBuddies') for documentation
loading from cache
2025-10-31 22:44:19.752793 Access ExperimentHub EH9626
see ?DeconvoBuddies and browseVignettes('DeconvoBuddies') for documentation
loading from cache
[ FAIL 0 | WARN 3 | SKIP 0 | PASS 33 ]

[ FAIL 0 | WARN 3 | SKIP 0 | PASS 33 ]
> 
> proc.time()
   user  system elapsed 
 45.302   2.728  49.559 

Example timings

DeconvoBuddies.Rcheck/DeconvoBuddies-Ex.timings

nameusersystemelapsed
RNAScope_prop0.0010.0000.001
create_cell_colors0.0230.0110.033
est_prop0.0060.0010.007
est_prop_test0.0040.0000.003
fetch_deconvo_data5.6100.7276.874
findMarkers_1vAll 9.385 0.71410.313
get_mean_ratio3.8340.3004.358
make_test_sce0.1310.0140.145
marker_stats_1vAll0.0010.0000.002
marker_test0.0010.0000.001
plot_composition_bar1.8360.1361.972
plot_gene_express 9.827 0.79110.894
plot_marker_express5.2100.6396.078
plot_marker_express_ALL23.907 1.16925.291
plot_marker_express_List4.9951.0686.326
rse_bulk_test0.0010.0000.001
sce_ab0.0010.0000.001