Back to Build/check report for BioC 3.23:   simplified   long
AB[C]DEFGHIJKLMNOPQRSTUVWXYZ

This page was generated on 2025-11-04 11:32 -0500 (Tue, 04 Nov 2025).

HostnameOSArch (*)R versionInstalled pkgs
nebbiolo1Linux (Ubuntu 24.04.3 LTS)x86_64R Under development (unstable) (2025-10-20 r88955) -- "Unsuffered Consequences" 4788
Click on any hostname to see more info about the system (e.g. compilers)      (*) as reported by 'uname -p', except on Windows and Mac OS X

Package 504/2323HostnameOS / ArchINSTALLBUILDCHECKBUILD BIN
CytoPipelineGUI 1.9.0  (landing page)
Philippe Hauchamps
Snapshot Date: 2025-11-03 13:40 -0500 (Mon, 03 Nov 2025)
git_url: https://git.bioconductor.org/packages/CytoPipelineGUI
git_branch: devel
git_last_commit: ae44853
git_last_commit_date: 2025-10-29 11:25:00 -0500 (Wed, 29 Oct 2025)
nebbiolo1Linux (Ubuntu 24.04.3 LTS) / x86_64  OK    OK    OK  UNNEEDED, same version is already published


BUILD results for CytoPipelineGUI on nebbiolo1

To the developers/maintainers of the CytoPipelineGUI package:
- Allow up to 24 hours (and sometimes 48 hours) for your latest push to git@git.bioconductor.org:packages/CytoPipelineGUI.git to reflect on this report. See Troubleshooting Build Report for more information.
- Use the following Renviron settings to reproduce errors and warnings.
- If 'R CMD check' started to fail recently on the Linux builder(s) over a missing dependency, add the missing dependency to 'Suggests:' in your DESCRIPTION file. See Renviron.bioc for more information.

raw results


Summary

Package: CytoPipelineGUI
Version: 1.9.0
Command: /home/biocbuild/bbs-3.23-bioc/R/bin/R CMD build --keep-empty-dirs --no-resave-data CytoPipelineGUI
StartedAt: 2025-11-03 17:03:24 -0500 (Mon, 03 Nov 2025)
EndedAt: 2025-11-03 17:04:06 -0500 (Mon, 03 Nov 2025)
EllapsedTime: 42.0 seconds
RetCode: 0
Status:   OK  
PackageFile: CytoPipelineGUI_1.9.0.tar.gz
PackageFileSize: 1.366 MiB

Command output

##############################################################################
##############################################################################
###
### Running command:
###
###   /home/biocbuild/bbs-3.23-bioc/R/bin/R CMD build --keep-empty-dirs --no-resave-data CytoPipelineGUI
###
##############################################################################
##############################################################################


* checking for file ‘CytoPipelineGUI/DESCRIPTION’ ... OK
* preparing ‘CytoPipelineGUI’:
* checking DESCRIPTION meta-information ... OK
* installing the package (it is needed to build vignettes)
* creating vignettes ... OK
* checking for LF line-endings in source and make files and shell scripts
* checking for empty or unneeded directories
* building ‘CytoPipelineGUI_1.9.0.tar.gz’