Back to Multiple platform build/check report for BioC 3.22:   simplified   long
AB[C]DEFGHIJKLMNOPQRSTUVWXYZ

This page was generated on 2025-04-30 12:08 -0400 (Wed, 30 Apr 2025).

HostnameOSArch (*)R versionInstalled pkgs
nebbiolo2Linux (Ubuntu 24.04.1 LTS)x86_644.5.0 (2025-04-11) -- "How About a Twenty-Six" 4734
palomino8Windows Server 2022 Datacenterx644.5.0 (2025-04-11 ucrt) -- "How About a Twenty-Six" 4496
lconwaymacOS 12.7.1 Montereyx86_644.5.0 Patched (2025-04-21 r88169) -- "How About a Twenty-Six" 4534
kjohnson3macOS 13.7.1 Venturaarm644.5.0 Patched (2025-04-21 r88169) -- "How About a Twenty-Six" 4476
taishanLinux (openEuler 24.03 LTS)aarch644.5.0 (2025-04-11) -- "How About a Twenty-Six" 4410
Click on any hostname to see more info about the system (e.g. compilers)      (*) as reported by 'uname -p', except on Windows and Mac OS X

Package 498/2302HostnameOS / ArchINSTALLBUILDCHECKBUILD BIN
CytoML 2.21.0  (landing page)
Mike Jiang
Snapshot Date: 2025-04-29 13:00 -0400 (Tue, 29 Apr 2025)
git_url: https://git.bioconductor.org/packages/CytoML
git_branch: devel
git_last_commit: 14d4f19
git_last_commit_date: 2025-04-15 11:03:15 -0400 (Tue, 15 Apr 2025)
nebbiolo2Linux (Ubuntu 24.04.1 LTS) / x86_64  OK    OK    WARNINGS  UNNEEDED, same version is already published
palomino8Windows Server 2022 Datacenter / x64  OK    OK    WARNINGS    OK  UNNEEDED, same version is already published
lconwaymacOS 12.7.1 Monterey / x86_64  ERROR    ERROR  skippedskipped
kjohnson3macOS 13.7.1 Ventura / arm64  ERROR    ERROR  skippedskipped
taishanLinux (openEuler 24.03 LTS) / aarch64  OK    OK    WARNINGS  


INSTALL results for CytoML on lconway

To the developers/maintainers of the CytoML package:
- Allow up to 24 hours (and sometimes 48 hours) for your latest push to git@git.bioconductor.org:packages/CytoML.git to reflect on this report. See Troubleshooting Build Report for more information.
- Use the following Renviron settings to reproduce errors and warnings.
- If 'R CMD check' started to fail recently on the Linux builder(s) over a missing dependency, add the missing dependency to 'Suggests:' in your DESCRIPTION file. See Renviron.bioc for more information.

raw results


Summary

Package: CytoML
Version: 2.21.0
Command: /Library/Frameworks/R.framework/Resources/bin/R CMD INSTALL CytoML
StartedAt: 2025-04-29 15:28:45 -0400 (Tue, 29 Apr 2025)
EndedAt: 2025-04-29 15:28:46 -0400 (Tue, 29 Apr 2025)
EllapsedTime: 1.6 seconds
RetCode: 1
Status:   ERROR  

Command output

##############################################################################
##############################################################################
###
### Running command:
###
###   /Library/Frameworks/R.framework/Resources/bin/R CMD INSTALL CytoML
###
##############################################################################
##############################################################################


* installing to library ‘/Library/Frameworks/R.framework/Versions/4.5-x86_64/Resources/library’
ERROR: dependency ‘openCyto’ is not available for package ‘CytoML’
Perhaps try a variation of:
install.packages('openCyto')
* removing ‘/Library/Frameworks/R.framework/Versions/4.5-x86_64/Resources/library/CytoML’