Back to Build/check report for BioC 3.23:   simplified   long
AB[C]DEFGHIJKLMNOPQRSTUVWXYZ

This page was generated on 2025-11-07 11:32 -0500 (Fri, 07 Nov 2025).

HostnameOSArch (*)R versionInstalled pkgs
nebbiolo1Linux (Ubuntu 24.04.3 LTS)x86_64R Under development (unstable) (2025-10-20 r88955) -- "Unsuffered Consequences" 4818
Click on any hostname to see more info about the system (e.g. compilers)      (*) as reported by 'uname -p', except on Windows and Mac OS X

Package 362/2323HostnameOS / ArchINSTALLBUILDCHECKBUILD BIN
CiteFuse 1.23.0  (landing page)
Yingxin Lin
Snapshot Date: 2025-11-06 13:40 -0500 (Thu, 06 Nov 2025)
git_url: https://git.bioconductor.org/packages/CiteFuse
git_branch: devel
git_last_commit: ef26cba
git_last_commit_date: 2025-10-29 10:58:33 -0500 (Wed, 29 Oct 2025)
nebbiolo1Linux (Ubuntu 24.04.3 LTS) / x86_64  OK    OK    OK  UNNEEDED, same version is already published


CHECK results for CiteFuse on nebbiolo1

To the developers/maintainers of the CiteFuse package:
- Allow up to 24 hours (and sometimes 48 hours) for your latest push to git@git.bioconductor.org:packages/CiteFuse.git to reflect on this report. See Troubleshooting Build Report for more information.
- Use the following Renviron settings to reproduce errors and warnings.
- If 'R CMD check' started to fail recently on the Linux builder(s) over a missing dependency, add the missing dependency to 'Suggests:' in your DESCRIPTION file. See Renviron.bioc for more information.

raw results


Summary

Package: CiteFuse
Version: 1.23.0
Command: /home/biocbuild/bbs-3.23-bioc/R/bin/R CMD check --install=check:CiteFuse.install-out.txt --library=/home/biocbuild/bbs-3.23-bioc/R/site-library --timings CiteFuse_1.23.0.tar.gz
StartedAt: 2025-11-06 21:54:16 -0500 (Thu, 06 Nov 2025)
EndedAt: 2025-11-06 22:01:02 -0500 (Thu, 06 Nov 2025)
EllapsedTime: 406.6 seconds
RetCode: 0
Status:   OK  
CheckDir: CiteFuse.Rcheck
Warnings: 0

Command output

##############################################################################
##############################################################################
###
### Running command:
###
###   /home/biocbuild/bbs-3.23-bioc/R/bin/R CMD check --install=check:CiteFuse.install-out.txt --library=/home/biocbuild/bbs-3.23-bioc/R/site-library --timings CiteFuse_1.23.0.tar.gz
###
##############################################################################
##############################################################################


* using log directory ‘/home/biocbuild/bbs-3.23-bioc/meat/CiteFuse.Rcheck’
* using R Under development (unstable) (2025-10-20 r88955)
* using platform: x86_64-pc-linux-gnu
* R was compiled by
    gcc (Ubuntu 13.3.0-6ubuntu2~24.04) 13.3.0
    GNU Fortran (Ubuntu 13.3.0-6ubuntu2~24.04) 13.3.0
* running under: Ubuntu 24.04.3 LTS
* using session charset: UTF-8
* checking for file ‘CiteFuse/DESCRIPTION’ ... OK
* checking extension type ... Package
* this is package ‘CiteFuse’ version ‘1.23.0’
* package encoding: UTF-8
* checking package namespace information ... OK
* checking package dependencies ... INFO
Imports includes 23 non-default packages.
Importing from so many packages makes the package vulnerable to any of
them becoming unavailable.  Move as many as possible to Suggests and
use conditionally.
* checking if this is a source package ... OK
* checking if there is a namespace ... OK
* checking for hidden files and directories ... OK
* checking for portable file names ... OK
* checking for sufficient/correct file permissions ... OK
* checking whether package ‘CiteFuse’ can be installed ... OK
* used C++ compiler: ‘g++ (Ubuntu 13.3.0-6ubuntu2~24.04) 13.3.0’
* checking installed package size ... OK
* checking package directory ... OK
* checking ‘build’ directory ... OK
* checking DESCRIPTION meta-information ... OK
* checking top-level files ... OK
* checking for left-over files ... OK
* checking index information ... OK
* checking package subdirectories ... OK
* checking code files for non-ASCII characters ... OK
* checking R files for syntax errors ... OK
* checking whether the package can be loaded ... OK
* checking whether the package can be loaded with stated dependencies ... OK
* checking whether the package can be unloaded cleanly ... OK
* checking whether the namespace can be loaded with stated dependencies ... OK
* checking whether the namespace can be unloaded cleanly ... OK
* checking loading without being on the library search path ... OK
* checking dependencies in R code ... OK
* checking S3 generic/method consistency ... OK
* checking replacement functions ... OK
* checking foreign function calls ... OK
* checking R code for possible problems ... OK
* checking Rd files ... OK
* checking Rd metadata ... OK
* checking Rd cross-references ... OK
* checking for missing documentation entries ... OK
* checking for code/documentation mismatches ... OK
* checking Rd \usage sections ... OK
* checking Rd contents ... OK
* checking for unstated dependencies in examples ... OK
* checking contents of ‘data’ directory ... OK
* checking data for non-ASCII characters ... OK
* checking data for ASCII and uncompressed saves ... OK
* checking line endings in C/C++/Fortran sources/headers ... OK
* checking compiled code ... INFO
Note: information on .o files is not available
* checking files in ‘vignettes’ ... OK
* checking examples ... OK
Examples with CPU (user + system) or elapsed time > 5s
               user system elapsed
DEgenesCross 27.045  2.175  29.222
plotHTO       4.995  0.006   5.000
* checking for unstated dependencies in vignettes ... OK
* checking package vignettes ... OK
* checking re-building of vignette outputs ... OK
* checking PDF version of manual ... OK
* DONE

Status: OK


Installation output

CiteFuse.Rcheck/00install.out

##############################################################################
##############################################################################
###
### Running command:
###
###   /home/biocbuild/bbs-3.23-bioc/R/bin/R CMD INSTALL CiteFuse
###
##############################################################################
##############################################################################


* installing to library ‘/home/biocbuild/bbs-3.23-bioc/R/site-library’
* installing *source* package ‘CiteFuse’ ...
** this is package ‘CiteFuse’ version ‘1.23.0’
** using staged installation
** libs
using C++ compiler: ‘g++ (Ubuntu 13.3.0-6ubuntu2~24.04) 13.3.0’
g++ -std=gnu++17 -I"/home/biocbuild/bbs-3.23-bioc/R/include" -DNDEBUG  -I'/home/biocbuild/bbs-3.23-bioc/R/site-library/Rcpp/include' -I/usr/local/include    -fpic  -g -O2  -Wall -Werror=format-security  -c RcppExports.cpp -o RcppExports.o
g++ -std=gnu++17 -I"/home/biocbuild/bbs-3.23-bioc/R/include" -DNDEBUG  -I'/home/biocbuild/bbs-3.23-bioc/R/site-library/Rcpp/include' -I/usr/local/include    -fpic  -g -O2  -Wall -Werror=format-security  -c backend.cpp -o backend.o
g++ -std=gnu++17 -I"/home/biocbuild/bbs-3.23-bioc/R/include" -DNDEBUG  -I'/home/biocbuild/bbs-3.23-bioc/R/site-library/Rcpp/include' -I/usr/local/include    -fpic  -g -O2  -Wall -Werror=format-security  -c lr2propr.cpp -o lr2propr.o
g++ -std=gnu++17 -shared -L/home/biocbuild/bbs-3.23-bioc/R/lib -L/usr/local/lib -o CiteFuse.so RcppExports.o backend.o lr2propr.o -L/home/biocbuild/bbs-3.23-bioc/R/lib -lR
installing to /home/biocbuild/bbs-3.23-bioc/R/site-library/00LOCK-CiteFuse/00new/CiteFuse/libs
** R
** data
** inst
** byte-compile and prepare package for lazy loading
** help
*** installing help indices
** building package indices
** installing vignettes
** testing if installed package can be loaded from temporary location
** checking absolute paths in shared objects and dynamic libraries
** testing if installed package can be loaded from final location
** testing if installed package keeps a record of temporary installation path
* DONE (CiteFuse)

Tests output


Example timings

CiteFuse.Rcheck/CiteFuse-Ex.timings

nameusersystemelapsed
CiteFuse1.4670.0541.522
DEbubblePlot1.7570.0511.808
DEcomparisonPlot1.7830.0611.843
DEgenes0.9510.0330.985
DEgenesCross27.045 2.17529.222
crossSampleDoublets0.6750.0090.684
geneADTnetwork0.4510.0070.458
igraphClustering0.3340.0040.338
importanceADT0.9460.0210.967
ligandReceptorTest0.4910.0020.493
normaliseExprs0.5040.0030.507
plotHTO4.9950.0065.000
preprocessing0.4530.0000.453
readFrom10X000
reducedDimSNF1.4590.0041.463
selectDEgenes0.9170.0020.919
spectralClustering0.3300.0030.333
visImportance1.8980.0371.935
visLigandReceptor0.5390.0140.553
visualiseDim0.9100.0090.919
visualiseExprs1.0090.0041.013
visualiseExprsList0.6580.0050.662
visualiseKNN0.5160.0020.517
withinSampleDoublets0.6510.0070.657