| Back to Multiple platform build/check report for BioC 3.22: simplified long |
|
This page was generated on 2025-08-15 12:06 -0400 (Fri, 15 Aug 2025).
| Hostname | OS | Arch (*) | R version | Installed pkgs |
|---|---|---|---|---|
| nebbiolo2 | Linux (Ubuntu 24.04.3 LTS) | x86_64 | 4.5.1 (2025-06-13) -- "Great Square Root" | 4818 |
| palomino8 | Windows Server 2022 Datacenter | x64 | 4.5.1 (2025-06-13 ucrt) -- "Great Square Root" | 4554 |
| lconway | macOS 12.7.1 Monterey | x86_64 | 4.5.1 (2025-06-13) -- "Great Square Root" | 4595 |
| kjohnson3 | macOS 13.7.7 Ventura | arm64 | 4.5.1 Patched (2025-06-14 r88325) -- "Great Square Root" | 4537 |
| taishan | Linux (openEuler 24.03 LTS) | aarch64 | 4.5.0 (2025-04-11) -- "How About a Twenty-Six" | 4535 |
| Click on any hostname to see more info about the system (e.g. compilers) (*) as reported by 'uname -p', except on Windows and Mac OS X | ||||
| Package 359/2317 | Hostname | OS / Arch | INSTALL | BUILD | CHECK | BUILD BIN | ||||||||
| CircSeqAlignTk 1.11.2 (landing page) Jianqiang Sun
| nebbiolo2 | Linux (Ubuntu 24.04.3 LTS) / x86_64 | OK | OK | OK | |||||||||
| palomino8 | Windows Server 2022 Datacenter / x64 | OK | OK | ERROR | OK | |||||||||
| lconway | macOS 12.7.1 Monterey / x86_64 | OK | OK | OK | OK | |||||||||
| kjohnson3 | macOS 13.7.7 Ventura / arm64 | OK | OK | OK | OK | |||||||||
| taishan | Linux (openEuler 24.03 LTS) / aarch64 | OK | OK | OK | ||||||||||
|
To the developers/maintainers of the CircSeqAlignTk package: - Allow up to 24 hours (and sometimes 48 hours) for your latest push to git@git.bioconductor.org:packages/CircSeqAlignTk.git to reflect on this report. See Troubleshooting Build Report for more information. - Use the following Renviron settings to reproduce errors and warnings. - If 'R CMD check' started to fail recently on the Linux builder(s) over a missing dependency, add the missing dependency to 'Suggests:' in your DESCRIPTION file. See Renviron.bioc for more information. |
| Package: CircSeqAlignTk |
| Version: 1.11.2 |
| Command: F:\biocbuild\bbs-3.22-bioc\R\bin\R.exe CMD check --no-multiarch --install=check:CircSeqAlignTk.install-out.txt --library=F:\biocbuild\bbs-3.22-bioc\R\library --no-vignettes --timings CircSeqAlignTk_1.11.2.tar.gz |
| StartedAt: 2025-08-15 01:39:48 -0400 (Fri, 15 Aug 2025) |
| EndedAt: 2025-08-15 01:46:38 -0400 (Fri, 15 Aug 2025) |
| EllapsedTime: 410.2 seconds |
| RetCode: 1 |
| Status: ERROR |
| CheckDir: CircSeqAlignTk.Rcheck |
| Warnings: NA |
##############################################################################
##############################################################################
###
### Running command:
###
### F:\biocbuild\bbs-3.22-bioc\R\bin\R.exe CMD check --no-multiarch --install=check:CircSeqAlignTk.install-out.txt --library=F:\biocbuild\bbs-3.22-bioc\R\library --no-vignettes --timings CircSeqAlignTk_1.11.2.tar.gz
###
##############################################################################
##############################################################################
* using log directory 'F:/biocbuild/bbs-3.22-bioc/meat/CircSeqAlignTk.Rcheck'
* using R version 4.5.1 (2025-06-13 ucrt)
* using platform: x86_64-w64-mingw32
* R was compiled by
gcc.exe (GCC) 14.2.0
GNU Fortran (GCC) 14.2.0
* running under: Windows Server 2022 x64 (build 20348)
* using session charset: UTF-8
* using option '--no-vignettes'
* checking for file 'CircSeqAlignTk/DESCRIPTION' ... OK
* checking extension type ... Package
* this is package 'CircSeqAlignTk' version '1.11.2'
* package encoding: UTF-8
* checking package namespace information ... OK
* checking package dependencies ... OK
* checking if this is a source package ... OK
* checking if there is a namespace ... OK
* checking for hidden files and directories ... OK
* checking for portable file names ... OK
* checking whether package 'CircSeqAlignTk' can be installed ... OK
* checking installed package size ... OK
* checking package directory ... OK
* checking 'build' directory ... OK
* checking DESCRIPTION meta-information ... NOTE
License stub is invalid DCF.
* checking top-level files ... OK
* checking for left-over files ... OK
* checking index information ... OK
* checking package subdirectories ... OK
* checking code files for non-ASCII characters ... OK
* checking R files for syntax errors ... OK
* checking whether the package can be loaded ... OK
* checking whether the package can be loaded with stated dependencies ... OK
* checking whether the package can be unloaded cleanly ... OK
* checking whether the namespace can be loaded with stated dependencies ... OK
* checking whether the namespace can be unloaded cleanly ... OK
* checking dependencies in R code ... OK
* checking S3 generic/method consistency ... OK
* checking replacement functions ... OK
* checking foreign function calls ... OK
* checking R code for possible problems ... OK
* checking Rd files ... OK
* checking Rd metadata ... OK
* checking Rd cross-references ... OK
* checking for missing documentation entries ... OK
* checking for code/documentation mismatches ... OK
* checking Rd \usage sections ... OK
* checking Rd contents ... OK
* checking for unstated dependencies in examples ... OK
* checking files in 'vignettes' ... OK
* checking examples ... OK
Examples with CPU (user + system) or elapsed time > 5s
user system elapsed
align_reads 4.94 0.31 6.48
* checking for unstated dependencies in 'tests' ... OK
* checking tests ...
Running 'testthat.R'
ERROR
Running the tests in 'tests/testthat.R' failed.
Last 13 lines of output:
Backtrace:
▆
1. └─CircSeqAlignTk::align_reads(...) at test_workflow.R:24:5
2. └─CircSeqAlignTk:::.align_reads(...)
3. ├─Rsamtools::asBam(output_sam)
4. └─Rsamtools::asBam(output_sam)
5. └─Rsamtools (local) .local(file, destination, ...)
6. └─base::tryCatch(...)
7. └─base (local) tryCatchList(expr, classes, parentenv, handlers)
8. └─base (local) tryCatchOne(expr, names, parentenv, handlers[[1L]])
9. └─value[[3L]](cond)
[ FAIL 1 | WARN 18 | SKIP 4 | PASS 0 ]
Error: Test failures
Execution halted
* checking for unstated dependencies in vignettes ... OK
* checking package vignettes ... OK
* checking running R code from vignettes ... SKIPPED
* checking re-building of vignette outputs ... SKIPPED
* checking PDF version of manual ... OK
* DONE
Status: 1 ERROR, 1 NOTE
See
'F:/biocbuild/bbs-3.22-bioc/meat/CircSeqAlignTk.Rcheck/00check.log'
for details.
CircSeqAlignTk.Rcheck/00install.out
############################################################################## ############################################################################## ### ### Running command: ### ### F:\biocbuild\bbs-3.22-bioc\R\bin\R.exe CMD INSTALL CircSeqAlignTk ### ############################################################################## ############################################################################## * installing to library 'F:/biocbuild/bbs-3.22-bioc/R/library' * installing *source* package 'CircSeqAlignTk' ... ** this is package 'CircSeqAlignTk' version '1.11.2' ** using staged installation ** R ** inst ** byte-compile and prepare package for lazy loading ** help *** installing help indices ** building package indices ** installing vignettes ** testing if installed package can be loaded from temporary location ** testing if installed package can be loaded from final location ** testing if installed package keeps a record of temporary installation path * DONE (CircSeqAlignTk)
CircSeqAlignTk.Rcheck/tests/testthat.Rout.fail
R version 4.5.1 (2025-06-13 ucrt) -- "Great Square Root"
Copyright (C) 2025 The R Foundation for Statistical Computing
Platform: x86_64-w64-mingw32/x64
R is free software and comes with ABSOLUTELY NO WARRANTY.
You are welcome to redistribute it under certain conditions.
Type 'license()' or 'licence()' for distribution details.
R is a collaborative project with many contributors.
Type 'contributors()' for more information and
'citation()' on how to cite R or R packages in publications.
Type 'demo()' for some demos, 'help()' for on-line help, or
'help.start()' for an HTML browser interface to help.
Type 'q()' to quit R.
> library('testthat')
> library('CircSeqAlignTk')
> test_check('CircSeqAlignTk')
Settings:
Output files: "tmp_ht2index/refseq.t1.*.ht2"
Line rate: 6 (line is 64 bytes)
Lines per side: 1 (side is 64 bytes)
Offset rate: 4 (one in 16)
FTable chars: 10
Strings: unpacked
Local offset rate: 3 (one in 8)
Local fTable chars: 6
Local sequence length: 57344
Local sequence overlap between two consecutive indexes: 1024
Endianness: little
Actual local endianness: little
Sanity checking: disabled
Assertions: disabled
Random seed: 0
Sizeofs: void*:8, int:4, long:4, size_t:8
Input files DNA, FASTA:
tmp_ht2index/refseq.t1.fa
Reading reference sizes
Time reading reference sizes: 00:00:00
Calculating joined length
Writing header
Reserving space for joined string
Joining reference sequences
Time to join reference sequences: 00:00:00
Time to read SNPs and splice sites: 00:00:00
Using parameters --bmax 68 --dcv 1024
Doing ahead-of-time memory usage test
Passed! Constructing with these parameters: --bmax 68 --dcv 1024
Constructing suffix-array element generator
Converting suffix-array elements to index image
Allocating ftab, absorbFtab
Entering GFM loop
Exited GFM loop
fchr[A]: 0
fchr[C]: 70
fchr[G]: 180
fchr[T]: 281
fchr[$]: 361
Exiting GFM::buildToDisk()
Returning from initFromVector
Wrote 4194625 bytes to primary GFM file: tmp_ht2index/refseq.t1.1.ht2
Wrote 96 bytes to secondary GFM file: tmp_ht2index/refseq.t1.2.ht2
Re-opening _in1 and _in2 as input streams
Returning from GFM constructor
Returning from initFromVector
Wrote 8421 bytes to primary GFM file: tmp_ht2index/refseq.t1.5.ht2
Wrote 96 bytes to secondary GFM file: tmp_ht2index/refseq.t1.6.ht2
Re-opening _in5 and _in5 as input streams
Returning from HGFM constructor
Headers:
len: 361
gbwtLen: 362
nodes: 362
sz: 91
gbwtSz: 91
lineRate: 6
offRate: 4
offMask: 0xfffffff0
ftabChars: 10
eftabLen: 0
eftabSz: 0
ftabLen: 1048577
ftabSz: 4194308
offsLen: 23
offsSz: 92
lineSz: 64
sideSz: 64
sideGbwtSz: 48
sideGbwtLen: 192
numSides: 2
numLines: 2
gbwtTotLen: 128
gbwtTotSz: 128
reverse: 0
linearFM: Yes
Total time for call to driver() for forward index: 00:00:01
Settings:
Output files: "tmp_ht2index/refseq.t2.*.ht2"
Line rate: 6 (line is 64 bytes)
Lines per side: 1 (side is 64 bytes)
Offset rate: 4 (one in 16)
FTable chars: 10
Strings: unpacked
Local offset rate: 3 (one in 8)
Local fTable chars: 6
Local sequence length: 57344
Local sequence overlap between two consecutive indexes: 1024
Endianness: little
Actual local endianness: little
Sanity checking: disabled
Assertions: disabled
Random seed: 0
Sizeofs: void*:8, int:4, long:4, size_t:8
Input files DNA, FASTA:
tmp_ht2index/refseq.t2.fa
Reading reference sizes
Time reading reference sizes: 00:00:00
Calculating joined length
Writing header
Reserving space for joined string
Joining reference sequences
Time to join reference sequences: 00:00:00
Time to read SNPs and splice sites: 00:00:00
Using parameters --bmax 68 --dcv 1024
Doing ahead-of-time memory usage test
Passed! Constructing with these parameters: --bmax 68 --dcv 1024
Constructing suffix-array element generator
Converting suffix-array elements to index image
Allocating ftab, absorbFtab
Entering GFM loop
Exited GFM loop
fchr[A]: 0
fchr[C]: 70
fchr[G]: 180
fchr[T]: 281
fchr[$]: 361
Exiting GFM::buildToDisk()
Returning from initFromVector
Wrote 4194625 bytes to primary GFM file: tmp_ht2index/refseq.t2.1.ht2
Wrote 96 bytes to secondary GFM file: tmp_ht2index/refseq.t2.2.ht2
Re-opening _in1 and _in2 as input streams
Returning from GFM constructor
Returning from initFromVector
Wrote 8421 bytes to primary GFM file: tmp_ht2index/refseq.t2.5.ht2
Wrote 96 bytes to secondary GFM file: tmp_ht2index/refseq.t2.6.ht2
Re-opening _in5 and _in5 as input streams
Returning from HGFM constructor
Headers:
len: 361
gbwtLen: 362
nodes: 362
sz: 91
gbwtSz: 91
lineRate: 6
offRate: 4
offMask: 0xfffffff0
ftabChars: 10
eftabLen: 0
eftabSz: 0
ftabLen: 1048577
ftabSz: 4194308
offsLen: 23
offsSz: 92
lineSz: 64
sideSz: 64
sideGbwtSz: 48
sideGbwtLen: 192
numSides: 2
numLines: 2
gbwtTotLen: 128
gbwtTotSz: 128
reverse: 0
linearFM: Yes
Total time for call to driver() for forward index: 00:00:00
29178 reads; of these:
29178 (100.00%) were unpaired; of these:
29007 (99.41%) aligned 0 times
171 (0.59%) aligned exactly 1 time
0 (0.00%) aligned >1 times
0.59% overall alignment rate
29007 reads; of these:
29007 (100.00%) were unpaired; of these:
28978 (99.90%) aligned 0 times
29 (0.10%) aligned exactly 1 time
0 (0.00%) aligned >1 times
0.10% overall alignment rate
29178 reads; of these:
29178 (100.00%) were unpaired; of these:
29007 (99.41%) aligned 0 times
171 (0.59%) aligned exactly 1 time
0 (0.00%) aligned >1 times
0.59% overall alignment rate
29007 reads; of these:
29007 (100.00%) were unpaired; of these:
28978 (99.90%) aligned 0 times
29 (0.10%) aligned exactly 1 time
0 (0.00%) aligned >1 times
0.10% overall alignment rate
Building a SMALL index
Building a SMALL index
Saw ASCII character 10 but expected 33-based Phred qual.
terminate called after throwing an instance of 'int'
Can't spawn ""F:\biocbuild\bbs-3.22-bioc\R\library\Rbowtie2\bowtie2-align-s.exe" --wrapper basic-0 --threads 1 -x "F:/biocbuild/bbs-3.22-bioc/tmpdir/RtmpeeCJSy/tmp_bt2index/refseq.t1" -S "F:/biocbuild/bbs-3.22-bioc/tmpdir/RtmpeeCJSy/file213141b216bdd.sam" -U "F:/biocbuild/bbs-3.22-bioc/R/library/CircSeqAlignTk/extdata/srna.fq.gz"": No such file or directory at F:/biocbuild/bbs-3.22-bioc/R/library/Rbowtie2/bowtie2 line 629.
(ERR): bowtie2-align exited with value 255
Settings:
Output files: "tmp_index/refseq.t1.*.ht2"
Line rate: 6 (line is 64 bytes)
Lines per side: 1 (side is 64 bytes)
Offset rate: 4 (one in 16)
FTable chars: 10
Strings: unpacked
Local offset rate: 3 (one in 8)
Local fTable chars: 6
Local sequence length: 57344
Local sequence overlap between two consecutive indexes: 1024
Endianness: little
Actual local endianness: little
Sanity checking: disabled
Assertions: disabled
Random seed: 0
Sizeofs: void*:8, int:4, long:4, size_t:8
Input files DNA, FASTA:
tmp_index/refseq.t1.fa
Reading reference sizes
Time reading reference sizes: 00:00:00
Calculating joined length
Writing header
Reserving space for joined string
Joining reference sequences
Time to join reference sequences: 00:00:00
Time to read SNPs and splice sites: 00:00:00
Using parameters --bmax 68 --dcv 1024
Doing ahead-of-time memory usage test
Passed! Constructing with these parameters: --bmax 68 --dcv 1024
Constructing suffix-array element generator
Converting suffix-array elements to index image
Allocating ftab, absorbFtab
Entering GFM loop
Exited GFM loop
fchr[A]: 0
fchr[C]: 70
fchr[G]: 180
fchr[T]: 281
fchr[$]: 361
Exiting GFM::buildToDisk()
Returning from initFromVector
Wrote 4194625 bytes to primary GFM file: tmp_index/refseq.t1.1.ht2
Wrote 96 bytes to secondary GFM file: tmp_index/refseq.t1.2.ht2
Re-opening _in1 and _in2 as input streams
Returning from GFM constructor
Returning from initFromVector
Wrote 8421 bytes to primary GFM file: tmp_index/refseq.t1.5.ht2
Wrote 96 bytes to secondary GFM file: tmp_index/refseq.t1.6.ht2
Re-opening _in5 and _in5 as input streams
Returning from HGFM constructor
Headers:
len: 361
gbwtLen: 362
nodes: 362
sz: 91
gbwtSz: 91
lineRate: 6
offRate: 4
offMask: 0xfffffff0
ftabChars: 10
eftabLen: 0
eftabSz: 0
ftabLen: 1048577
ftabSz: 4194308
offsLen: 23
offsSz: 92
lineSz: 64
sideSz: 64
sideGbwtSz: 48
sideGbwtLen: 192
numSides: 2
numLines: 2
gbwtTotLen: 128
gbwtTotSz: 128
reverse: 0
linearFM: Yes
Total time for call to driver() for forward index: 00:00:01
Settings:
Output files: "tmp_index/refseq.t2.*.ht2"
Line rate: 6 (line is 64 bytes)
Lines per side: 1 (side is 64 bytes)
Offset rate: 4 (one in 16)
FTable chars: 10
Strings: unpacked
Local offset rate: 3 (one in 8)
Local fTable chars: 6
Local sequence length: 57344
Local sequence overlap between two consecutive indexes: 1024
Endianness: little
Actual local endianness: little
Sanity checking: disabled
Assertions: disabled
Random seed: 0
Sizeofs: void*:8, int:4, long:4, size_t:8
Input files DNA, FASTA:
tmp_index/refseq.t2.fa
Reading reference sizes
Time reading reference sizes: 00:00:00
Calculating joined length
Writing header
Reserving space for joined string
Joining reference sequences
Time to join reference sequences: 00:00:00
Time to read SNPs and splice sites: 00:00:00
Using parameters --bmax 68 --dcv 1024
Doing ahead-of-time memory usage test
Passed! Constructing with these parameters: --bmax 68 --dcv 1024
Constructing suffix-array element generator
Converting suffix-array elements to index image
Allocating ftab, absorbFtab
Entering GFM loop
Exited GFM loop
fchr[A]: 0
fchr[C]: 70
fchr[G]: 180
fchr[T]: 281
fchr[$]: 361
Exiting GFM::buildToDisk()
Returning from initFromVector
Wrote 4194625 bytes to primary GFM file: tmp_index/refseq.t2.1.ht2
Wrote 96 bytes to secondary GFM file: tmp_index/refseq.t2.2.ht2
Re-opening _in1 and _in2 as input streams
Returning from GFM constructor
Returning from initFromVector
Wrote 8421 bytes to primary GFM file: tmp_index/refseq.t2.5.ht2
Wrote 96 bytes to secondary GFM file: tmp_index/refseq.t2.6.ht2
Re-opening _in5 and _in5 as input streams
Returning from HGFM constructor
Headers:
len: 361
gbwtLen: 362
nodes: 362
sz: 91
gbwtSz: 91
lineRate: 6
offRate: 4
offMask: 0xfffffff0
ftabChars: 10
eftabLen: 0
eftabSz: 0
ftabLen: 1048577
ftabSz: 4194308
offsLen: 23
offsSz: 92
lineSz: 64
sideSz: 64
sideGbwtSz: 48
sideGbwtLen: 192
numSides: 2
numLines: 2
gbwtTotLen: 128
gbwtTotSz: 128
reverse: 0
linearFM: Yes
Total time for call to driver() for forward index: 00:00:00
10000 reads; of these:
10000 (100.00%) were unpaired; of these:
0 (0.00%) aligned 0 times
10000 (100.00%) aligned exactly 1 time
0 (0.00%) aligned >1 times
100.00% overall alignment rate
0 reads
0.00% overall alignment rate
Settings:
Output files: "tmp_index/refseq.t1.*.ht2"
Line rate: 6 (line is 64 bytes)
Lines per side: 1 (side is 64 bytes)
Offset rate: 4 (one in 16)
FTable chars: 10
Strings: unpacked
Local offset rate: 3 (one in 8)
Local fTable chars: 6
Local sequence length: 57344
Local sequence overlap between two consecutive indexes: 1024
Endianness: little
Actual local endianness: little
Sanity checking: disabled
Assertions: disabled
Random seed: 0
Sizeofs: void*:8, int:4, long:4, size_t:8
Input files DNA, FASTA:
tmp_index/refseq.t1.fa
Reading reference sizes
Time reading reference sizes: 00:00:00
Calculating joined length
Writing header
Reserving space for joined string
Joining reference sequences
Time to join reference sequences: 00:00:00
Time to read SNPs and splice sites: 00:00:00
Using parameters --bmax 68 --dcv 1024
Doing ahead-of-time memory usage test
Passed! Constructing with these parameters: --bmax 68 --dcv 1024
Constructing suffix-array element generator
Converting suffix-array elements to index image
Allocating ftab, absorbFtab
Entering GFM loop
Exited GFM loop
fchr[A]: 0
fchr[C]: 70
fchr[G]: 180
fchr[T]: 281
fchr[$]: 361
Exiting GFM::buildToDisk()
Returning from initFromVector
Wrote 4194625 bytes to primary GFM file: tmp_index/refseq.t1.1.ht2
Wrote 96 bytes to secondary GFM file: tmp_index/refseq.t1.2.ht2
Re-opening _in1 and _in2 as input streams
Returning from GFM constructor
Returning from initFromVector
Wrote 8421 bytes to primary GFM file: tmp_index/refseq.t1.5.ht2
Wrote 96 bytes to secondary GFM file: tmp_index/refseq.t1.6.ht2
Re-opening _in5 and _in5 as input streams
Returning from HGFM constructor
Headers:
len: 361
gbwtLen: 362
nodes: 362
sz: 91
gbwtSz: 91
lineRate: 6
offRate: 4
offMask: 0xfffffff0
ftabChars: 10
eftabLen: 0
eftabSz: 0
ftabLen: 1048577
ftabSz: 4194308
offsLen: 23
offsSz: 92
lineSz: 64
sideSz: 64
sideGbwtSz: 48
sideGbwtLen: 192
numSides: 2
numLines: 2
gbwtTotLen: 128
gbwtTotSz: 128
reverse: 0
linearFM: Yes
Total time for call to driver() for forward index: 00:00:01
Settings:
Output files: "tmp_index/refseq.t2.*.ht2"
Line rate: 6 (line is 64 bytes)
Lines per side: 1 (side is 64 bytes)
Offset rate: 4 (one in 16)
FTable chars: 10
Strings: unpacked
Local offset rate: 3 (one in 8)
Local fTable chars: 6
Local sequence length: 57344
Local sequence overlap between two consecutive indexes: 1024
Endianness: little
Actual local endianness: little
Sanity checking: disabled
Assertions: disabled
Random seed: 0
Sizeofs: void*:8, int:4, long:4, size_t:8
Input files DNA, FASTA:
tmp_index/refseq.t2.fa
Reading reference sizes
Time reading reference sizes: 00:00:00
Calculating joined length
Writing header
Reserving space for joined string
Joining reference sequences
Time to join reference sequences: 00:00:00
Time to read SNPs and splice sites: 00:00:00
Using parameters --bmax 68 --dcv 1024
Doing ahead-of-time memory usage test
Passed! Constructing with these parameters: --bmax 68 --dcv 1024
Constructing suffix-array element generator
Converting suffix-array elements to index image
Allocating ftab, absorbFtab
Entering GFM loop
Exited GFM loop
fchr[A]: 0
fchr[C]: 70
fchr[G]: 180
fchr[T]: 281
fchr[$]: 361
Exiting GFM::buildToDisk()
Returning from initFromVector
Wrote 4194625 bytes to primary GFM file: tmp_index/refseq.t2.1.ht2
Wrote 96 bytes to secondary GFM file: tmp_index/refseq.t2.2.ht2
Re-opening _in1 and _in2 as input streams
Returning from GFM constructor
Returning from initFromVector
Wrote 8421 bytes to primary GFM file: tmp_index/refseq.t2.5.ht2
Wrote 96 bytes to secondary GFM file: tmp_index/refseq.t2.6.ht2
Re-opening _in5 and _in5 as input streams
Returning from HGFM constructor
Headers:
len: 361
gbwtLen: 362
nodes: 362
sz: 91
gbwtSz: 91
lineRate: 6
offRate: 4
offMask: 0xfffffff0
ftabChars: 10
eftabLen: 0
eftabSz: 0
ftabLen: 1048577
ftabSz: 4194308
offsLen: 23
offsSz: 92
lineSz: 64
sideSz: 64
sideGbwtSz: 48
sideGbwtLen: 192
numSides: 2
numLines: 2
gbwtTotLen: 128
gbwtTotSz: 128
reverse: 0
linearFM: Yes
Total time for call to driver() for forward index: 00:00:00
10000 reads; of these:
10000 (100.00%) were unpaired; of these:
6623 (66.23%) aligned 0 times
3377 (33.77%) aligned exactly 1 time
0 (0.00%) aligned >1 times
33.77% overall alignment rate
6623 reads; of these:
6623 (100.00%) were unpaired; of these:
0 (0.00%) aligned 0 times
6623 (100.00%) aligned exactly 1 time
0 (0.00%) aligned >1 times
100.00% overall alignment rate
Settings:
Output files: "tmp_index/refseq.t1.*.ht2"
Line rate: 6 (line is 64 bytes)
Lines per side: 1 (side is 64 bytes)
Offset rate: 4 (one in 16)
FTable chars: 10
Strings: unpacked
Local offset rate: 3 (one in 8)
Local fTable chars: 6
Local sequence length: 57344
Local sequence overlap between two consecutive indexes: 1024
Endianness: little
Actual local endianness: little
Sanity checking: disabled
Assertions: disabled
Random seed: 0
Sizeofs: void*:8, int:4, long:4, size_t:8
Input files DNA, FASTA:
tmp_index/refseq.t1.fa
Reading reference sizes
Time reading reference sizes: 00:00:00
Calculating joined length
Writing header
Reserving space for joined string
Joining reference sequences
Time to join reference sequences: 00:00:00
Time to read SNPs and splice sites: 00:00:00
Using parameters --bmax 68 --dcv 1024
Doing ahead-of-time memory usage test
Passed! Constructing with these parameters: --bmax 68 --dcv 1024
Constructing suffix-array element generator
Converting suffix-array elements to index image
Allocating ftab, absorbFtab
Entering GFM loop
Exited GFM loop
fchr[A]: 0
fchr[C]: 70
fchr[G]: 180
fchr[T]: 281
fchr[$]: 361
Exiting GFM::buildToDisk()
Returning from initFromVector
Wrote 4194625 bytes to primary GFM file: tmp_index/refseq.t1.1.ht2
Wrote 96 bytes to secondary GFM file: tmp_index/refseq.t1.2.ht2
Re-opening _in1 and _in2 as input streams
Returning from GFM constructor
Returning from initFromVector
Wrote 8421 bytes to primary GFM file: tmp_index/refseq.t1.5.ht2
Wrote 96 bytes to secondary GFM file: tmp_index/refseq.t1.6.ht2
Re-opening _in5 and _in5 as input streams
Returning from HGFM constructor
Headers:
len: 361
gbwtLen: 362
nodes: 362
sz: 91
gbwtSz: 91
lineRate: 6
offRate: 4
offMask: 0xfffffff0
ftabChars: 10
eftabLen: 0
eftabSz: 0
ftabLen: 1048577
ftabSz: 4194308
offsLen: 23
offsSz: 92
lineSz: 64
sideSz: 64
sideGbwtSz: 48
sideGbwtLen: 192
numSides: 2
numLines: 2
gbwtTotLen: 128
gbwtTotSz: 128
reverse: 0
linearFM: Yes
Total time for call to driver() for forward index: 00:00:00
Settings:
Output files: "tmp_index/refseq.t2.*.ht2"
Line rate: 6 (line is 64 bytes)
Lines per side: 1 (side is 64 bytes)
Offset rate: 4 (one in 16)
FTable chars: 10
Strings: unpacked
Local offset rate: 3 (one in 8)
Local fTable chars: 6
Local sequence length: 57344
Local sequence overlap between two consecutive indexes: 1024
Endianness: little
Actual local endianness: little
Sanity checking: disabled
Assertions: disabled
Random seed: 0
Sizeofs: void*:8, int:4, long:4, size_t:8
Input files DNA, FASTA:
tmp_index/refseq.t2.fa
Reading reference sizes
Time reading reference sizes: 00:00:00
Calculating joined length
Writing header
Reserving space for joined string
Joining reference sequences
Time to join reference sequences: 00:00:00
Time to read SNPs and splice sites: 00:00:00
Using parameters --bmax 68 --dcv 1024
Doing ahead-of-time memory usage test
Passed! Constructing with these parameters: --bmax 68 --dcv 1024
Constructing suffix-array element generator
Converting suffix-array elements to index image
Allocating ftab, absorbFtab
Entering GFM loop
Exited GFM loop
fchr[A]: 0
fchr[C]: 70
fchr[G]: 180
fchr[T]: 281
fchr[$]: 361
Exiting GFM::buildToDisk()
Returning from initFromVector
Wrote 4194625 bytes to primary GFM file: tmp_index/refseq.t2.1.ht2
Wrote 96 bytes to secondary GFM file: tmp_index/refseq.t2.2.ht2
Re-opening _in1 and _in2 as input streams
Returning from GFM constructor
Returning from initFromVector
Wrote 8421 bytes to primary GFM file: tmp_index/refseq.t2.5.ht2
Wrote 96 bytes to secondary GFM file: tmp_index/refseq.t2.6.ht2
Re-opening _in5 and _in5 as input streams
Returning from HGFM constructor
Headers:
len: 361
gbwtLen: 362
nodes: 362
sz: 91
gbwtSz: 91
lineRate: 6
offRate: 4
offMask: 0xfffffff0
ftabChars: 10
eftabLen: 0
eftabSz: 0
ftabLen: 1048577
ftabSz: 4194308
offsLen: 23
offsSz: 92
lineSz: 64
sideSz: 64
sideGbwtSz: 48
sideGbwtLen: 192
numSides: 2
numLines: 2
gbwtTotLen: 128
gbwtTotSz: 128
reverse: 0
linearFM: Yes
Total time for call to driver() for forward index: 00:00:00
10000 reads; of these:
10000 (100.00%) were unpaired; of these:
506 (5.06%) aligned 0 times
9494 (94.94%) aligned exactly 1 time
0 (0.00%) aligned >1 times
94.94% overall alignment rate
506 reads; of these:
506 (100.00%) were unpaired; of these:
0 (0.00%) aligned 0 times
506 (100.00%) aligned exactly 1 time
0 (0.00%) aligned >1 times
100.00% overall alignment rate
10000 reads; of these:
10000 (100.00%) were unpaired; of these:
971 (9.71%) aligned 0 times
9029 (90.29%) aligned exactly 1 time
0 (0.00%) aligned >1 times
90.29% overall alignment rate
971 reads; of these:
971 (100.00%) were unpaired; of these:
0 (0.00%) aligned 0 times
971 (100.00%) aligned exactly 1 time
0 (0.00%) aligned >1 times
100.00% overall alignment rate
10000 reads; of these:
10000 (100.00%) were unpaired; of these:
0 (0.00%) aligned 0 times
10000 (100.00%) aligned exactly 1 time
0 (0.00%) aligned >1 times
100.00% overall alignment rate
0 reads
0.00% overall alignment rate
10000 reads; of these:
10000 (100.00%) were unpaired; of these:
0 (0.00%) aligned 0 times
10000 (100.00%) aligned exactly 1 time
0 (0.00%) aligned >1 times
100.00% overall alignment rate
0 reads
0.00% overall alignment rate
10000 reads; of these:
10000 (100.00%) were unpaired; of these:
0 (0.00%) aligned 0 times
10000 (100.00%) aligned exactly 1 time
0 (0.00%) aligned >1 times
100.00% overall alignment rate
0 reads
0.00% overall alignment rate
10000 reads; of these:
10000 (100.00%) were unpaired; of these:
1041 (10.41%) aligned 0 times
8959 (89.59%) aligned exactly 1 time
0 (0.00%) aligned >1 times
89.59% overall alignment rate
1041 reads; of these:
1041 (100.00%) were unpaired; of these:
0 (0.00%) aligned 0 times
1041 (100.00%) aligned exactly 1 time
0 (0.00%) aligned >1 times
100.00% overall alignment rate
10000 reads; of these:
10000 (100.00%) were unpaired; of these:
0 (0.00%) aligned 0 times
10000 (100.00%) aligned exactly 1 time
0 (0.00%) aligned >1 times
100.00% overall alignment rate
0 reads
0.00% overall alignment rate
10000 reads; of these:
10000 (100.00%) were unpaired; of these:
27 (0.27%) aligned 0 times
9973 (99.73%) aligned exactly 1 time
0 (0.00%) aligned >1 times
99.73% overall alignment rate
27 reads; of these:
27 (100.00%) were unpaired; of these:
0 (0.00%) aligned 0 times
27 (100.00%) aligned exactly 1 time
0 (0.00%) aligned >1 times
100.00% overall alignment rate
10000 reads; of these:
10000 (100.00%) were unpaired; of these:
2696 (26.96%) aligned 0 times
7304 (73.04%) aligned exactly 1 time
0 (0.00%) aligned >1 times
73.04% overall alignment rate
2696 reads; of these:
2696 (100.00%) were unpaired; of these:
0 (0.00%) aligned 0 times
2696 (100.00%) aligned exactly 1 time
0 (0.00%) aligned >1 times
100.00% overall alignment rate
10000 reads; of these:
10000 (100.00%) were unpaired; of these:
0 (0.00%) aligned 0 times
10000 (100.00%) aligned exactly 1 time
0 (0.00%) aligned >1 times
100.00% overall alignment rate
0 reads
0.00% overall alignment rate
[ FAIL 1 | WARN 18 | SKIP 4 | PASS 0 ]
══ Skipped tests (4) ═══════════════════════════════════════════════════════════
• empty test (4): 'test_workflow.R:1:1', 'test_workflow.R:32:1',
'test_workflow.R:53:1', 'test_workflow.R:73:1'
══ Failed tests ════════════════════════════════════════════════════════════════
── Error ('test_workflow.R:24:5'): workflow with Bowtie2 ───────────────────────
Error in `value[[3L]](cond)`: 'asBam' failed to open SAM/BAM file
file: 'F:\biocbuild\bbs-3.22-bioc\tmpdir\RtmpeeCJSy\file213141b216bdd.sam'
SAM file: 'F:\biocbuild\bbs-3.22-bioc\tmpdir\RtmpeeCJSy\file213141b216bdd.sam'
Backtrace:
▆
1. └─CircSeqAlignTk::align_reads(...) at test_workflow.R:24:5
2. └─CircSeqAlignTk:::.align_reads(...)
3. ├─Rsamtools::asBam(output_sam)
4. └─Rsamtools::asBam(output_sam)
5. └─Rsamtools (local) .local(file, destination, ...)
6. └─base::tryCatch(...)
7. └─base (local) tryCatchList(expr, classes, parentenv, handlers)
8. └─base (local) tryCatchOne(expr, names, parentenv, handlers[[1L]])
9. └─value[[3L]](cond)
[ FAIL 1 | WARN 18 | SKIP 4 | PASS 0 ]
Error: Test failures
Execution halted
CircSeqAlignTk.Rcheck/CircSeqAlignTk-Ex.timings
| name | user | system | elapsed | |
| CircSeqAlignTk-package | 0 | 0 | 0 | |
| align_reads | 4.94 | 0.31 | 6.48 | |
| build_app | 0 | 0 | 0 | |
| build_index | 0.03 | 0.06 | 0.58 | |
| calc_coverage | 2.64 | 0.21 | 3.89 | |
| filter_reads | 1.19 | 0.00 | 1.19 | |
| generate_reads | 2.65 | 0.15 | 2.81 | |
| merge.CircSeqAlignTkSim | 0.35 | 0.10 | 0.44 | |
| plot_coverage | 3.36 | 0.35 | 4.83 | |