| Back to Multiple platform build/check report for BioC 3.22: simplified long |
|
This page was generated on 2025-10-24 12:04 -0400 (Fri, 24 Oct 2025).
| Hostname | OS | Arch (*) | R version | Installed pkgs |
|---|---|---|---|---|
| nebbiolo2 | Linux (Ubuntu 24.04.3 LTS) | x86_64 | 4.5.1 Patched (2025-08-23 r88802) -- "Great Square Root" | 4898 |
| lconway | macOS 12.7.6 Monterey | x86_64 | 4.5.1 Patched (2025-09-10 r88807) -- "Great Square Root" | 4688 |
| kjohnson3 | macOS 13.7.7 Ventura | arm64 | 4.5.1 Patched (2025-09-10 r88807) -- "Great Square Root" | 4634 |
| taishan | Linux (openEuler 24.03 LTS) | aarch64 | 4.5.0 (2025-04-11) -- "How About a Twenty-Six" | 4658 |
| Click on any hostname to see more info about the system (e.g. compilers) (*) as reported by 'uname -p', except on Windows and Mac OS X | ||||
| Package 350/2359 | Hostname | OS / Arch | INSTALL | BUILD | CHECK | BUILD BIN | ||||||||
| ChIPpeakAnno 3.43.2 (landing page) Jianhong Ou
| nebbiolo2 | Linux (Ubuntu 24.04.3 LTS) / x86_64 | OK | OK | OK | |||||||||
| lconway | macOS 12.7.6 Monterey / x86_64 | OK | OK | OK | OK | |||||||||
| kjohnson3 | macOS 13.7.7 Ventura / arm64 | OK | OK | OK | OK | |||||||||
| taishan | Linux (openEuler 24.03 LTS) / aarch64 | OK | OK | OK | ||||||||||
|
To the developers/maintainers of the ChIPpeakAnno package: - Allow up to 24 hours (and sometimes 48 hours) for your latest push to git@git.bioconductor.org:packages/ChIPpeakAnno.git to reflect on this report. See Troubleshooting Build Report for more information. - Use the following Renviron settings to reproduce errors and warnings. - If 'R CMD check' started to fail recently on the Linux builder(s) over a missing dependency, add the missing dependency to 'Suggests:' in your DESCRIPTION file. See Renviron.bioc for more information. |
| Package: ChIPpeakAnno |
| Version: 3.43.2 |
| Command: /Library/Frameworks/R.framework/Resources/bin/R CMD check --install=check:ChIPpeakAnno.install-out.txt --library=/Library/Frameworks/R.framework/Resources/library --no-vignettes --timings ChIPpeakAnno_3.43.2.tar.gz |
| StartedAt: 2025-10-23 20:03:10 -0400 (Thu, 23 Oct 2025) |
| EndedAt: 2025-10-23 20:15:12 -0400 (Thu, 23 Oct 2025) |
| EllapsedTime: 722.6 seconds |
| RetCode: 0 |
| Status: OK |
| CheckDir: ChIPpeakAnno.Rcheck |
| Warnings: 0 |
##############################################################################
##############################################################################
###
### Running command:
###
### /Library/Frameworks/R.framework/Resources/bin/R CMD check --install=check:ChIPpeakAnno.install-out.txt --library=/Library/Frameworks/R.framework/Resources/library --no-vignettes --timings ChIPpeakAnno_3.43.2.tar.gz
###
##############################################################################
##############################################################################
* using log directory ‘/Users/biocbuild/bbs-3.22-bioc/meat/ChIPpeakAnno.Rcheck’
* using R version 4.5.1 Patched (2025-09-10 r88807)
* using platform: x86_64-apple-darwin20
* R was compiled by
Apple clang version 14.0.0 (clang-1400.0.29.202)
GNU Fortran (GCC) 14.2.0
* running under: macOS Monterey 12.7.6
* using session charset: UTF-8
* using option ‘--no-vignettes’
* checking for file ‘ChIPpeakAnno/DESCRIPTION’ ... OK
* checking extension type ... Package
* this is package ‘ChIPpeakAnno’ version ‘3.43.2’
* package encoding: UTF-8
* checking package namespace information ... OK
* checking package dependencies ... INFO
Imports includes 29 non-default packages.
Importing from so many packages makes the package vulnerable to any of
them becoming unavailable. Move as many as possible to Suggests and
use conditionally.
* checking if this is a source package ... OK
* checking if there is a namespace ... OK
* checking for hidden files and directories ... OK
* checking for portable file names ... OK
* checking for sufficient/correct file permissions ... OK
* checking whether package ‘ChIPpeakAnno’ can be installed ... OK
* checking installed package size ... INFO
installed size is 21.1Mb
sub-directories of 1Mb or more:
R 1.0Mb
data 12.6Mb
extdata 7.2Mb
* checking package directory ... OK
* checking ‘build’ directory ... OK
* checking DESCRIPTION meta-information ... OK
* checking top-level files ... OK
* checking for left-over files ... OK
* checking index information ... OK
* checking package subdirectories ... OK
* checking code files for non-ASCII characters ... OK
* checking R files for syntax errors ... OK
* checking whether the package can be loaded ... OK
* checking whether the package can be loaded with stated dependencies ... OK
* checking whether the package can be unloaded cleanly ... OK
* checking whether the namespace can be loaded with stated dependencies ... OK
* checking whether the namespace can be unloaded cleanly ... OK
* checking dependencies in R code ... OK
* checking S3 generic/method consistency ... OK
* checking replacement functions ... OK
* checking foreign function calls ... OK
* checking R code for possible problems ... OK
* checking Rd files ... OK
* checking Rd metadata ... OK
* checking Rd cross-references ... OK
* checking for missing documentation entries ... OK
* checking for code/documentation mismatches ... OK
* checking Rd \usage sections ... OK
* checking Rd contents ... OK
* checking for unstated dependencies in examples ... OK
* checking contents of ‘data’ directory ... OK
* checking data for non-ASCII characters ... OK
* checking LazyData ... OK
* checking data for ASCII and uncompressed saves ... OK
* checking files in ‘vignettes’ ... OK
* checking examples ... OK
Examples with CPU (user + system) or elapsed time > 5s
user system elapsed
findEnhancers 26.882 0.936 27.960
findMotifsInPromoterSeqs 17.639 0.454 18.409
annotatePeakInBatch 14.160 0.693 14.968
summarizeOverlapsByBins 6.098 0.551 6.335
* checking for unstated dependencies in ‘tests’ ... OK
* checking tests ...
Running ‘runTests.R’
OK
* checking for unstated dependencies in vignettes ... OK
* checking package vignettes ... OK
* checking running R code from vignettes ... SKIPPED
* checking re-building of vignette outputs ... SKIPPED
* checking PDF version of manual ... OK
* DONE
Status: OK
ChIPpeakAnno.Rcheck/00install.out
############################################################################## ############################################################################## ### ### Running command: ### ### /Library/Frameworks/R.framework/Resources/bin/R CMD INSTALL ChIPpeakAnno ### ############################################################################## ############################################################################## * installing to library ‘/Library/Frameworks/R.framework/Versions/4.5-x86_64/Resources/library’ * installing *source* package ‘ChIPpeakAnno’ ... ** this is package ‘ChIPpeakAnno’ version ‘3.43.2’ ** using staged installation ** R ** data *** moving datasets to lazyload DB ** inst ** byte-compile and prepare package for lazy loading ** help *** installing help indices ** building package indices ** installing vignettes ** testing if installed package can be loaded from temporary location ** testing if installed package can be loaded from final location ** testing if installed package keeps a record of temporary installation path * DONE (ChIPpeakAnno)
ChIPpeakAnno.Rcheck/tests/runTests.Rout
R version 4.5.1 Patched (2025-09-10 r88807) -- "Great Square Root"
Copyright (C) 2025 The R Foundation for Statistical Computing
Platform: x86_64-apple-darwin20
R is free software and comes with ABSOLUTELY NO WARRANTY.
You are welcome to redistribute it under certain conditions.
Type 'license()' or 'licence()' for distribution details.
R is a collaborative project with many contributors.
Type 'contributors()' for more information and
'citation()' on how to cite R or R packages in publications.
Type 'demo()' for some demos, 'help()' for on-line help, or
'help.start()' for an HTML browser interface to help.
Type 'q()' to quit R.
> require("ChIPpeakAnno") || stop("unable to load Package:ChIPpeakAnno")
Loading required package: ChIPpeakAnno
Loading required package: IRanges
Loading required package: BiocGenerics
Loading required package: generics
Attaching package: 'generics'
The following objects are masked from 'package:base':
as.difftime, as.factor, as.ordered, intersect, is.element, setdiff,
setequal, union
Attaching package: 'BiocGenerics'
The following objects are masked from 'package:stats':
IQR, mad, sd, var, xtabs
The following objects are masked from 'package:base':
Filter, Find, Map, Position, Reduce, anyDuplicated, aperm, append,
as.data.frame, basename, cbind, colnames, dirname, do.call,
duplicated, eval, evalq, get, grep, grepl, is.unsorted, lapply,
mapply, match, mget, order, paste, pmax, pmax.int, pmin, pmin.int,
rank, rbind, rownames, sapply, saveRDS, table, tapply, unique,
unsplit, which.max, which.min
Loading required package: S4Vectors
Loading required package: stats4
Attaching package: 'S4Vectors'
The following object is masked from 'package:utils':
findMatches
The following objects are masked from 'package:base':
I, expand.grid, unname
Loading required package: GenomicRanges
Loading required package: Seqinfo
[1] TRUE
> require("BSgenome.Drerio.UCSC.danRer7") || stop("unable to load Package:BSgenome.Drerio.UCSC.danRer7")
Loading required package: BSgenome.Drerio.UCSC.danRer7
Loading required package: BSgenome
Loading required package: Biostrings
Loading required package: XVector
Attaching package: 'Biostrings'
The following object is masked from 'package:base':
strsplit
Loading required package: BiocIO
Loading required package: rtracklayer
[1] TRUE
> require("BSgenome.Hsapiens.UCSC.hg19") || stop("unable to load Package:BSgenome.Hsapiens.UCSC.hg19")
Loading required package: BSgenome.Hsapiens.UCSC.hg19
[1] TRUE
> require("org.Hs.eg.db") || stop("unable to load Package:org.Hs.eg.db")
Loading required package: org.Hs.eg.db
Loading required package: AnnotationDbi
Loading required package: Biobase
Welcome to Bioconductor
Vignettes contain introductory material; view with
'browseVignettes()'. To cite Bioconductor, see
'citation("Biobase")', and for packages 'citation("pkgname")'.
[1] TRUE
> require("org.Ce.eg.db") || stop("unable to load Package:org.Ce.eg.db")
Loading required package: org.Ce.eg.db
[1] TRUE
> require("BSgenome.Celegans.UCSC.ce10") || stop("unable to load Package:BSgenome.Celegans.UCSC.ce10")
Loading required package: BSgenome.Celegans.UCSC.ce10
[1] TRUE
> require("EnsDb.Hsapiens.v79") || stop("unable to load Package:EnsDb.Hsapiens.v79")
Loading required package: EnsDb.Hsapiens.v79
Loading required package: ensembldb
Loading required package: GenomicFeatures
Loading required package: AnnotationFilter
Attaching package: 'ensembldb'
The following object is masked from 'package:stats':
filter
[1] TRUE
> require("TxDb.Hsapiens.UCSC.hg38.knownGene") || stop("unable to load TxDb.Hsapiens.UCSC.hg38.knownGene")
Loading required package: TxDb.Hsapiens.UCSC.hg38.knownGene
[1] TRUE
> require("biomaRt") || stop("unable to load biomaRt")
Loading required package: biomaRt
[1] TRUE
> require("reactome.db") || stop("unable to load reactome.db")
Loading required package: reactome.db
[1] TRUE
> require("testthat") || stop("unable to load testthat")
Loading required package: testthat
Attaching package: 'testthat'
The following object is masked from 'package:AnnotationFilter':
not
[1] TRUE
> test_check("ChIPpeakAnno")
INFO [2025-10-23 20:14:40] $cat.cex
INFO [2025-10-23 20:14:40] [1] 1
INFO [2025-10-23 20:14:40]
INFO [2025-10-23 20:14:40] $cat.col
INFO [2025-10-23 20:14:40] [1] "black"
INFO [2025-10-23 20:14:40]
INFO [2025-10-23 20:14:40] $cat.fontface
INFO [2025-10-23 20:14:40] [1] "plain"
INFO [2025-10-23 20:14:40]
INFO [2025-10-23 20:14:40] $cat.fontfamily
INFO [2025-10-23 20:14:40] [1] "serif"
INFO [2025-10-23 20:14:40]
INFO [2025-10-23 20:14:40] $x
INFO [2025-10-23 20:14:40] $x$TF1
INFO [2025-10-23 20:14:40] [1] 3 4 5
INFO [2025-10-23 20:14:40]
INFO [2025-10-23 20:14:40] $x$TF2
INFO [2025-10-23 20:14:40] [1] 1 2 3 4 5
INFO [2025-10-23 20:14:40]
INFO [2025-10-23 20:14:40]
INFO [2025-10-23 20:14:40] $disable.logging
INFO [2025-10-23 20:14:40] [1] TRUE
INFO [2025-10-23 20:14:40]
INFO [2025-10-23 20:14:40] $filename
INFO [2025-10-23 20:14:40] NULL
INFO [2025-10-23 20:14:40]
INFO [2025-10-23 20:14:40] $cat.cex
INFO [2025-10-23 20:14:40] [1] 1
INFO [2025-10-23 20:14:40]
INFO [2025-10-23 20:14:40] $cat.col
INFO [2025-10-23 20:14:40] [1] "black"
INFO [2025-10-23 20:14:40]
INFO [2025-10-23 20:14:40] $cat.fontface
INFO [2025-10-23 20:14:40] [1] "plain"
INFO [2025-10-23 20:14:40]
INFO [2025-10-23 20:14:40] $cat.fontfamily
INFO [2025-10-23 20:14:40] [1] "serif"
INFO [2025-10-23 20:14:40]
INFO [2025-10-23 20:14:40] $x
INFO [2025-10-23 20:14:40] $x$TF1
INFO [2025-10-23 20:14:40] [1] 3 4 5
INFO [2025-10-23 20:14:40]
INFO [2025-10-23 20:14:40] $x$TF2
INFO [2025-10-23 20:14:40] [1] 1 2 4 5
INFO [2025-10-23 20:14:40]
INFO [2025-10-23 20:14:40] $x$TF3
INFO [2025-10-23 20:14:40] [1] 3 4 5
INFO [2025-10-23 20:14:40]
INFO [2025-10-23 20:14:40] $x$TF4
INFO [2025-10-23 20:14:40] [1] 1 2 4 5
INFO [2025-10-23 20:14:40]
INFO [2025-10-23 20:14:40]
INFO [2025-10-23 20:14:40] $disable.logging
INFO [2025-10-23 20:14:40] [1] TRUE
INFO [2025-10-23 20:14:40]
INFO [2025-10-23 20:14:40] $filename
INFO [2025-10-23 20:14:40] NULL
INFO [2025-10-23 20:14:40]
INFO [2025-10-23 20:14:41] $scaled
INFO [2025-10-23 20:14:41] [1] FALSE
INFO [2025-10-23 20:14:41]
INFO [2025-10-23 20:14:41] $euler.d
INFO [2025-10-23 20:14:41] [1] FALSE
INFO [2025-10-23 20:14:41]
INFO [2025-10-23 20:14:41] $cat.cex
INFO [2025-10-23 20:14:41] [1] 1
INFO [2025-10-23 20:14:41]
INFO [2025-10-23 20:14:41] $cat.col
INFO [2025-10-23 20:14:41] [1] "black"
INFO [2025-10-23 20:14:41]
INFO [2025-10-23 20:14:41] $cat.fontface
INFO [2025-10-23 20:14:41] [1] "plain"
INFO [2025-10-23 20:14:41]
INFO [2025-10-23 20:14:41] $cat.fontfamily
INFO [2025-10-23 20:14:41] [1] "serif"
INFO [2025-10-23 20:14:41]
INFO [2025-10-23 20:14:41] $x
INFO [2025-10-23 20:14:41] $x$TF1
INFO [2025-10-23 20:14:41] [1] 1 2 3
INFO [2025-10-23 20:14:41]
INFO [2025-10-23 20:14:41] $x$TF2
INFO [2025-10-23 20:14:41] [1] 1 2 3
INFO [2025-10-23 20:14:41]
INFO [2025-10-23 20:14:41]
INFO [2025-10-23 20:14:41] $disable.logging
INFO [2025-10-23 20:14:41] [1] TRUE
INFO [2025-10-23 20:14:41]
INFO [2025-10-23 20:14:41] $filename
INFO [2025-10-23 20:14:41] NULL
INFO [2025-10-23 20:14:41]
INFO [2025-10-23 20:14:42] $scaled
INFO [2025-10-23 20:14:42] [1] FALSE
INFO [2025-10-23 20:14:42]
INFO [2025-10-23 20:14:42] $euler.d
INFO [2025-10-23 20:14:42] [1] FALSE
INFO [2025-10-23 20:14:42]
INFO [2025-10-23 20:14:42] $cat.cex
INFO [2025-10-23 20:14:42] [1] 1
INFO [2025-10-23 20:14:42]
INFO [2025-10-23 20:14:42] $cat.col
INFO [2025-10-23 20:14:42] [1] "black"
INFO [2025-10-23 20:14:42]
INFO [2025-10-23 20:14:42] $cat.fontface
INFO [2025-10-23 20:14:42] [1] "plain"
INFO [2025-10-23 20:14:42]
INFO [2025-10-23 20:14:42] $cat.fontfamily
INFO [2025-10-23 20:14:42] [1] "serif"
INFO [2025-10-23 20:14:42]
INFO [2025-10-23 20:14:42] $x
INFO [2025-10-23 20:14:42] $x$TF1
INFO [2025-10-23 20:14:42] [1] 4 5 6
INFO [2025-10-23 20:14:42]
INFO [2025-10-23 20:14:42] $x$TF2
INFO [2025-10-23 20:14:42] [1] 1 2 3
INFO [2025-10-23 20:14:42]
INFO [2025-10-23 20:14:42]
INFO [2025-10-23 20:14:42] $disable.logging
INFO [2025-10-23 20:14:42] [1] TRUE
INFO [2025-10-23 20:14:42]
INFO [2025-10-23 20:14:42] $filename
INFO [2025-10-23 20:14:42] NULL
INFO [2025-10-23 20:14:42]
INFO [2025-10-23 20:14:43] $scaled
INFO [2025-10-23 20:14:43] [1] FALSE
INFO [2025-10-23 20:14:43]
INFO [2025-10-23 20:14:43] $euler.d
INFO [2025-10-23 20:14:43] [1] FALSE
INFO [2025-10-23 20:14:43]
INFO [2025-10-23 20:14:43] $cat.cex
INFO [2025-10-23 20:14:43] [1] 1
INFO [2025-10-23 20:14:43]
INFO [2025-10-23 20:14:43] $cat.col
INFO [2025-10-23 20:14:43] [1] "black"
INFO [2025-10-23 20:14:43]
INFO [2025-10-23 20:14:43] $cat.fontface
INFO [2025-10-23 20:14:43] [1] "plain"
INFO [2025-10-23 20:14:43]
INFO [2025-10-23 20:14:43] $cat.fontfamily
INFO [2025-10-23 20:14:43] [1] "serif"
INFO [2025-10-23 20:14:43]
INFO [2025-10-23 20:14:43] $x
INFO [2025-10-23 20:14:43] $x$TF1
INFO [2025-10-23 20:14:43] [1] 4 5 6
INFO [2025-10-23 20:14:43]
INFO [2025-10-23 20:14:43] $x$TF2
INFO [2025-10-23 20:14:43] [1] 1 2 3
INFO [2025-10-23 20:14:43]
INFO [2025-10-23 20:14:43]
INFO [2025-10-23 20:14:43] $disable.logging
INFO [2025-10-23 20:14:43] [1] TRUE
INFO [2025-10-23 20:14:43]
INFO [2025-10-23 20:14:43] $filename
INFO [2025-10-23 20:14:43] NULL
INFO [2025-10-23 20:14:43]
INFO [2025-10-23 20:14:43] $scaled
INFO [2025-10-23 20:14:43] [1] FALSE
INFO [2025-10-23 20:14:43]
INFO [2025-10-23 20:14:43] $euler.d
INFO [2025-10-23 20:14:43] [1] FALSE
INFO [2025-10-23 20:14:43]
INFO [2025-10-23 20:14:43] $cat.cex
INFO [2025-10-23 20:14:43] [1] 1
INFO [2025-10-23 20:14:43]
INFO [2025-10-23 20:14:43] $cat.col
INFO [2025-10-23 20:14:43] [1] "black"
INFO [2025-10-23 20:14:43]
INFO [2025-10-23 20:14:43] $cat.fontface
INFO [2025-10-23 20:14:43] [1] "plain"
INFO [2025-10-23 20:14:43]
INFO [2025-10-23 20:14:43] $cat.fontfamily
INFO [2025-10-23 20:14:43] [1] "serif"
INFO [2025-10-23 20:14:43]
INFO [2025-10-23 20:14:43] $x
INFO [2025-10-23 20:14:43] $x$TF1
INFO [2025-10-23 20:14:43] [1] 4 5 6
INFO [2025-10-23 20:14:43]
INFO [2025-10-23 20:14:43] $x$TF2
INFO [2025-10-23 20:14:43] [1] 1 2 3
INFO [2025-10-23 20:14:43]
INFO [2025-10-23 20:14:43] $x$TF3
INFO [2025-10-23 20:14:43] [1] 2 3 6
INFO [2025-10-23 20:14:43]
INFO [2025-10-23 20:14:43]
INFO [2025-10-23 20:14:43] $disable.logging
INFO [2025-10-23 20:14:43] [1] TRUE
INFO [2025-10-23 20:14:43]
INFO [2025-10-23 20:14:43] $filename
INFO [2025-10-23 20:14:43] NULL
INFO [2025-10-23 20:14:43]
INFO [2025-10-23 20:14:43] $scaled
INFO [2025-10-23 20:14:43] [1] FALSE
INFO [2025-10-23 20:14:43]
INFO [2025-10-23 20:14:43] $euler.d
INFO [2025-10-23 20:14:43] [1] FALSE
INFO [2025-10-23 20:14:43]
INFO [2025-10-23 20:14:43] $cat.cex
INFO [2025-10-23 20:14:43] [1] 1
INFO [2025-10-23 20:14:43]
INFO [2025-10-23 20:14:43] $cat.col
INFO [2025-10-23 20:14:43] [1] "black"
INFO [2025-10-23 20:14:43]
INFO [2025-10-23 20:14:43] $cat.fontface
INFO [2025-10-23 20:14:43] [1] "plain"
INFO [2025-10-23 20:14:43]
INFO [2025-10-23 20:14:43] $cat.fontfamily
INFO [2025-10-23 20:14:43] [1] "serif"
INFO [2025-10-23 20:14:43]
INFO [2025-10-23 20:14:43] $x
INFO [2025-10-23 20:14:43] $x$TF1
INFO [2025-10-23 20:14:43] [1] 3 4 5
INFO [2025-10-23 20:14:43]
INFO [2025-10-23 20:14:43] $x$TF2
INFO [2025-10-23 20:14:43] [1] 1 2 5
INFO [2025-10-23 20:14:43]
INFO [2025-10-23 20:14:43] $x$TF3
INFO [2025-10-23 20:14:43] [1] 1 2 5
INFO [2025-10-23 20:14:43]
INFO [2025-10-23 20:14:43]
INFO [2025-10-23 20:14:43] $disable.logging
INFO [2025-10-23 20:14:43] [1] TRUE
INFO [2025-10-23 20:14:43]
INFO [2025-10-23 20:14:43] $filename
INFO [2025-10-23 20:14:43] NULL
INFO [2025-10-23 20:14:43]
INFO [2025-10-23 20:14:44] $scaled
INFO [2025-10-23 20:14:44] [1] FALSE
INFO [2025-10-23 20:14:44]
INFO [2025-10-23 20:14:44] $euler.d
INFO [2025-10-23 20:14:44] [1] FALSE
INFO [2025-10-23 20:14:44]
INFO [2025-10-23 20:14:44] $cat.cex
INFO [2025-10-23 20:14:44] [1] 1
INFO [2025-10-23 20:14:44]
INFO [2025-10-23 20:14:44] $cat.col
INFO [2025-10-23 20:14:44] [1] "black"
INFO [2025-10-23 20:14:44]
INFO [2025-10-23 20:14:44] $cat.fontface
INFO [2025-10-23 20:14:44] [1] "plain"
INFO [2025-10-23 20:14:44]
INFO [2025-10-23 20:14:44] $cat.fontfamily
INFO [2025-10-23 20:14:44] [1] "serif"
INFO [2025-10-23 20:14:44]
INFO [2025-10-23 20:14:44] $x
INFO [2025-10-23 20:14:44] $x$TF1
INFO [2025-10-23 20:14:44] [1] 3 4 5
INFO [2025-10-23 20:14:44]
INFO [2025-10-23 20:14:44] $x$TF2
INFO [2025-10-23 20:14:44] [1] 1 2 5
INFO [2025-10-23 20:14:44]
INFO [2025-10-23 20:14:44] $x$TF3
INFO [2025-10-23 20:14:44] [1] 1 2 5
INFO [2025-10-23 20:14:44]
INFO [2025-10-23 20:14:44] $x$TF4
INFO [2025-10-23 20:14:44] [1] 1 2 5
INFO [2025-10-23 20:14:44]
INFO [2025-10-23 20:14:44]
INFO [2025-10-23 20:14:44] $disable.logging
INFO [2025-10-23 20:14:44] [1] TRUE
INFO [2025-10-23 20:14:44]
INFO [2025-10-23 20:14:44] $filename
INFO [2025-10-23 20:14:44] NULL
INFO [2025-10-23 20:14:44]
[ FAIL 0 | WARN 2 | SKIP 6 | PASS 324 ]
══ Skipped tests (6) ═══════════════════════════════════════════════════════════
• empty test (6): 'test_binOverGene.R:1:1', 'test_binOverRegions.R:1:1',
'test_enrichmentPlot.R:1:1', 'test_getAnnotation.R:1:1',
'test_reCenterPeaks.R:1:1', 'test_write2FASTA.R:1:1'
[ FAIL 0 | WARN 2 | SKIP 6 | PASS 324 ]
>
> proc.time()
user system elapsed
217.356 6.748 226.591
ChIPpeakAnno.Rcheck/ChIPpeakAnno-Ex.timings
| name | user | system | elapsed | |
| ChIPpeakAnno-package | 0 | 0 | 0 | |
| ExonPlusUtr.human.GRCh37 | 3.413 | 0.095 | 3.523 | |
| HOT.spots | 0.088 | 0.009 | 0.097 | |
| IDRfilter | 0.001 | 0.001 | 0.001 | |
| Peaks.Ste12.Replicate1 | 0.054 | 0.003 | 0.058 | |
| Peaks.Ste12.Replicate2 | 0.015 | 0.002 | 0.016 | |
| Peaks.Ste12.Replicate3 | 0.016 | 0.002 | 0.018 | |
| TSS.human.GRCh37 | 0.089 | 0.002 | 0.092 | |
| TSS.human.GRCh38 | 0.208 | 0.013 | 0.222 | |
| TSS.human.NCBI36 | 0.091 | 0.006 | 0.097 | |
| TSS.mouse.GRCm38 | 0.086 | 0.007 | 0.093 | |
| TSS.mouse.NCBIM37 | 0.066 | 0.005 | 0.070 | |
| TSS.rat.RGSC3.4 | 0.065 | 0.006 | 0.071 | |
| TSS.rat.Rnor_5.0 | 0.062 | 0.006 | 0.068 | |
| TSS.zebrafish.Zv8 | 0.055 | 0.005 | 0.062 | |
| TSS.zebrafish.Zv9 | 0.070 | 0.005 | 0.075 | |
| addAncestors | 1.208 | 0.089 | 1.327 | |
| addGeneIDs | 2.564 | 0.977 | 3.580 | |
| addMetadata | 1.200 | 0.095 | 1.306 | |
| annoGR | 0 | 0 | 0 | |
| annoPeaks | 3.148 | 0.321 | 3.527 | |
| annotatePeakInBatch | 14.160 | 0.693 | 14.968 | |
| annotatedPeak | 0.056 | 0.002 | 0.058 | |
| assignChromosomeRegion | 0.002 | 0.000 | 0.002 | |
| bdp | 0.001 | 0.000 | 0.001 | |
| binOverFeature | 0.744 | 0.026 | 0.776 | |
| binOverGene | 0.001 | 0.000 | 0.001 | |
| binOverRegions | 0.000 | 0.000 | 0.001 | |
| condenseMatrixByColnames | 0.011 | 0.000 | 0.012 | |
| convert2EntrezID | 0.448 | 0.006 | 0.456 | |
| countPatternInSeqs | 0.166 | 0.007 | 0.174 | |
| cumulativePercentage | 0.000 | 0.001 | 0.000 | |
| downstreams | 0.021 | 0.001 | 0.021 | |
| egOrgMap | 0.000 | 0.000 | 0.001 | |
| enrichedGO | 0.002 | 0.002 | 0.004 | |
| enrichmentPlot | 0.828 | 0.021 | 0.852 | |
| estFragmentLength | 0 | 0 | 0 | |
| estLibSize | 0.001 | 0.000 | 0.001 | |
| featureAlignedDistribution | 0.244 | 0.002 | 0.248 | |
| featureAlignedExtendSignal | 0.003 | 0.000 | 0.003 | |
| featureAlignedHeatmap | 0.316 | 0.003 | 0.321 | |
| featureAlignedSignal | 0.184 | 0.047 | 0.231 | |
| findEnhancers | 26.882 | 0.936 | 27.960 | |
| findMotifsInPromoterSeqs | 17.639 | 0.454 | 18.409 | |
| findOverlappingPeaks | 0.002 | 0.001 | 0.003 | |
| findOverlapsOfPeaks | 2.192 | 0.026 | 2.231 | |
| genomicElementDistribution | 0.002 | 0.001 | 0.003 | |
| genomicElementUpSetR | 0.001 | 0.000 | 0.001 | |
| getAllPeakSequence | 0.738 | 0.029 | 0.777 | |
| getAnnotation | 0.002 | 0.001 | 0.002 | |
| getEnrichedGO | 0.012 | 0.006 | 0.017 | |
| getEnrichedPATH | 0.001 | 0.000 | 0.001 | |
| getGO | 0.000 | 0.000 | 0.001 | |
| getGeneSeq | 0.002 | 0.001 | 0.002 | |
| getUniqueGOidCount | 0.001 | 0.000 | 0.001 | |
| getVennCounts | 0.002 | 0.000 | 0.002 | |
| hyperGtest | 0.001 | 0.000 | 0.001 | |
| makeVennDiagram | 0.002 | 0.001 | 0.003 | |
| mergePlusMinusPeaks | 0.000 | 0.000 | 0.001 | |
| metagenePlot | 3.985 | 0.112 | 4.122 | |
| myPeakList | 0.015 | 0.002 | 0.017 | |
| oligoFrequency | 0.134 | 0.009 | 0.144 | |
| oligoSummary | 0.001 | 0.000 | 0.001 | |
| peakPermTest | 0.001 | 0.000 | 0.002 | |
| peaks1 | 0.006 | 0.001 | 0.008 | |
| peaks2 | 0.007 | 0.001 | 0.009 | |
| peaks3 | 0.008 | 0.002 | 0.010 | |
| peaksNearBDP | 0.000 | 0.000 | 0.001 | |
| pie1 | 0.005 | 0.001 | 0.007 | |
| plotBinOverRegions | 0.001 | 0.000 | 0.001 | |
| preparePool | 0.000 | 0.001 | 0.001 | |
| reCenterPeaks | 0.028 | 0.000 | 0.028 | |
| summarizeOverlapsByBins | 6.098 | 0.551 | 6.335 | |
| summarizePatternInPeaks | 1.788 | 0.235 | 2.038 | |
| tileCount | 0.441 | 0.383 | 0.515 | |
| tileGRanges | 0.047 | 0.017 | 0.064 | |
| toGRanges | 0.105 | 0.016 | 0.120 | |
| translatePattern | 0.001 | 0.001 | 0.000 | |
| wgEncodeTfbsV3 | 0.151 | 0.014 | 0.166 | |
| write2FASTA | 0.021 | 0.003 | 0.025 | |
| xget | 0.133 | 0.017 | 0.154 | |