Back to Multiple platform build/check report for BioC 3.22: simplified long |
|
This page was generated on 2025-05-21 12:09 -0400 (Wed, 21 May 2025).
Hostname | OS | Arch (*) | R version | Installed pkgs |
---|---|---|---|---|
nebbiolo2 | Linux (Ubuntu 24.04.1 LTS) | x86_64 | 4.5.0 (2025-04-11) -- "How About a Twenty-Six" | 4749 |
palomino8 | Windows Server 2022 Datacenter | x64 | 4.5.0 (2025-04-11 ucrt) -- "How About a Twenty-Six" | 4511 |
lconway | macOS 12.7.1 Monterey | x86_64 | 4.5.0 Patched (2025-04-21 r88169) -- "How About a Twenty-Six" | 4548 |
kjohnson3 | macOS 13.7.1 Ventura | arm64 | 4.5.0 Patched (2025-04-21 r88169) -- "How About a Twenty-Six" | 4489 |
taishan | Linux (openEuler 24.03 LTS) | aarch64 | 4.5.0 (2025-04-11) -- "How About a Twenty-Six" | 4455 |
Click on any hostname to see more info about the system (e.g. compilers) (*) as reported by 'uname -p', except on Windows and Mac OS X |
Package 326/2304 | Hostname | OS / Arch | INSTALL | BUILD | CHECK | BUILD BIN | ||||||||
ChAMP 2.39.0 (landing page) Yuan Tian
| nebbiolo2 | Linux (Ubuntu 24.04.1 LTS) / x86_64 | OK | OK | WARNINGS | ![]() | ||||||||
palomino8 | Windows Server 2022 Datacenter / x64 | OK | OK | WARNINGS | OK | ![]() | ||||||||
lconway | macOS 12.7.1 Monterey / x86_64 | OK | OK | WARNINGS | OK | ![]() | ||||||||
kjohnson3 | macOS 13.7.1 Ventura / arm64 | OK | OK | WARNINGS | OK | ![]() | ||||||||
taishan | Linux (openEuler 24.03 LTS) / aarch64 | OK | OK | WARNINGS | ||||||||||
To the developers/maintainers of the ChAMP package: - Allow up to 24 hours (and sometimes 48 hours) for your latest push to git@git.bioconductor.org:packages/ChAMP.git to reflect on this report. See Troubleshooting Build Report for more information. - Use the following Renviron settings to reproduce errors and warnings. - If 'R CMD check' started to fail recently on the Linux builder(s) over a missing dependency, add the missing dependency to 'Suggests:' in your DESCRIPTION file. See Renviron.bioc for more information. |
Package: ChAMP |
Version: 2.39.0 |
Command: rm -rf ChAMP.buildbin-libdir && mkdir ChAMP.buildbin-libdir && /Users/biocbuild/BBS/utils/build-universal.sh ChAMP_2.39.0.tar.gz /Library/Frameworks/R.framework/Resources/bin/R ChAMP.buildbin-libdir |
StartedAt: 2025-05-20 22:02:33 -0400 (Tue, 20 May 2025) |
EndedAt: 2025-05-20 22:03:05 -0400 (Tue, 20 May 2025) |
EllapsedTime: 32.6 seconds |
RetCode: 0 |
Status: OK |
PackageFile: ChAMP_2.39.0.tgz |
PackageFileSize: 4.211 MiB |
############################################################################## ############################################################################## ### ### Running command: ### ### rm -rf ChAMP.buildbin-libdir && mkdir ChAMP.buildbin-libdir && /Users/biocbuild/BBS/utils/build-universal.sh ChAMP_2.39.0.tar.gz /Library/Frameworks/R.framework/Resources/bin/R ChAMP.buildbin-libdir ### ############################################################################## ############################################################################## >>>>>>> >>>>>>> INSTALLATION WITH 'R CMD INSTALL --preclean --no-multiarch --library=ChAMP.buildbin-libdir ChAMP_2.39.0.tar.gz' >>>>>>> * installing *source* package ‘ChAMP’ ... ** this is package ‘ChAMP’ version ‘2.39.0’ ** using staged installation ** R ** inst ** byte-compile and prepare package for lazy loading No methods found in package 'RSQLite' for request: 'dbListFields' when loading 'lumi' Warning: replacing previous import 'plyr::mutate' by 'plotly::mutate' when loading 'ChAMP' Warning: replacing previous import 'plyr::rename' by 'plotly::rename' when loading 'ChAMP' Warning: replacing previous import 'plyr::arrange' by 'plotly::arrange' when loading 'ChAMP' Warning: replacing previous import 'plyr::summarise' by 'plotly::summarise' when loading 'ChAMP' Warning: replacing previous import 'plotly::subplot' by 'Hmisc::subplot' when loading 'ChAMP' Warning: replacing previous import 'plyr::summarize' by 'Hmisc::summarize' when loading 'ChAMP' Warning: replacing previous import 'plyr::is.discrete' by 'Hmisc::is.discrete' when loading 'ChAMP' Warning: replacing previous import 'plotly::last_plot' by 'ggplot2::last_plot' when loading 'ChAMP' Warning: replacing previous import 'globaltest::model.matrix' by 'stats::model.matrix' when loading 'ChAMP' Warning: replacing previous import 'globaltest::p.adjust' by 'stats::p.adjust' when loading 'ChAMP' Note: possible error in 'dmrcate(myannotation, ': unused argument (mc.cores = cores) ** help *** installing help indices ** building package indices ** installing vignettes ** testing if installed package can be loaded from temporary location No methods found in package 'RSQLite' for request: 'dbListFields' when loading 'lumi' Warning: replacing previous import 'plyr::mutate' by 'plotly::mutate' when loading 'ChAMP' Warning: replacing previous import 'plyr::rename' by 'plotly::rename' when loading 'ChAMP' Warning: replacing previous import 'plyr::arrange' by 'plotly::arrange' when loading 'ChAMP' Warning: replacing previous import 'plyr::summarise' by 'plotly::summarise' when loading 'ChAMP' Warning: replacing previous import 'plotly::subplot' by 'Hmisc::subplot' when loading 'ChAMP' Warning: replacing previous import 'plyr::summarize' by 'Hmisc::summarize' when loading 'ChAMP' Warning: replacing previous import 'plyr::is.discrete' by 'Hmisc::is.discrete' when loading 'ChAMP' Warning: replacing previous import 'plotly::last_plot' by 'ggplot2::last_plot' when loading 'ChAMP' Warning: replacing previous import 'globaltest::model.matrix' by 'stats::model.matrix' when loading 'ChAMP' Warning: replacing previous import 'globaltest::p.adjust' by 'stats::p.adjust' when loading 'ChAMP' ** testing if installed package can be loaded from final location No methods found in package 'RSQLite' for request: 'dbListFields' when loading 'lumi' Warning: replacing previous import 'plyr::mutate' by 'plotly::mutate' when loading 'ChAMP' Warning: replacing previous import 'plyr::rename' by 'plotly::rename' when loading 'ChAMP' Warning: replacing previous import 'plyr::arrange' by 'plotly::arrange' when loading 'ChAMP' Warning: replacing previous import 'plyr::summarise' by 'plotly::summarise' when loading 'ChAMP' Warning: replacing previous import 'plotly::subplot' by 'Hmisc::subplot' when loading 'ChAMP' Warning: replacing previous import 'plyr::summarize' by 'Hmisc::summarize' when loading 'ChAMP' Warning: replacing previous import 'plyr::is.discrete' by 'Hmisc::is.discrete' when loading 'ChAMP' Warning: replacing previous import 'plotly::last_plot' by 'ggplot2::last_plot' when loading 'ChAMP' Warning: replacing previous import 'globaltest::model.matrix' by 'stats::model.matrix' when loading 'ChAMP' Warning: replacing previous import 'globaltest::p.adjust' by 'stats::p.adjust' when loading 'ChAMP' ** testing if installed package keeps a record of temporary installation path * DONE (ChAMP)