Back to Multiple platform build/check report for BioC 3.21:   simplified   long
AB[C]DEFGHIJKLMNOPQRSTUVWXYZ

This page was generated on 2025-02-03 12:37 -0500 (Mon, 03 Feb 2025).

HostnameOSArch (*)R versionInstalled pkgs
nebbiolo1Linux (Ubuntu 24.04.1 LTS)x86_64R Under development (unstable) (2025-01-20 r87609) -- "Unsuffered Consequences" 4704
palomino7Windows Server 2022 Datacenterx64R Under development (unstable) (2025-01-21 r87610 ucrt) -- "Unsuffered Consequences" 4467
lconwaymacOS 12.7.1 Montereyx86_64R Under development (unstable) (2025-01-22 r87618) -- "Unsuffered Consequences" 4478
Click on any hostname to see more info about the system (e.g. compilers)      (*) as reported by 'uname -p', except on Windows and Mac OS X

Package 468/2289HostnameOS / ArchINSTALLBUILDCHECKBUILD BIN
CTexploreR 1.3.0  (landing page)
Axelle Loriot
Snapshot Date: 2025-02-02 13:40 -0500 (Sun, 02 Feb 2025)
git_url: https://git.bioconductor.org/packages/CTexploreR
git_branch: devel
git_last_commit: b8dffc6
git_last_commit_date: 2024-10-29 11:26:00 -0500 (Tue, 29 Oct 2024)
nebbiolo1Linux (Ubuntu 24.04.1 LTS) / x86_64  OK    OK    TIMEOUT  
palomino7Windows Server 2022 Datacenter / x64  OK    OK    OK    OK  UNNEEDED, same version is already published
lconwaymacOS 12.7.1 Monterey / x86_64  OK    OK    OK    OK  UNNEEDED, same version is already published


CHECK results for CTexploreR on nebbiolo1

To the developers/maintainers of the CTexploreR package:
- Allow up to 24 hours (and sometimes 48 hours) for your latest push to git@git.bioconductor.org:packages/CTexploreR.git to reflect on this report. See Troubleshooting Build Report for more information.
- Use the following Renviron settings to reproduce errors and warnings.
- If 'R CMD check' started to fail recently on the Linux builder(s) over a missing dependency, add the missing dependency to 'Suggests:' in your DESCRIPTION file. See Renviron.bioc for more information.

raw results


Summary

Package: CTexploreR
Version: 1.3.0
Command: /home/biocbuild/bbs-3.21-bioc/R/bin/R CMD check --install=check:CTexploreR.install-out.txt --library=/home/biocbuild/bbs-3.21-bioc/R/site-library --timings CTexploreR_1.3.0.tar.gz
StartedAt: 2025-02-02 21:15:40 -0500 (Sun, 02 Feb 2025)
EndedAt: 2025-02-02 21:55:40 -0500 (Sun, 02 Feb 2025)
EllapsedTime: 2400.2 seconds
RetCode: None
Status:   TIMEOUT  
CheckDir: CTexploreR.Rcheck
Warnings: NA

Command output

##############################################################################
##############################################################################
###
### Running command:
###
###   /home/biocbuild/bbs-3.21-bioc/R/bin/R CMD check --install=check:CTexploreR.install-out.txt --library=/home/biocbuild/bbs-3.21-bioc/R/site-library --timings CTexploreR_1.3.0.tar.gz
###
##############################################################################
##############################################################################


* using log directory ‘/home/biocbuild/bbs-3.21-bioc/meat/CTexploreR.Rcheck’
* using R Under development (unstable) (2025-01-20 r87609)
* using platform: x86_64-pc-linux-gnu
* R was compiled by
    gcc (Ubuntu 13.3.0-6ubuntu2~24.04) 13.3.0
    GNU Fortran (Ubuntu 13.3.0-6ubuntu2~24.04) 13.3.0
* running under: Ubuntu 24.04.1 LTS
* using session charset: UTF-8
* checking for file ‘CTexploreR/DESCRIPTION’ ... OK
* this is package ‘CTexploreR’ version ‘1.3.0’
* package encoding: UTF-8
* checking package namespace information ... OK
* checking package dependencies ... OK
* checking if this is a source package ... OK
* checking if there is a namespace ... OK
* checking for hidden files and directories ... OK
* checking for portable file names ... OK
* checking for sufficient/correct file permissions ... OK
* checking whether package ‘CTexploreR’ can be installed ... OK
* checking installed package size ... OK
* checking package directory ... OK
* checking ‘build’ directory ... OK
* checking DESCRIPTION meta-information ... OK
* checking top-level files ... OK
* checking for left-over files ... OK
* checking index information ... OK
* checking package subdirectories ... OK
* checking code files for non-ASCII characters ... OK
* checking R files for syntax errors ... OK
* checking whether the package can be loaded ... OK
* checking whether the package can be loaded with stated dependencies ... OK
* checking whether the package can be unloaded cleanly ... OK
* checking whether the namespace can be loaded with stated dependencies ... OK
* checking whether the namespace can be unloaded cleanly ... OK
* checking loading without being on the library search path ... OK
* checking dependencies in R code ... OK
* checking S3 generic/method consistency ... OK
* checking replacement functions ... OK
* checking foreign function calls ... OK
* checking R code for possible problems ... OK
* checking Rd files ... OK
* checking Rd metadata ... OK
* checking Rd cross-references ... OK
* checking for missing documentation entries ... OK
* checking for code/documentation mismatches ... OK
* checking Rd \usage sections ... OK
* checking Rd contents ... OK
* checking for unstated dependencies in examples ... OK
* checking files in ‘vignettes’ ... OK
* checking examples ... OK
Examples with CPU (user + system) or elapsed time > 5s
                                        user system elapsed
embryos_mean_methylation              11.569  0.555  12.483
DAC_induction                         10.923  0.579  12.105
normal_tissues_methylation             9.298  0.852  10.375
normal_tissues_mean_methylation        7.923  0.545  10.918
fetal_germcells_mean_methylation       7.855  0.451   8.636
GTEX_expression                        5.597  0.453   6.379
HPA_cell_type_expression               5.529  0.454   6.304
normal_tissue_expression_multimapping  4.525  0.291   6.302
* checking for unstated dependencies in ‘tests’ ... OK
* checking tests ...
  Running ‘testthat.R’
 OK
* checking for unstated dependencies in vignettes ... OK
* checking package vignettes ... OK
* checking re-building of vignette outputs ...

Installation output

CTexploreR.Rcheck/00install.out

##############################################################################
##############################################################################
###
### Running command:
###
###   /home/biocbuild/bbs-3.21-bioc/R/bin/R CMD INSTALL CTexploreR
###
##############################################################################
##############################################################################


* installing to library ‘/home/biocbuild/bbs-3.21-bioc/R/site-library’
* installing *source* package ‘CTexploreR’ ...
** this is package ‘CTexploreR’ version ‘1.3.0’
** using staged installation
** R
** inst
** byte-compile and prepare package for lazy loading
see ?CTdata and browseVignettes('CTdata') for documentation
loading from cache
see ?CTdata and browseVignettes('CTdata') for documentation
loading from cache
** help
*** installing help indices
** building package indices
** installing vignettes
** testing if installed package can be loaded from temporary location
** testing if installed package can be loaded from final location
** testing if installed package keeps a record of temporary installation path
* DONE (CTexploreR)

Tests output

CTexploreR.Rcheck/tests/testthat.Rout


R Under development (unstable) (2025-01-20 r87609) -- "Unsuffered Consequences"
Copyright (C) 2025 The R Foundation for Statistical Computing
Platform: x86_64-pc-linux-gnu

R is free software and comes with ABSOLUTELY NO WARRANTY.
You are welcome to redistribute it under certain conditions.
Type 'license()' or 'licence()' for distribution details.

R is a collaborative project with many contributors.
Type 'contributors()' for more information and
'citation()' on how to cite R or R packages in publications.

Type 'demo()' for some demos, 'help()' for on-line help, or
'help.start()' for an HTML browser interface to help.
Type 'q()' to quit R.

> # This file is part of the standard setup for testthat.
> # It is recommended that you do not modify it.
> #
> # Where should you do additional test configuration?
> # Learn more about the roles of various files in:
> # * https://r-pkgs.org/testing-design.html#sec-tests-files-overview
> # * https://testthat.r-lib.org/articles/special-files.html
> 
> library(testthat)
> library(CTexploreR)
Loading required package: CTdata
> 
> test_check("CTexploreR")
see ?CTdata and browseVignettes('CTdata') for documentation
loading from cache
see ?CTdata and browseVignettes('CTdata') for documentation
loading from cache
see ?CTdata and browseVignettes('CTdata') for documentation
loading from cache
see ?CTdata and browseVignettes('CTdata') for documentation
loading from cache
see ?CTdata and browseVignettes('CTdata') for documentation
loading from cache
see ?CTdata and browseVignettes('CTdata') for documentation
loading from cache
see ?CTdata and browseVignettes('CTdata') for documentation
loading from cache
see ?CTdata and browseVignettes('CTdata') for documentation
loading from cache
see ?CTdata and browseVignettes('CTdata') for documentation
loading from cache
see ?CTdata and browseVignettes('CTdata') for documentation
loading from cache
see ?CTdata and browseVignettes('CTdata') for documentation
loading from cache
see ?CTdata and browseVignettes('CTdata') for documentation
loading from cache
see ?CTdata and browseVignettes('CTdata') for documentation
loading from cache
see ?CTdata and browseVignettes('CTdata') for documentation
loading from cache
see ?CTdata and browseVignettes('CTdata') for documentation
loading from cache
see ?CTdata and browseVignettes('CTdata') for documentation
loading from cache
see ?CTdata and browseVignettes('CTdata') for documentation
loading from cache
see ?CTdata and browseVignettes('CTdata') for documentation
loading from cache
see ?CTdata and browseVignettes('CTdata') for documentation
loading from cache
see ?CTdata and browseVignettes('CTdata') for documentation
loading from cache
see ?CTdata and browseVignettes('CTdata') for documentation
loading from cache
see ?CTdata and browseVignettes('CTdata') for documentation
loading from cache
see ?CTdata and browseVignettes('CTdata') for documentation
loading from cache
see ?CTdata and browseVignettes('CTdata') for documentation
loading from cache
see ?CTdata and browseVignettes('CTdata') for documentation
loading from cache
see ?CTdata and browseVignettes('CTdata') for documentation
loading from cache
see ?CTdata and browseVignettes('CTdata') for documentation
loading from cache
see ?CTdata and browseVignettes('CTdata') for documentation
loading from cache
see ?CTdata and browseVignettes('CTdata') for documentation
loading from cache
see ?CTdata and browseVignettes('CTdata') for documentation
loading from cache
see ?CTdata and browseVignettes('CTdata') for documentation
loading from cache
see ?CTdata and browseVignettes('CTdata') for documentation
loading from cache
see ?CTdata and browseVignettes('CTdata') for documentation
loading from cache
see ?CTdata and browseVignettes('CTdata') for documentation
loading from cache
see ?CTdata and browseVignettes('CTdata') for documentation
loading from cache
see ?CTdata and browseVignettes('CTdata') for documentation
loading from cache
see ?CTdata and browseVignettes('CTdata') for documentation
loading from cache
see ?CTdata and browseVignettes('CTdata') for documentation
loading from cache
see ?CTdata and browseVignettes('CTdata') for documentation
loading from cache
see ?CTdata and browseVignettes('CTdata') for documentation
loading from cache
see ?CTdata and browseVignettes('CTdata') for documentation
loading from cache
see ?CTdata and browseVignettes('CTdata') for documentation
loading from cache
see ?CTdata and browseVignettes('CTdata') for documentation
loading from cache
see ?CTdata and browseVignettes('CTdata') for documentation
loading from cache
see ?CTdata and browseVignettes('CTdata') for documentation
loading from cache
see ?CTdata and browseVignettes('CTdata') for documentation
loading from cache
see ?CTdata and browseVignettes('CTdata') for documentation
loading from cache
see ?CTdata and browseVignettes('CTdata') for documentation
loading from cache
[ FAIL 0 | WARN 0 | SKIP 0 | PASS 135 ]
Deleting unused snapshots:
• GTEX_expression/gtex-expression-on-mage.svg
> 
> proc.time()
    user   system  elapsed 
1270.008   64.070 1402.137 

Example timings

CTexploreR.Rcheck/CTexploreR-Ex.timings

nameusersystemelapsed
CCLE_expression000
CT_correlated_genes000
CT_genes0.0540.0020.056
DAC_induction10.923 0.57912.105
GTEX_expression5.5970.4536.379
HPA_cell_type_expression5.5290.4546.304
TCGA_expression000
TCGA_methylation_expression_correlation000
all_genes0.0420.0010.042
check_names0.0000.0010.001
embryo_expression000
embryos_mean_methylation11.569 0.55512.483
fetal_germcells_expression000
fetal_germcells_mean_methylation7.8550.4518.636
hESC_expression000
hESC_mean_methylation000
normal_tissue_expression_multimapping4.5250.2916.302
normal_tissues_mean_methylation 7.923 0.54510.918
normal_tissues_methylation 9.298 0.85210.375
oocytes_expression000
prepare_TCGA_methylation_expression000
set_fontsize000
subset_database2.2850.2662.714
testis_expression0.0010.0000.000