Back to Multiple platform build/check report for BioC 3.22:   simplified   long
AB[C]DEFGHIJKLMNOPQRSTUVWXYZ

This page was generated on 2025-05-20 12:07 -0400 (Tue, 20 May 2025).

HostnameOSArch (*)R versionInstalled pkgs
nebbiolo2Linux (Ubuntu 24.04.1 LTS)x86_644.5.0 (2025-04-11) -- "How About a Twenty-Six" 4749
palomino8Windows Server 2022 Datacenterx644.5.0 (2025-04-11 ucrt) -- "How About a Twenty-Six" 4511
lconwaymacOS 12.7.1 Montereyx86_644.5.0 Patched (2025-04-21 r88169) -- "How About a Twenty-Six" 4548
kjohnson3macOS 13.7.1 Venturaarm644.5.0 Patched (2025-04-21 r88169) -- "How About a Twenty-Six" 4489
taishanLinux (openEuler 24.03 LTS)aarch644.5.0 (2025-04-11) -- "How About a Twenty-Six" 4455
Click on any hostname to see more info about the system (e.g. compilers)      (*) as reported by 'uname -p', except on Windows and Mac OS X

Package 268/2304HostnameOS / ArchINSTALLBUILDCHECKBUILD BIN
CAMERA 1.65.1  (landing page)
Steffen Neumann
Snapshot Date: 2025-05-19 13:25 -0400 (Mon, 19 May 2025)
git_url: https://git.bioconductor.org/packages/CAMERA
git_branch: devel
git_last_commit: 43df541
git_last_commit_date: 2025-05-09 04:56:41 -0400 (Fri, 09 May 2025)
nebbiolo2Linux (Ubuntu 24.04.1 LTS) / x86_64  OK    OK    WARNINGS  UNNEEDED, same version is already published
palomino8Windows Server 2022 Datacenter / x64  OK    OK    WARNINGS    OK  UNNEEDED, same version is already published
lconwaymacOS 12.7.1 Monterey / x86_64  ERROR    ERROR  skippedskipped
kjohnson3macOS 13.7.1 Ventura / arm64  ERROR    ERROR  skippedskipped
taishanLinux (openEuler 24.03 LTS) / aarch64  OK    OK    TIMEOUT  


BUILD results for CAMERA on lconway

To the developers/maintainers of the CAMERA package:
- Allow up to 24 hours (and sometimes 48 hours) for your latest push to git@git.bioconductor.org:packages/CAMERA.git to reflect on this report. See Troubleshooting Build Report for more information.
- Use the following Renviron settings to reproduce errors and warnings.
- If 'R CMD check' started to fail recently on the Linux builder(s) over a missing dependency, add the missing dependency to 'Suggests:' in your DESCRIPTION file. See Renviron.bioc for more information.

raw results


Summary

Package: CAMERA
Version: 1.65.1
Command: /Library/Frameworks/R.framework/Resources/bin/R CMD build --keep-empty-dirs --no-resave-data CAMERA
StartedAt: 2025-05-19 16:11:12 -0400 (Mon, 19 May 2025)
EndedAt: 2025-05-19 16:11:14 -0400 (Mon, 19 May 2025)
EllapsedTime: 2.3 seconds
RetCode: 1
Status:   ERROR  
PackageFile: None
PackageFileSize: NA

Command output

##############################################################################
##############################################################################
###
### Running command:
###
###   /Library/Frameworks/R.framework/Resources/bin/R CMD build --keep-empty-dirs --no-resave-data CAMERA
###
##############################################################################
##############################################################################


* checking for file ‘CAMERA/DESCRIPTION’ ... OK
* preparing ‘CAMERA’:
* checking DESCRIPTION meta-information ... OK
* cleaning src
* installing the package to build vignettes
      -----------------------------------
ERROR: dependency ‘xcms’ is not available for package ‘CAMERA’
Perhaps try a variation of:
install.packages('xcms')
* removing ‘/private/tmp/RtmpAY0DNO/Rinstbca7291758f6/CAMERA’
      -----------------------------------
ERROR: package installation failed