| Back to Multiple platform build/check report for BioC 3.22: simplified long |
|
This page was generated on 2025-10-24 12:06 -0400 (Fri, 24 Oct 2025).
| Hostname | OS | Arch (*) | R version | Installed pkgs |
|---|---|---|---|---|
| nebbiolo2 | Linux (Ubuntu 24.04.3 LTS) | x86_64 | 4.5.1 Patched (2025-08-23 r88802) -- "Great Square Root" | 4898 |
| lconway | macOS 12.7.6 Monterey | x86_64 | 4.5.1 Patched (2025-09-10 r88807) -- "Great Square Root" | 4688 |
| kjohnson3 | macOS 13.7.7 Ventura | arm64 | 4.5.1 Patched (2025-09-10 r88807) -- "Great Square Root" | 4634 |
| taishan | Linux (openEuler 24.03 LTS) | aarch64 | 4.5.0 (2025-04-11) -- "How About a Twenty-Six" | 4658 |
| Click on any hostname to see more info about the system (e.g. compilers) (*) as reported by 'uname -p', except on Windows and Mac OS X | ||||
| Package 182/2359 | Hostname | OS / Arch | INSTALL | BUILD | CHECK | BUILD BIN | ||||||||
| Bioc.gff 0.99.17 (landing page) Bioconductor Package Maintainer
| nebbiolo2 | Linux (Ubuntu 24.04.3 LTS) / x86_64 | OK | OK | OK | |||||||||
| lconway | macOS 12.7.6 Monterey / x86_64 | OK | OK | OK | OK | |||||||||
| kjohnson3 | macOS 13.7.7 Ventura / arm64 | OK | OK | OK | OK | |||||||||
| taishan | Linux (openEuler 24.03 LTS) / aarch64 | OK | OK | OK | ||||||||||
|
To the developers/maintainers of the Bioc.gff package: - Allow up to 24 hours (and sometimes 48 hours) for your latest push to git@git.bioconductor.org:packages/Bioc.gff.git to reflect on this report. See Troubleshooting Build Report for more information. - Use the following Renviron settings to reproduce errors and warnings. - If 'R CMD check' started to fail recently on the Linux builder(s) over a missing dependency, add the missing dependency to 'Suggests:' in your DESCRIPTION file. See Renviron.bioc for more information. |
| Package: Bioc.gff |
| Version: 0.99.17 |
| Command: /Library/Frameworks/R.framework/Resources/bin/R CMD check --install=check:Bioc.gff.install-out.txt --library=/Library/Frameworks/R.framework/Resources/library --no-vignettes --timings Bioc.gff_0.99.17.tar.gz |
| StartedAt: 2025-10-23 18:44:08 -0400 (Thu, 23 Oct 2025) |
| EndedAt: 2025-10-23 18:44:58 -0400 (Thu, 23 Oct 2025) |
| EllapsedTime: 49.6 seconds |
| RetCode: 0 |
| Status: OK |
| CheckDir: Bioc.gff.Rcheck |
| Warnings: 0 |
##############################################################################
##############################################################################
###
### Running command:
###
### /Library/Frameworks/R.framework/Resources/bin/R CMD check --install=check:Bioc.gff.install-out.txt --library=/Library/Frameworks/R.framework/Resources/library --no-vignettes --timings Bioc.gff_0.99.17.tar.gz
###
##############################################################################
##############################################################################
* using log directory ‘/Users/biocbuild/bbs-3.22-bioc/meat/Bioc.gff.Rcheck’
* using R version 4.5.1 Patched (2025-09-10 r88807)
* using platform: aarch64-apple-darwin20
* R was compiled by
Apple clang version 16.0.0 (clang-1600.0.26.6)
GNU Fortran (GCC) 14.2.0
* running under: macOS Ventura 13.7.7
* using session charset: UTF-8
* using option ‘--no-vignettes’
* checking for file ‘Bioc.gff/DESCRIPTION’ ... OK
* this is package ‘Bioc.gff’ version ‘0.99.17’
* package encoding: UTF-8
* checking package namespace information ... OK
* checking package dependencies ... OK
* checking if this is a source package ... OK
* checking if there is a namespace ... OK
* checking for hidden files and directories ... OK
* checking for portable file names ... OK
* checking for sufficient/correct file permissions ... OK
* checking whether package ‘Bioc.gff’ can be installed ... OK
* used C compiler: ‘Apple clang version 15.0.0 (clang-1500.1.0.2.5)’
* used SDK: ‘MacOSX11.3.1.sdk’
* checking installed package size ... OK
* checking package directory ... OK
* checking ‘build’ directory ... OK
* checking DESCRIPTION meta-information ... OK
* checking top-level files ... OK
* checking for left-over files ... OK
* checking index information ... OK
* checking package subdirectories ... OK
* checking code files for non-ASCII characters ... OK
* checking R files for syntax errors ... OK
* checking whether the package can be loaded ... OK
* checking whether the package can be loaded with stated dependencies ... OK
* checking whether the package can be unloaded cleanly ... OK
* checking whether the namespace can be loaded with stated dependencies ... OK
* checking whether the namespace can be unloaded cleanly ... OK
* checking dependencies in R code ... NOTE
':::' call which should be '::': ‘XVector:::open_input_files’
See the note in ?`:::` about the use of this operator.
Unexported objects imported by ':::' calls:
‘BiocIO:::.parseURI’ ‘XVector:::rewind_filexp’
See the note in ?`:::` about the use of this operator.
* checking S3 generic/method consistency ... OK
* checking replacement functions ... OK
* checking foreign function calls ... OK
* checking R code for possible problems ... OK
* checking Rd files ... OK
* checking Rd metadata ... OK
* checking Rd cross-references ... OK
* checking for missing documentation entries ... OK
* checking for code/documentation mismatches ... OK
* checking Rd \usage sections ... OK
* checking Rd contents ... OK
* checking for unstated dependencies in examples ... OK
* checking line endings in C/C++/Fortran sources/headers ... OK
* checking compiled code ... NOTE
Note: information on .o files is not available
File ‘Bioc.gff/libs/Bioc.gff.so’:
Found non-API calls to R: ‘R_GetConnection’, ‘R_ReadConnection’
Compiled code should not call non-API entry points in R.
See ‘Writing portable packages’ in the ‘Writing R Extensions’ manual,
and section ‘Moving into C API compliance’ for issues with the use of
non-API entry points.
* checking files in ‘vignettes’ ... OK
* checking examples ... OK
Examples with CPU (user + system) or elapsed time > 5s
user system elapsed
asGFF 11.901 0.355 12.327
* checking for unstated dependencies in ‘tests’ ... OK
* checking tests ...
Running ‘tinytest.R’
OK
* checking for unstated dependencies in vignettes ... OK
* checking package vignettes ... OK
* checking running R code from vignettes ... SKIPPED
* checking re-building of vignette outputs ... SKIPPED
* checking PDF version of manual ... OK
* DONE
Status: 2 NOTEs
See
‘/Users/biocbuild/bbs-3.22-bioc/meat/Bioc.gff.Rcheck/00check.log’
for details.
Bioc.gff.Rcheck/00install.out
############################################################################## ############################################################################## ### ### Running command: ### ### /Library/Frameworks/R.framework/Resources/bin/R CMD INSTALL Bioc.gff ### ############################################################################## ############################################################################## * installing to library ‘/Library/Frameworks/R.framework/Versions/4.5-arm64/Resources/library’ * installing *source* package ‘Bioc.gff’ ... ** this is package ‘Bioc.gff’ version ‘0.99.17’ ** using staged installation ** libs using C compiler: ‘Apple clang version 15.0.0 (clang-1500.1.0.2.5)’ using SDK: ‘MacOSX11.3.1.sdk’ clang -arch arm64 -std=gnu2x -I"/Library/Frameworks/R.framework/Resources/include" -DNDEBUG -I'/Library/Frameworks/R.framework/Versions/4.5-arm64/Resources/library/S4Vectors/include' -I'/Library/Frameworks/R.framework/Versions/4.5-arm64/Resources/library/XVector/include' -I'/Library/Frameworks/R.framework/Versions/4.5-arm64/Resources/library/IRanges/include' -I/opt/R/arm64/include -fPIC -falign-functions=64 -Wall -g -O2 -c R_init_Bioc_gff.c -o R_init_Bioc_gff.o clang -arch arm64 -std=gnu2x -I"/Library/Frameworks/R.framework/Resources/include" -DNDEBUG -I'/Library/Frameworks/R.framework/Versions/4.5-arm64/Resources/library/S4Vectors/include' -I'/Library/Frameworks/R.framework/Versions/4.5-arm64/Resources/library/XVector/include' -I'/Library/Frameworks/R.framework/Versions/4.5-arm64/Resources/library/IRanges/include' -I/opt/R/arm64/include -fPIC -falign-functions=64 -Wall -g -O2 -c S4Vectors_stubs.c -o S4Vectors_stubs.o clang -arch arm64 -std=gnu2x -I"/Library/Frameworks/R.framework/Resources/include" -DNDEBUG -I'/Library/Frameworks/R.framework/Versions/4.5-arm64/Resources/library/S4Vectors/include' -I'/Library/Frameworks/R.framework/Versions/4.5-arm64/Resources/library/XVector/include' -I'/Library/Frameworks/R.framework/Versions/4.5-arm64/Resources/library/IRanges/include' -I/opt/R/arm64/include -fPIC -falign-functions=64 -Wall -g -O2 -c XVector_stubs.c -o XVector_stubs.o clang -arch arm64 -std=gnu2x -I"/Library/Frameworks/R.framework/Resources/include" -DNDEBUG -I'/Library/Frameworks/R.framework/Versions/4.5-arm64/Resources/library/S4Vectors/include' -I'/Library/Frameworks/R.framework/Versions/4.5-arm64/Resources/library/XVector/include' -I'/Library/Frameworks/R.framework/Versions/4.5-arm64/Resources/library/IRanges/include' -I/opt/R/arm64/include -fPIC -falign-functions=64 -Wall -g -O2 -c readGFF.c -o readGFF.o clang -arch arm64 -std=gnu2x -I"/Library/Frameworks/R.framework/Resources/include" -DNDEBUG -I'/Library/Frameworks/R.framework/Versions/4.5-arm64/Resources/library/S4Vectors/include' -I'/Library/Frameworks/R.framework/Versions/4.5-arm64/Resources/library/XVector/include' -I'/Library/Frameworks/R.framework/Versions/4.5-arm64/Resources/library/IRanges/include' -I/opt/R/arm64/include -fPIC -falign-functions=64 -Wall -g -O2 -c utils.c -o utils.o clang -arch arm64 -std=gnu2x -dynamiclib -Wl,-headerpad_max_install_names -undefined dynamic_lookup -L/Library/Frameworks/R.framework/Resources/lib -L/opt/R/arm64/lib -o Bioc.gff.so R_init_Bioc_gff.o S4Vectors_stubs.o XVector_stubs.o readGFF.o utils.o -F/Library/Frameworks/R.framework/.. -framework R installing to /Library/Frameworks/R.framework/Versions/4.5-arm64/Resources/library/00LOCK-Bioc.gff/00new/Bioc.gff/libs ** R ** inst ** byte-compile and prepare package for lazy loading ** help *** installing help indices ** building package indices ** installing vignettes ** testing if installed package can be loaded from temporary location ** checking absolute paths in shared objects and dynamic libraries ** testing if installed package can be loaded from final location ** testing if installed package keeps a record of temporary installation path * DONE (Bioc.gff)
Bioc.gff.Rcheck/tests/tinytest.Rout
R version 4.5.1 Patched (2025-09-10 r88807) -- "Great Square Root"
Copyright (C) 2025 The R Foundation for Statistical Computing
Platform: aarch64-apple-darwin20
R is free software and comes with ABSOLUTELY NO WARRANTY.
You are welcome to redistribute it under certain conditions.
Type 'license()' or 'licence()' for distribution details.
R is a collaborative project with many contributors.
Type 'contributors()' for more information and
'citation()' on how to cite R or R packages in publications.
Type 'demo()' for some demos, 'help()' for on-line help, or
'help.start()' for an HTML browser interface to help.
Type 'q()' to quit R.
> if (requireNamespace("tinytest", quietly = TRUE))
+ tinytest::test_package("Bioc.gff")
Loading required package: stats4
Loading required package: BiocGenerics
Loading required package: generics
Attaching package: 'generics'
The following objects are masked from 'package:base':
as.difftime, as.factor, as.ordered, intersect, is.element, setdiff,
setequal, union
Attaching package: 'BiocGenerics'
The following objects are masked from 'package:stats':
IQR, mad, sd, var, xtabs
The following objects are masked from 'package:base':
Filter, Find, Map, Position, Reduce, anyDuplicated, aperm, append,
as.data.frame, basename, cbind, colnames, dirname, do.call,
duplicated, eval, evalq, get, grep, grepl, is.unsorted, lapply,
mapply, match, mget, order, paste, pmax, pmax.int, pmin, pmin.int,
rank, rbind, rownames, sapply, saveRDS, table, tapply, unique,
unsplit, which.max, which.min
Loading required package: S4Vectors
Attaching package: 'S4Vectors'
The following object is masked from 'package:utils':
findMatches
The following objects are masked from 'package:base':
I, expand.grid, unname
Loading required package: IRanges
Loading required package: Seqinfo
test_GFF-coercion.R........... 0 tests
test_GFF-coercion.R........... 0 tests
test_GFF-coercion.R........... 0 tests
test_GFF-coercion.R........... 0 tests
test_GFF-coercion.R........... 1 tests [0;32mOK[0m
test_GFF-coercion.R........... 2 tests [0;32mOK[0m
test_GFF-coercion.R........... 3 tests [0;32mOK[0m
test_GFF-coercion.R........... 4 tests [0;32mOK[0m
test_GFF-coercion.R........... 4 tests [0;32mOK[0m
test_GFF-coercion.R........... 4 tests [0;32mOK[0m
test_GFF-coercion.R........... 5 tests [0;32mOK[0m
test_GFF-coercion.R........... 5 tests [0;32mOK[0m
test_GFF-coercion.R........... 6 tests [0;32mOK[0m
test_GFF-coercion.R........... 6 tests [0;32mOK[0m
test_GFF-coercion.R........... 7 tests [0;32mOK[0m [0;34m0.2s[0m
test_index.R.................. 0 tests
test_index.R.................. 0 tests Loading required package: Biostrings
Loading required package: XVector
Attaching package: 'Biostrings'
The following object is masked from 'package:base':
strsplit
test_index.R.................. 0 tests
test_index.R.................. 0 tests
test_index.R.................. 0 tests
test_index.R.................. 0 tests
test_index.R.................. 0 tests
test_index.R.................. 0 tests
test_index.R.................. 0 tests
test_index.R.................. 0 tests
test_index.R.................. 0 tests
test_index.R.................. 0 tests
test_index.R.................. 0 tests
test_index.R.................. 0 tests
test_index.R.................. 0 tests
test_index.R.................. 0 tests
test_index.R.................. 0 tests
test_index.R.................. 0 tests
test_index.R.................. 0 tests
test_index.R.................. 1 tests [0;32mOK[0m
test_index.R.................. 2 tests [0;32mOK[0m
test_index.R.................. 2 tests [0;32mOK[0m
test_index.R.................. 3 tests [0;32mOK[0m
test_index.R.................. 4 tests [0;32mOK[0m
test_index.R.................. 4 tests [0;32mOK[0m
test_index.R.................. 4 tests [0;32mOK[0m [0;36m76ms[0m
test_metadataFromNCBI.R....... 0 tests
test_metadataFromNCBI.R....... 0 tests
test_metadataFromNCBI.R....... 0 tests
test_metadataFromNCBI.R....... 1 tests [0;32mOK[0m
test_metadataFromNCBI.R....... 1 tests [0;32mOK[0m
test_metadataFromNCBI.R....... 2 tests [0;32mOK[0m [0;34m0.8s[0m
test_utilities.R.............. 0 tests
test_utilities.R.............. 0 tests
test_utilities.R.............. 0 tests
test_utilities.R.............. 1 tests [0;32mOK[0m
test_utilities.R.............. 2 tests [0;32mOK[0m
test_utilities.R.............. 2 tests [0;32mOK[0m
test_utilities.R.............. 3 tests [0;32mOK[0m
test_utilities.R.............. 4 tests [0;32mOK[0m
test_utilities.R.............. 4 tests [0;32mOK[0m
test_utilities.R.............. 5 tests [0;32mOK[0m
test_utilities.R.............. 5 tests [0;32mOK[0m
test_utilities.R.............. 6 tests [0;32mOK[0m [0;36m7ms[0m
All ok, 19 results (1.1s)
Warning message:
In .local(object, con, format, ...) :
The phase information is missing for some CDS. The written file will contain
some CDS with no phase information.
>
> proc.time()
user system elapsed
1.723 0.114 2.472
Bioc.gff.Rcheck/Bioc.gff-Ex.timings
| name | user | system | elapsed | |
| GFFFile-class | 0.448 | 0.033 | 0.481 | |
| asGFF | 11.901 | 0.355 | 12.327 | |
| metadataFromNCBI | 0 | 0 | 0 | |
| readGFF | 0.087 | 0.007 | 0.096 | |