Back to Multiple platform build/check report for BioC 3.22:   simplified   long
A[B]CDEFGHIJKLMNOPQRSTUVWXYZ

This page was generated on 2025-05-05 12:10 -0400 (Mon, 05 May 2025).

HostnameOSArch (*)R versionInstalled pkgs
nebbiolo2Linux (Ubuntu 24.04.1 LTS)x86_644.5.0 (2025-04-11) -- "How About a Twenty-Six" 4745
palomino8Windows Server 2022 Datacenterx644.5.0 (2025-04-11 ucrt) -- "How About a Twenty-Six" 4507
lconwaymacOS 12.7.1 Montereyx86_644.5.0 Patched (2025-04-21 r88169) -- "How About a Twenty-Six" 4546
kjohnson3macOS 13.7.1 Venturaarm644.5.0 Patched (2025-04-21 r88169) -- "How About a Twenty-Six" 4487
taishanLinux (openEuler 24.03 LTS)aarch644.5.0 (2025-04-11) -- "How About a Twenty-Six" 4434
Click on any hostname to see more info about the system (e.g. compilers)      (*) as reported by 'uname -p', except on Windows and Mac OS X

Package 174/2304HostnameOS / ArchINSTALLBUILDCHECKBUILD BIN
Biobase 2.69.0  (landing page)
Bioconductor Package Maintainer
Snapshot Date: 2025-05-04 13:00 -0400 (Sun, 04 May 2025)
git_url: https://git.bioconductor.org/packages/Biobase
git_branch: devel
git_last_commit: 22a9cc8
git_last_commit_date: 2025-04-15 09:15:13 -0400 (Tue, 15 Apr 2025)
nebbiolo2Linux (Ubuntu 24.04.1 LTS) / x86_64  OK    OK    OK  UNNEEDED, same version is already published
palomino8Windows Server 2022 Datacenter / x64  OK    OK    OK    OK  UNNEEDED, same version is already published
lconwaymacOS 12.7.1 Monterey / x86_64  OK    OK    OK    OK  UNNEEDED, same version is already published
kjohnson3macOS 13.7.1 Ventura / arm64  OK    OK    OK    OK  UNNEEDED, same version is already published
taishanLinux (openEuler 24.03 LTS) / aarch64  OK    OK    OK  


CHECK results for Biobase on kjohnson3

To the developers/maintainers of the Biobase package:
- Allow up to 24 hours (and sometimes 48 hours) for your latest push to git@git.bioconductor.org:packages/Biobase.git to reflect on this report. See Troubleshooting Build Report for more information.
- Use the following Renviron settings to reproduce errors and warnings.
- If 'R CMD check' started to fail recently on the Linux builder(s) over a missing dependency, add the missing dependency to 'Suggests:' in your DESCRIPTION file. See Renviron.bioc for more information.

raw results


Summary

Package: Biobase
Version: 2.69.0
Command: /Library/Frameworks/R.framework/Resources/bin/R CMD check --install=check:Biobase.install-out.txt --library=/Library/Frameworks/R.framework/Resources/library --no-vignettes --timings Biobase_2.69.0.tar.gz
StartedAt: 2025-05-04 18:18:03 -0400 (Sun, 04 May 2025)
EndedAt: 2025-05-04 18:18:37 -0400 (Sun, 04 May 2025)
EllapsedTime: 34.4 seconds
RetCode: 0
Status:   OK  
CheckDir: Biobase.Rcheck
Warnings: 0

Command output

##############################################################################
##############################################################################
###
### Running command:
###
###   /Library/Frameworks/R.framework/Resources/bin/R CMD check --install=check:Biobase.install-out.txt --library=/Library/Frameworks/R.framework/Resources/library --no-vignettes --timings Biobase_2.69.0.tar.gz
###
##############################################################################
##############################################################################


* using log directory ‘/Users/biocbuild/bbs-3.22-bioc/meat/Biobase.Rcheck’
* using R version 4.5.0 Patched (2025-04-21 r88169)
* using platform: aarch64-apple-darwin20
* R was compiled by
    Apple clang version 16.0.0 (clang-1600.0.26.6)
    GNU Fortran (GCC) 14.2.0
* running under: macOS Ventura 13.7.1
* using session charset: UTF-8
* using option ‘--no-vignettes’
* checking for file ‘Biobase/DESCRIPTION’ ... OK
* this is package ‘Biobase’ version ‘2.69.0’
* checking package namespace information ... OK
* checking package dependencies ... OK
* checking if this is a source package ... OK
* checking if there is a namespace ... OK
* checking for hidden files and directories ... OK
* checking for portable file names ... OK
* checking for sufficient/correct file permissions ... OK
* checking whether package ‘Biobase’ can be installed ... OK
* used C compiler: ‘Apple clang version 15.0.0 (clang-1500.1.0.2.5)’
* used SDK: ‘MacOSX11.3.sdk’
* checking installed package size ... OK
* checking package directory ... OK
* checking ‘build’ directory ... OK
* checking DESCRIPTION meta-information ... OK
* checking top-level files ... OK
* checking for left-over files ... OK
* checking index information ... OK
* checking package subdirectories ... OK
* checking code files for non-ASCII characters ... OK
* checking R files for syntax errors ... OK
* checking whether the package can be loaded ... OK
* checking whether the package can be loaded with stated dependencies ... OK
* checking whether the package can be unloaded cleanly ... OK
* checking whether the namespace can be loaded with stated dependencies ... OK
* checking whether the namespace can be unloaded cleanly ... OK
* checking whether startup messages can be suppressed ... OK
* checking dependencies in R code ... OK
* checking S3 generic/method consistency ... OK
* checking replacement functions ... OK
* checking foreign function calls ... OK
* checking R code for possible problems ... OK
* checking Rd files ... OK
* checking Rd metadata ... OK
* checking Rd cross-references ... NOTE
Found the following Rd file(s) with Rd \link{} targets missing package
anchors:
  class.AnnotatedDataFrame.Rd: updateObject
  class.ExpressionSet.Rd: updateObject
  class.MIAME.Rd: updateObject
  class.MultiSet.Rd: updateObject
  class.NChannelSet.Rd: updateObject
  class.SnpSet.Rd: updateObject
  class.eSet.Rd: updateObject
Please provide package anchors for all Rd \link{} targets not in the
package itself and the base packages.
* checking for missing documentation entries ... OK
* checking for code/documentation mismatches ... OK
* checking Rd \usage sections ... OK
* checking Rd contents ... OK
* checking for unstated dependencies in examples ... OK
* checking contents of ‘data’ directory ... OK
* checking data for non-ASCII characters ... OK
* checking data for ASCII and uncompressed saves ... OK
* checking line endings in C/C++/Fortran sources/headers ... OK
* checking compiled code ... NOTE
Note: information on .o files is not available
* checking sizes of PDF files under ‘inst/doc’ ... OK
* checking files in ‘vignettes’ ... OK
* checking examples ... OK
* checking for unstated dependencies in ‘tests’ ... OK
* checking tests ...
  Running ‘test-all.R’
  Running ‘test-rowMedians.R’
 OK
* checking for unstated dependencies in vignettes ... OK
* checking package vignettes ... OK
* checking running R code from vignettes ... SKIPPED
* checking re-building of vignette outputs ... SKIPPED
* checking PDF version of manual ... OK
* DONE

Status: 2 NOTEs
See
  ‘/Users/biocbuild/bbs-3.22-bioc/meat/Biobase.Rcheck/00check.log’
for details.


Installation output

Biobase.Rcheck/00install.out

##############################################################################
##############################################################################
###
### Running command:
###
###   /Library/Frameworks/R.framework/Resources/bin/R CMD INSTALL Biobase
###
##############################################################################
##############################################################################


* installing to library ‘/Library/Frameworks/R.framework/Versions/4.5-arm64/Resources/library’
* installing *source* package ‘Biobase’ ...
** this is package ‘Biobase’ version ‘2.69.0’
** using staged installation
** libs
using C compiler: ‘Apple clang version 15.0.0 (clang-1500.1.0.2.5)’
using SDK: ‘MacOSX11.3.sdk’
clang -arch arm64 -std=gnu2x -I"/Library/Frameworks/R.framework/Resources/include" -DNDEBUG   -I/opt/R/arm64/include    -fPIC  -falign-functions=64 -Wall -g -O2  -c Rinit.c -o Rinit.o
clang -arch arm64 -std=gnu2x -I"/Library/Frameworks/R.framework/Resources/include" -DNDEBUG   -I/opt/R/arm64/include    -fPIC  -falign-functions=64 -Wall -g -O2  -c anyMissing.c -o anyMissing.o
clang -arch arm64 -std=gnu2x -I"/Library/Frameworks/R.framework/Resources/include" -DNDEBUG   -I/opt/R/arm64/include    -fPIC  -falign-functions=64 -Wall -g -O2  -c envir.c -o envir.o
clang -arch arm64 -std=gnu2x -I"/Library/Frameworks/R.framework/Resources/include" -DNDEBUG   -I/opt/R/arm64/include    -fPIC  -falign-functions=64 -Wall -g -O2  -c matchpt.c -o matchpt.o
clang -arch arm64 -std=gnu2x -I"/Library/Frameworks/R.framework/Resources/include" -DNDEBUG   -I/opt/R/arm64/include    -fPIC  -falign-functions=64 -Wall -g -O2  -c rowMedians.c -o rowMedians.o
clang -arch arm64 -std=gnu2x -I"/Library/Frameworks/R.framework/Resources/include" -DNDEBUG   -I/opt/R/arm64/include    -fPIC  -falign-functions=64 -Wall -g -O2  -c sublist_extract.c -o sublist_extract.o
clang -arch arm64 -std=gnu2x -dynamiclib -Wl,-headerpad_max_install_names -undefined dynamic_lookup -L/Library/Frameworks/R.framework/Resources/lib -L/opt/R/arm64/lib -o Biobase.so Rinit.o anyMissing.o envir.o matchpt.o rowMedians.o sublist_extract.o -F/Library/Frameworks/R.framework/.. -framework R
installing to /Library/Frameworks/R.framework/Versions/4.5-arm64/Resources/library/00LOCK-Biobase/00new/Biobase/libs
** R
** data
** inst
** byte-compile and prepare package for lazy loading
** help
*** installing help indices
** building package indices
** installing vignettes
** testing if installed package can be loaded from temporary location
** checking absolute paths in shared objects and dynamic libraries
** testing if installed package can be loaded from final location
** testing if installed package keeps a record of temporary installation path
* DONE (Biobase)

Tests output

Biobase.Rcheck/tests/test-all.Rout


R version 4.5.0 Patched (2025-04-21 r88169) -- "How About a Twenty-Six"
Copyright (C) 2025 The R Foundation for Statistical Computing
Platform: aarch64-apple-darwin20

R is free software and comes with ABSOLUTELY NO WARRANTY.
You are welcome to redistribute it under certain conditions.
Type 'license()' or 'licence()' for distribution details.

R is a collaborative project with many contributors.
Type 'contributors()' for more information and
'citation()' on how to cite R or R packages in publications.

Type 'demo()' for some demos, 'help()' for on-line help, or
'help.start()' for an HTML browser interface to help.
Type 'q()' to quit R.

> BiocGenerics:::testPackage("Biobase")

Attaching package: 'generics'

The following objects are masked from 'package:base':

    as.difftime, as.factor, as.ordered, intersect, is.element, setdiff,
    setequal, union


Attaching package: 'BiocGenerics'

The following objects are masked from 'package:stats':

    IQR, mad, sd, var, xtabs

The following objects are masked from 'package:base':

    Filter, Find, Map, Position, Reduce, anyDuplicated, aperm, append,
    as.data.frame, basename, cbind, colnames, dirname, do.call,
    duplicated, eval, evalq, get, grep, grepl, is.unsorted, lapply,
    mapply, match, mget, order, paste, pmax, pmax.int, pmin, pmin.int,
    rank, rbind, rownames, sapply, saveRDS, table, tapply, unique,
    unsplit, which.max, which.min

Welcome to Bioconductor

    Vignettes contain introductory material; view with
    'browseVignettes()'. To cite Bioconductor, see
    'citation("Biobase")', and for packages 'citation("pkgname")'.



RUNIT TEST PROTOCOL -- Sun May  4 18:18:23 2025 
*********************************************** 
Number of test functions: 101 
Number of errors: 0 
Number of failures: 0 

 
1 Test Suite : 
Biobase RUnit Tests - 101 test functions, 0 errors, 0 failures
Number of test functions: 101 
Number of errors: 0 
Number of failures: 0 
Warning message:
In environment(FUN) <- e1 :
  setting environment(<primitive function>) is not possible and trying it is deprecated
> 
> proc.time()
   user  system elapsed 
  3.019   0.086   3.136 

Biobase.Rcheck/tests/test-rowMedians.Rout


R version 4.5.0 Patched (2025-04-21 r88169) -- "How About a Twenty-Six"
Copyright (C) 2025 The R Foundation for Statistical Computing
Platform: aarch64-apple-darwin20

R is free software and comes with ABSOLUTELY NO WARRANTY.
You are welcome to redistribute it under certain conditions.
Type 'license()' or 'licence()' for distribution details.

R is a collaborative project with many contributors.
Type 'contributors()' for more information and
'citation()' on how to cite R or R packages in publications.

Type 'demo()' for some demos, 'help()' for on-line help, or
'help.start()' for an HTML browser interface to help.
Type 'q()' to quit R.

> library(Biobase)
Loading required package: BiocGenerics
Loading required package: generics

Attaching package: 'generics'

The following objects are masked from 'package:base':

    as.difftime, as.factor, as.ordered, intersect, is.element, setdiff,
    setequal, union


Attaching package: 'BiocGenerics'

The following objects are masked from 'package:stats':

    IQR, mad, sd, var, xtabs

The following objects are masked from 'package:base':

    Filter, Find, Map, Position, Reduce, anyDuplicated, aperm, append,
    as.data.frame, basename, cbind, colnames, dirname, do.call,
    duplicated, eval, evalq, get, grep, grepl, is.unsorted, lapply,
    mapply, match, mget, order, paste, pmax, pmax.int, pmin, pmin.int,
    rank, rbind, rownames, sapply, saveRDS, table, tapply, unique,
    unsplit, which.max, which.min

Welcome to Bioconductor

    Vignettes contain introductory material; view with
    'browseVignettes()'. To cite Bioconductor, see
    'citation("Biobase")', and for packages 'citation("pkgname")'.

> set.seed(1)
> 
> # - - - - - - - - - - - - - - - - - - - - - - - - - - - -
> # Consistency checks
> # - - - - - - - - - - - - - - - - - - - - - - - - - - - -
> 
> # rowMedians() by rowQ()
> rowMedians2 <- function(imat) {
+   nr <- ncol(imat)
+   half <- (nr + 1)/2
+   if (nr%%2 == 1) {
+     return(rowQ(imat, half))
+   } else {
+     return((rowQ(imat, half) + rowQ(imat, half+1))/2)
+   }
+ }
> 
> cat("Consistency checks:\n")
Consistency checks:
> set.seed(1)
> for (kk in 1:20) {
+   cat("Random test #", kk, "\n", sep="")
+ 
+   # Simulate data in a matrix of any shape
+   nrow <- sample(2000, size=1)
+   ncol <- sample(2000, size=1)
+   x <- rnorm(nrow*ncol)
+   dim(x) <- c(nrow, ncol)
+ 
+   # Add NAs?
+   nas <- sample(c(TRUE,FALSE), size=1)
+   if (nas) {
+     nna <- sample(nrow*ncol, size=1)
+     x[sample(length(x), size=nna)] <- NA
+   }
+ 
+   na.rm <- nas
+   t1 <- system.time({
+     y1 <- rowMedians(x, na.rm=na.rm)
+   })
+   t2 <- system.time({
+     y2 <- apply(x, MARGIN=1, FUN=median, na.rm=na.rm)
+   })
+   # When all values of 'y2' are NA, 'y2' is logical
+   if (is.logical(y2)) y2 <- as.double(y2)
+   stopifnot(all.equal(y1,y2))
+   cat(sprintf("rowMedians()/apply(): %.3g\n", (t1/t2)[3]))
+ 
+   if (!nas) {
+     t3 <- system.time({
+       y3 <- rowMedians2(x)
+     })
+     stopifnot(all.equal(y1,y3))
+     cat(sprintf("rowMedians()/rowMedians2(): %.3g\n", (t1/t3)[3]))
+   }
+ }
Random test #1
rowMedians()/apply(): 0.385
Random test #2
rowMedians()/apply(): 0.237
rowMedians()/rowMedians2(): 0.375
Random test #3
rowMedians()/apply(): 0
Random test #4
rowMedians()/apply(): 0.3
rowMedians()/rowMedians2(): 0.353
Random test #5
rowMedians()/apply(): 0.326
rowMedians()/rowMedians2(): 0.43
Random test #6
rowMedians()/apply(): 0.32
rowMedians()/rowMedians2(): 0.32
Random test #7
rowMedians()/apply(): 0.358
Random test #8
rowMedians()/apply(): 0
rowMedians()/rowMedians2(): NaN
Random test #9
rowMedians()/apply(): 0.25
Random test #10
rowMedians()/apply(): 0.0667
Random test #11
rowMedians()/apply(): 0.25
Random test #12
rowMedians()/apply(): 0.235
Random test #13
rowMedians()/apply(): 0.429
rowMedians()/rowMedians2(): 1
Random test #14
rowMedians()/apply(): 0.302
Random test #15
rowMedians()/apply(): 0.28
Random test #16
rowMedians()/apply(): 0.243
rowMedians()/rowMedians2(): 0.409
Random test #17
rowMedians()/apply(): 0.243
Random test #18
rowMedians()/apply(): 0.219
rowMedians()/rowMedians2(): 0.778
Random test #19
rowMedians()/apply(): 0.383
rowMedians()/rowMedians2(): 0.621
Random test #20
rowMedians()/apply(): 0.308
rowMedians()/rowMedians2(): 0.354
> 
> 
> # - - - - - - - - - - - - - - - - - - - - - - - - - - - -
> # Benchmarking
> # - - - - - - - - - - - - - - - - - - - - - - - - - - - -
> cat("Benchmarking:\n")
Benchmarking:
> 
> # Simulate data in a matrix of any shape
> nrow <- 1000
> ncol <- 1000
> x <- rnorm(nrow*ncol)
> dim(x) <- c(nrow, ncol)
> 
> gc()
          used (Mb) gc trigger (Mb) limit (Mb) max used (Mb)
Ncells  608932 32.6    1209144 64.6         NA  1129752 60.4
Vcells 2116337 16.2   12255594 93.6     196608 12353387 94.3
> t0 <- system.time({
+   for (rr in 1:20)
+     y0 <- apply(x, MARGIN=1, FUN=median, na.rm=FALSE)
+ })
> gc()
          used (Mb) gc trigger (Mb) limit (Mb) max used (Mb)
Ncells  608948 32.6    1209144 64.6         NA  1209144 64.6
Vcells 2117354 16.2   12255594 93.6     196608 12353387 94.3
> t1 <- system.time({
+   for (rr in 1:20)
+     y1 <- rowMedians(x, na.rm=FALSE)
+ })
> gc()
          used (Mb) gc trigger (Mb) limit (Mb) max used (Mb)
Ncells  608948 32.6    1209144 64.6         NA  1209144 64.6
Vcells 2116479 16.2   12255594 93.6     196608 12353387 94.3
> stopifnot(all.equal(y0,y1))
> cat(sprintf("rowMedians()/apply(): %.3g\n", (t1/t0)[3]))
rowMedians()/apply(): 0.298
> 
> 
> # - - - - - - - - - - - - - - - - - - - - - - - - - - - -
> # Consistency checks
> # - - - - - - - - - - - - - - - - - - - - - - - - - - - -
> cat("Consistency checks without NAs:\n")
Consistency checks without NAs:
> for (kk in 1:20) {
+   cat("Random test #", kk, "\n", sep="")
+ 
+   # Simulate data in a matrix of any shape
+   nrow <- sample(1000, size=1)
+   ncol <- sample(1000, size=1)
+   x <- rnorm(nrow*ncol)
+   dim(x) <- c(nrow, ncol)
+ 
+   t0 <- system.time({
+     y0 <- apply(x, MARGIN=1, FUN=median, na.rm=FALSE)
+   })
+   t1 <- system.time({
+     y1 <- rowMedians(x, na.rm=FALSE)
+   })
+   stopifnot(all.equal(y0,y1))
+ } # for (kk in ...)
Random test #1
Random test #2
Random test #3
Random test #4
Random test #5
Random test #6
Random test #7
Random test #8
Random test #9
Random test #10
Random test #11
Random test #12
Random test #13
Random test #14
Random test #15
Random test #16
Random test #17
Random test #18
Random test #19
Random test #20
> 
> 
> 
> cat("Consistency checks with NAs:\n")
Consistency checks with NAs:
> for (kk in 1:20) {
+   cat("Random test #", kk, "\n", sep="")
+ 
+   # Simulate data in a matrix of any shape
+   nrow <- sample(1000, size=1)
+   ncol <- sample(1000, size=1)
+   x <- rnorm(nrow*ncol)
+   dim(x) <- c(nrow, ncol)
+ 
+   # Add NAs
+   nna <- sample(nrow*ncol-1, size=1)
+   x[sample(length(x), size=nna)] <- NA
+ 
+   t0 <- system.time({
+     y0 <- apply(x, MARGIN=1, FUN=median, na.rm=TRUE)
+     y0[is.na(y0)] <- NA
+   })
+   t1 <- system.time({
+     y1 <- rowMedians(x, na.rm=TRUE)
+   })
+   stopifnot(all.equal(y0,y1))
+ } # for (kk in ...)
Random test #1
Random test #2
Random test #3
Random test #4
Random test #5
Random test #6
Random test #7
Random test #8
Random test #9
Random test #10
Random test #11
Random test #12
Random test #13
Random test #14
Random test #15
Random test #16
Random test #17
Random test #18
Random test #19
Random test #20
> 
> proc.time()
   user  system elapsed 
  7.799   0.352   8.285 

Example timings

Biobase.Rcheck/Biobase-Ex.timings

nameusersystemelapsed
Aggregate0.0020.0010.002
ScalarObject-class0.0320.0000.032
addVig2Menu0.0010.0000.000
anyMissing000
cache0.0010.0010.002
channel0.0440.0040.048
channelNames0.0110.0000.011
class.AnnotatedDataFrame0.0060.0010.007
class.ExpressionSet0.0490.0040.054
class.MIAxE0.0060.0000.006
class.MultiSet0.0060.0000.006
class.NChannelSet0.0350.0010.035
class.Versioned0.0140.0010.015
class.VersionedBiobase0.0050.0000.006
class.Versions0.0030.0000.003
class.VersionsNull000
class.container0.0010.0000.001
class.eSet0.0180.0000.020
classVersion0.0010.0000.001
contents0.0000.0000.001
copyEnv000
copySubstitute0.0030.0030.005
createPackage0.0010.0010.008
data.aaMap0.0000.0000.001
data.geneData0.0090.0020.010
data.reporter0.0000.0010.001
data.sample.ExpressionSet0.0050.0010.006
data.sample.MultiSet0.0020.0000.002
dumpPackTxt0.0000.0010.001
esApply0.2420.0030.245
getPkgVigs0.0030.0020.005
isCurrent0.0070.0000.008
isUnique000
isVersioned0.0020.0000.003
lcSuffix0.0010.0000.001
listLen000
makeDataPackage0.0310.0020.033
matchpt0.0020.0000.001
multiassign000
note000
openPDF000
openVignette000
package.version000
read.AnnotatedDataFrame0.0030.0000.004
read.MIAME0.0010.0000.000
readExpressionSet0.0190.0000.021
reverseSplit000
rowMedians0.0100.0010.012
rowQ0.0060.0020.008
selectChannels0.010.000.01
selectSome0.0000.0000.001
strbreak0.0010.0000.000
subListExtract0.2340.0070.252
testBioCConnection0.0060.0040.407
updateOldESet000
validMsg000