Back to Build/check report for BioC 3.23:   simplified   long
A[B]CDEFGHIJKLMNOPQRSTUVWXYZ

This page was generated on 2025-11-04 11:32 -0500 (Tue, 04 Nov 2025).

HostnameOSArch (*)R versionInstalled pkgs
nebbiolo1Linux (Ubuntu 24.04.3 LTS)x86_64R Under development (unstable) (2025-10-20 r88955) -- "Unsuffered Consequences" 4788
Click on any hostname to see more info about the system (e.g. compilers)      (*) as reported by 'uname -p', except on Windows and Mac OS X

Package 217/2323HostnameOS / ArchINSTALLBUILDCHECKBUILD BIN
BioNet 1.71.0  (landing page)
Marcus Dittrich
Snapshot Date: 2025-11-03 13:40 -0500 (Mon, 03 Nov 2025)
git_url: https://git.bioconductor.org/packages/BioNet
git_branch: devel
git_last_commit: 9742714
git_last_commit_date: 2025-10-29 10:05:29 -0500 (Wed, 29 Oct 2025)
nebbiolo1Linux (Ubuntu 24.04.3 LTS) / x86_64  OK    OK    OK  UNNEEDED, same version is already published


CHECK results for BioNet on nebbiolo1

To the developers/maintainers of the BioNet package:
- Allow up to 24 hours (and sometimes 48 hours) for your latest push to git@git.bioconductor.org:packages/BioNet.git to reflect on this report. See Troubleshooting Build Report for more information.
- Use the following Renviron settings to reproduce errors and warnings.
- If 'R CMD check' started to fail recently on the Linux builder(s) over a missing dependency, add the missing dependency to 'Suggests:' in your DESCRIPTION file. See Renviron.bioc for more information.

raw results


Summary

Package: BioNet
Version: 1.71.0
Command: /home/biocbuild/bbs-3.23-bioc/R/bin/R CMD check --install=check:BioNet.install-out.txt --library=/home/biocbuild/bbs-3.23-bioc/R/site-library --timings BioNet_1.71.0.tar.gz
StartedAt: 2025-11-03 21:18:18 -0500 (Mon, 03 Nov 2025)
EndedAt: 2025-11-03 21:21:39 -0500 (Mon, 03 Nov 2025)
EllapsedTime: 201.3 seconds
RetCode: 0
Status:   OK  
CheckDir: BioNet.Rcheck
Warnings: 0

Command output

##############################################################################
##############################################################################
###
### Running command:
###
###   /home/biocbuild/bbs-3.23-bioc/R/bin/R CMD check --install=check:BioNet.install-out.txt --library=/home/biocbuild/bbs-3.23-bioc/R/site-library --timings BioNet_1.71.0.tar.gz
###
##############################################################################
##############################################################################


* using log directory ‘/home/biocbuild/bbs-3.23-bioc/meat/BioNet.Rcheck’
* using R Under development (unstable) (2025-10-20 r88955)
* using platform: x86_64-pc-linux-gnu
* R was compiled by
    gcc (Ubuntu 13.3.0-6ubuntu2~24.04) 13.3.0
    GNU Fortran (Ubuntu 13.3.0-6ubuntu2~24.04) 13.3.0
* running under: Ubuntu 24.04.3 LTS
* using session charset: UTF-8
* checking for file ‘BioNet/DESCRIPTION’ ... OK
* checking extension type ... Package
* this is package ‘BioNet’ version ‘1.71.0’
* checking package namespace information ... OK
* checking package dependencies ... OK
* checking if this is a source package ... OK
* checking if there is a namespace ... OK
* checking for hidden files and directories ... OK
* checking for portable file names ... OK
* checking for sufficient/correct file permissions ... OK
* checking whether package ‘BioNet’ can be installed ... OK
* checking installed package size ... OK
* checking package directory ... OK
* checking ‘build’ directory ... OK
* checking DESCRIPTION meta-information ... OK
* checking top-level files ... OK
* checking for left-over files ... OK
* checking index information ... OK
* checking package subdirectories ... OK
* checking code files for non-ASCII characters ... OK
* checking R files for syntax errors ... OK
* checking whether the package can be loaded ... OK
* checking whether the package can be loaded with stated dependencies ... OK
* checking whether the package can be unloaded cleanly ... OK
* checking whether the namespace can be loaded with stated dependencies ... OK
* checking whether the namespace can be unloaded cleanly ... OK
* checking loading without being on the library search path ... OK
* checking dependencies in R code ... NOTE
Packages in Depends field not imported from:
  ‘RBGL’ ‘graph’
  These packages need to be imported from (in the NAMESPACE file)
  for when this namespace is loaded but not attached.
* checking S3 generic/method consistency ... OK
* checking replacement functions ... OK
* checking foreign function calls ... OK
* checking R code for possible problems ... NOTE
.XGMML.edges: no visible global function definition for ‘is’
.XGMML.nodes: no visible global function definition for ‘is’
.add.edge.attrs: no visible global function definition for ‘read.table’
.add.node.attrs: no visible global function definition for ‘read.table’
.affyID2ppiID: no visible global function definition for ‘is’
.affyID2ppiID: no visible global function definition for ‘nodeData’
.graph.eda: no visible global function definition for ‘is’
.graph.eda: no visible global function definition for ‘write.table’
.graph.noa: no visible global function definition for ‘is’
.graph.noa: no visible global function definition for ‘write.table’
.graph.sif: no visible global function definition for ‘write.table’
.graph.table: no visible global function definition for ‘write.table’
.node.color: no visible global function definition for
  ‘colorRampPalette’
.saveGraph.net: no visible global function definition for ‘nodes’
.saveGraph.net: no visible global function definition for ‘write.table’
.saveGraph.net: no visible global function definition for ‘isDirected’
.saveGraph.net: no visible global function definition for ‘eWV’
.saveGraph.net: no visible global function definition for ‘edgeMatrix’
.saveGraph.tab: no visible global function definition for ‘edgeNames’
.saveGraph.tgf: no visible global function definition for ‘write.table’
.saveGraph.tgf: no visible global function definition for ‘nodes’
.saveGraph.tgf: no visible global function definition for ‘eWV’
.saveGraph.tgf: no visible global function definition for ‘edgeMatrix’
.subNetwork0: no visible global function definition for ‘is’
.subNetwork0: no visible global function definition for ‘na.omit’
.subNetwork0: no visible global function definition for ‘subGraph’
.subNetwork0: no visible global function definition for ‘nodes’
.subNetwork1: no visible global function definition for ‘is’
.subNetwork1: no visible global function definition for ‘na.omit’
.subNetwork1: no visible global function definition for ‘adj’
.subNetwork1: no visible global function definition for ‘subGraph’
.subNetwork1: no visible global function definition for ‘nodes’
aggrPvals: no visible global function definition for ‘pbeta’
aggrPvals: no visible global function definition for ‘hist’
aggrPvals: no visible global function definition for ‘par’
bumOptim: no visible global function definition for ‘runif’
bumOptim: no visible global function definition for ‘optim’
compareNetworks: no visible global function definition for ‘is’
compareNetworks: no visible global function definition for ‘hist’
compareNetworks: no visible global function definition for ‘points’
compareNetworks: no visible global function definition for ‘legend’
consensusScores: no visible global function definition for ‘is’
consensusScores : <anonymous>: no visible global function definition
  for ‘nodes’
consensusScores: no visible global function definition for ‘numNodes’
consensusScores: no visible global function definition for ‘nodes’
consensusScores: no visible global function definition for ‘numEdges’
fitBumModel: no visible global function definition for ‘par’
fitBumModel: no visible global function definition for ‘hist’
getCompScores: no visible global function definition for ‘is’
getCompScores: no visible global function definition for ‘connComp’
getEdgeList: no visible global function definition for ‘is’
getEdgeList: no visible global function definition for ‘edgeMatrix’
getEdgeList: no visible global function definition for ‘nodes’
hist.bum: no visible global function definition for ‘hist’
hist.bum: no visible global function definition for ‘lines’
hist.bum: no visible global function definition for ‘abline’
hist.bum: no visible global function definition for ‘axis’
largestComp: no visible global function definition for ‘is’
largestComp: no visible global function definition for ‘connectedComp’
largestComp: no visible global function definition for ‘subGraph’
largestScoreComp: no visible global function definition for ‘is’
largestScoreComp: no visible global function definition for ‘na.omit’
largestScoreComp: no visible global function definition for ‘nodes’
largestScoreComp: no visible global function definition for ‘subGraph’
loadNetwork.sif: no visible global function definition for ‘read.table’
loadNetwork.tab: no visible global function definition for ‘new’
loadNetwork.tab: no visible global function definition for ‘addEdge’
makeNetwork: no visible global function definition for ‘new’
makeNetwork: no visible global function definition for ‘addEdge’
permutateNodes: no visible global function definition for ‘is’
permutateNodes: no visible global function definition for ‘nodes<-’
permutateNodes: no visible global function definition for ‘nodes’
plot.bum: no visible binding for global variable ‘uniroot’
plot.bum: no visible global function definition for ‘lines’
plot3dModule: no visible global function definition for ‘is’
plot3dModule: no visible global function definition for ‘rgl.open’
plot3dModule: no visible global function definition for ‘par3d’
plot3dModule: no visible global function definition for ‘rgl.texts’
plot3dModule: no visible global function definition for ‘rgl.bg’
plotLLSurface: no visible binding for global variable ‘heat.colors’
plotLLSurface: no visible global function definition for
  ‘filled.contour’
plotLLSurface: no visible global function definition for ‘axis’
plotLLSurface: no visible global function definition for ‘abline’
plotLLSurface: no visible global function definition for ‘strheight’
plotLLSurface: no visible global function definition for ‘points’
plotLLSurface: no visible global function definition for ‘text’
plotModule: no visible global function definition for ‘is’
readHeinzGraph: no visible global function definition for ‘is’
readHeinzGraph: no visible global function definition for ‘read.table’
readHeinzTree: no visible global function definition for ‘read.table’
readHeinzTree: no visible global function definition for ‘is’
readHeinzTree: no visible global function definition for ‘edgeNames’
readHeinzTree: no visible global function definition for ‘removeEdge’
resamplingPvalues: no visible global function definition for
  ‘rowttests’
resamplingPvalues: no visible binding for global variable ‘var’
resamplingPvalues: no visible global function definition for ‘pt’
rmSelfLoops: no visible global function definition for ‘is’
rmSelfLoops: no visible global function definition for ‘edgeNames’
rmSelfLoops: no visible global function definition for ‘numEdges’
rmSelfLoops: no visible global function definition for ‘removeEdge’
runFastHeinz: no visible global function definition for ‘is’
save3dModule: no visible global function definition for ‘rgl.bg’
save3dModule: no visible global function definition for
  ‘rgl.postscript’
saveNetwork: no visible global function definition for ‘is’
scoreNodes: no visible global function definition for ‘is’
scoreNodes: no visible global function definition for ‘nodes’
sortedEdgeList: no visible global function definition for ‘is’
sortedEdgeList: no visible global function definition for ‘isDirected’
writeHeinz: no visible global function definition for ‘is’
writeHeinzEdges: no visible global function definition for ‘is’
writeHeinzEdges: no visible global function definition for
  ‘write.table’
writeHeinzNodes: no visible global function definition for ‘is’
writeHeinzNodes: no visible global function definition for
  ‘write.table’
Undefined global functions or variables:
  abline addEdge adj axis colorRampPalette connComp connectedComp eWV
  edgeMatrix edgeNames filled.contour heat.colors hist is isDirected
  legend lines na.omit new nodeData nodes nodes<- numEdges numNodes
  optim par par3d pbeta points pt read.table removeEdge rgl.bg rgl.open
  rgl.postscript rgl.texts rowttests runif strheight subGraph text
  uniroot var write.table
Consider adding
  importFrom("grDevices", "colorRampPalette", "heat.colors")
  importFrom("graphics", "abline", "axis", "filled.contour", "hist",
             "legend", "lines", "par", "points", "strheight", "text")
  importFrom("methods", "is", "new")
  importFrom("stats", "na.omit", "optim", "pbeta", "pt", "runif",
             "uniroot", "var")
  importFrom("utils", "read.table", "write.table")
to your NAMESPACE file (and ensure that your DESCRIPTION Imports field
contains 'methods').
* checking Rd files ... NOTE
checkRd: (-1) writeHeinz.Rd:29: Escaped LaTeX specials: \$
checkRd: (-1) writeHeinzEdges.Rd:23: Escaped LaTeX specials: \$
* checking Rd metadata ... OK
* checking Rd cross-references ... OK
* checking for missing documentation entries ... OK
* checking for code/documentation mismatches ... OK
* checking Rd \usage sections ... OK
* checking Rd contents ... OK
* checking for unstated dependencies in examples ... OK
* checking contents of ‘data’ directory ... OK
* checking data for non-ASCII characters ... OK
* checking data for ASCII and uncompressed saves ... OK
* checking sizes of PDF files under ‘inst/doc’ ...* checking files in ‘vignettes’ ... OK
* checking examples ... OK
Examples with CPU (user + system) or elapsed time > 5s
               user system elapsed
runFastHeinz 20.226  0.074  20.302
* checking for unstated dependencies in vignettes ... OK
* checking package vignettes ... OK
* checking re-building of vignette outputs ... OK
* checking PDF version of manual ... OK
* DONE

Status: 3 NOTEs
See
  ‘/home/biocbuild/bbs-3.23-bioc/meat/BioNet.Rcheck/00check.log’
for details.


Installation output

BioNet.Rcheck/00install.out

##############################################################################
##############################################################################
###
### Running command:
###
###   /home/biocbuild/bbs-3.23-bioc/R/bin/R CMD INSTALL BioNet
###
##############################################################################
##############################################################################


* installing to library ‘/home/biocbuild/bbs-3.23-bioc/R/site-library’
* installing *source* package ‘BioNet’ ...
** this is package ‘BioNet’ version ‘1.71.0’
** using staged installation
** R
** data
** inst
** byte-compile and prepare package for lazy loading
** help
*** installing help indices
** building package indices
** installing vignettes
** testing if installed package can be loaded from temporary location
** testing if installed package can be loaded from final location
** testing if installed package keeps a record of temporary installation path
* DONE (BioNet)

Tests output


Example timings

BioNet.Rcheck/BioNet-Ex.timings

nameusersystemelapsed
aggrPvals0.4810.0870.567
bumOptim0.1660.0180.184
compareNetworks0.9760.0120.989
consensusScores0.2310.0190.253
fbum000
fbumLL0.1900.0050.195
fdrThreshold0.1670.0040.172
fitBumModel0.5380.0520.591
getCompScores1.2260.0451.271
getEdgeList0.4470.0120.459
hist.bum0.5560.0020.558
largestComp1.0660.0011.067
largestScoreComp3.4120.0203.433
loadNetwork.sif000
makeNetwork0.0080.0000.010
mapByVar0.0000.0010.000
permutateNodes4.0830.0844.167
piUpper0.1810.0000.181
plot.bum0.5510.0040.555
plot3dModule1.5810.0081.589
plotLLSurface0.1900.0050.195
plotModule1.5410.0291.570
print.bum0.1750.0000.175
pvaluesExample0.0060.0010.006
readHeinzGraph0.2580.0010.259
readHeinzTree0.2380.0020.240
resamplingPvalues2.6090.1342.743
rmSelfLoops0.0280.0020.030
runFastHeinz20.226 0.07420.302
save3dModule1.1290.0571.186
saveNetwork0.8020.0060.808
scanFDR0.1900.0060.196
scoreFunction0.2110.0830.294
scoreNodes1.5780.0361.614
scoreOffset0.1910.0000.192
sortedEdgeList1.9540.0301.984
subNetwork0.1030.0020.104
summary.bum0.1900.0010.191
writeHeinz1.2860.0031.289
writeHeinzEdges2.4780.0112.489
writeHeinzNodes1.8180.0791.898