Back to Multiple platform build/check report for BioC 3.21:   simplified   long
A[B]CDEFGHIJKLMNOPQRSTUVWXYZ

This page was generated on 2025-02-03 12:37 -0500 (Mon, 03 Feb 2025).

HostnameOSArch (*)R versionInstalled pkgs
nebbiolo1Linux (Ubuntu 24.04.1 LTS)x86_64R Under development (unstable) (2025-01-20 r87609) -- "Unsuffered Consequences" 4704
palomino7Windows Server 2022 Datacenterx64R Under development (unstable) (2025-01-21 r87610 ucrt) -- "Unsuffered Consequences" 4467
lconwaymacOS 12.7.1 Montereyx86_64R Under development (unstable) (2025-01-22 r87618) -- "Unsuffered Consequences" 4478
Click on any hostname to see more info about the system (e.g. compilers)      (*) as reported by 'uname -p', except on Windows and Mac OS X

Package 134/2289HostnameOS / ArchINSTALLBUILDCHECKBUILD BIN
Basic4Cseq 1.43.0  (landing page)
Carolin Walter
Snapshot Date: 2025-02-02 13:40 -0500 (Sun, 02 Feb 2025)
git_url: https://git.bioconductor.org/packages/Basic4Cseq
git_branch: devel
git_last_commit: 1f73086
git_last_commit_date: 2024-10-29 09:50:27 -0500 (Tue, 29 Oct 2024)
nebbiolo1Linux (Ubuntu 24.04.1 LTS) / x86_64  OK    OK    OK  UNNEEDED, same version is already published
palomino7Windows Server 2022 Datacenter / x64  OK    OK    OK    OK  UNNEEDED, same version is already published
lconwaymacOS 12.7.1 Monterey / x86_64  OK    OK    OK    OK  UNNEEDED, same version is already published


BUILD results for Basic4Cseq on palomino7

To the developers/maintainers of the Basic4Cseq package:
- Allow up to 24 hours (and sometimes 48 hours) for your latest push to git@git.bioconductor.org:packages/Basic4Cseq.git to reflect on this report. See Troubleshooting Build Report for more information.
- Use the following Renviron settings to reproduce errors and warnings.
- If 'R CMD check' started to fail recently on the Linux builder(s) over a missing dependency, add the missing dependency to 'Suggests:' in your DESCRIPTION file. See Renviron.bioc for more information.

raw results


Summary

Package: Basic4Cseq
Version: 1.43.0
Command: chmod a+r Basic4Cseq -R && E:\biocbuild\bbs-3.21-bioc\R\bin\R.exe CMD build --keep-empty-dirs --no-resave-data Basic4Cseq
StartedAt: 2025-02-02 17:18:22 -0500 (Sun, 02 Feb 2025)
EndedAt: 2025-02-02 17:19:50 -0500 (Sun, 02 Feb 2025)
EllapsedTime: 88.0 seconds
RetCode: 0
Status:   OK  
PackageFile: Basic4Cseq_1.43.0.tar.gz
PackageFileSize: 384.9 KiB

Command output

##############################################################################
##############################################################################
###
### Running command:
###
###   chmod a+r Basic4Cseq -R && E:\biocbuild\bbs-3.21-bioc\R\bin\R.exe CMD build --keep-empty-dirs --no-resave-data Basic4Cseq
###
##############################################################################
##############################################################################


* checking for file 'Basic4Cseq/DESCRIPTION' ... OK
* preparing 'Basic4Cseq':
* checking DESCRIPTION meta-information ... OK
* installing the package to build vignettes
* creating vignettes ... OK
* checking for LF line-endings in source and make files and shell scripts
* checking for empty or unneeded directories
* looking to see if a 'data/datalist' file should be added
* building 'Basic4Cseq_1.43.0.tar.gz'