Back to Multiple platform build/check report for BioC 3.22:   simplified   long
[A]BCDEFGHIJKLMNOPQRSTUVWXYZ

This page was generated on 2025-05-23 12:02 -0400 (Fri, 23 May 2025).

HostnameOSArch (*)R versionInstalled pkgs
nebbiolo2Linux (Ubuntu 24.04.1 LTS)x86_644.5.0 (2025-04-11) -- "How About a Twenty-Six" 4753
palomino8Windows Server 2022 Datacenterx644.5.0 (2025-04-11 ucrt) -- "How About a Twenty-Six" 4528
lconwaymacOS 12.7.1 Montereyx86_644.5.0 Patched (2025-04-21 r88169) -- "How About a Twenty-Six" 4553
kjohnson3macOS 13.7.1 Venturaarm644.5.0 Patched (2025-04-21 r88169) -- "How About a Twenty-Six" 4493
taishanLinux (openEuler 24.03 LTS)aarch644.5.0 (2025-04-11) -- "How About a Twenty-Six" 4460
Click on any hostname to see more info about the system (e.g. compilers)      (*) as reported by 'uname -p', except on Windows and Mac OS X

All results for package AnnotationFilter


To the developers/maintainers of the AnnotationFilter package:
- Allow up to 24 hours (and sometimes 48 hours) for your latest push to git@git.bioconductor.org:packages/AnnotationFilter.git to reflect on this report. See Troubleshooting Build Report for more information.
- Use the following Renviron settings to reproduce errors and warnings.
- If 'R CMD check' started to fail recently on the Linux builder(s) over a missing dependency, add the missing dependency to 'Suggests:' in your DESCRIPTION file. See Renviron.bioc for more information.

raw results

Package 72/2306HostnameOS / ArchINSTALLBUILDCHECKBUILD BIN
AnnotationFilter 1.33.0  (landing page)
Bioconductor Package Maintainer
Snapshot Date: 2025-05-22 13:25 -0400 (Thu, 22 May 2025)
git_url: https://git.bioconductor.org/packages/AnnotationFilter
git_branch: devel
git_last_commit: e48388d
git_last_commit_date: 2025-04-15 11:09:55 -0400 (Tue, 15 Apr 2025)
nebbiolo2Linux (Ubuntu 24.04.1 LTS) / x86_64  OK    OK    OK  UNNEEDED, same version is already published
palomino8Windows Server 2022 Datacenter / x64  OK    OK    OK    OK  UNNEEDED, same version is already published
lconwaymacOS 12.7.1 Monterey / x86_64  OK    OK    OK    OK  UNNEEDED, same version is already published
kjohnson3macOS 13.7.1 Ventura / arm64  OK    OK    OK    OK  UNNEEDED, same version is already published
taishanLinux (openEuler 24.03 LTS) / aarch64  OK    OK    OK  



Results for Bioconductor software packages that depend directly on package AnnotationFilter

QUICK STATSOS / ArchINSTALLBUILDCHECKBUILD BIN
nebbiolo2Linux (Ubuntu 24.04.1 LTS) / x86_64
0014
0113
00310
palomino8Windows Server 2022 Datacenter / x64
0013
0112
0039
0012
lconwaymacOS 12.7.1 Monterey / x86_64
0014
0113
00310
0013
kjohnson3macOS 13.7.1 Ventura / arm64
0014
0113
00310
0013
taishanLinux (openEuler 24.03 LTS) / aarch64
0014
0113
0139
Package 1/14HostnameOS / ArchINSTALLBUILDCHECKBUILD BIN
biovizBase 1.57.0  (landing page)
Michael Lawrence
git_last_commit: 91205ed
git_last_commit_date: 2025-04-15 10:10:39 -0400
nebbiolo2Linux (Ubuntu 24.04.1 LTS) / x86_64  OK    OK    WARNINGS  UNNEEDED, same version is already published
palomino8Windows Server 2022 Datacenter / x64  OK    OK    WARNINGS    OK  UNNEEDED, same version is already published
lconwaymacOS 12.7.1 Monterey / x86_64  OK    OK    WARNINGS    OK  UNNEEDED, same version is already published
kjohnson3macOS 13.7.1 Ventura / arm64  OK    OK    WARNINGS    OK  UNNEEDED, same version is already published
taishanLinux (openEuler 24.03 LTS) / aarch64  OK    OK    WARNINGS  
Package 2/14HostnameOS / ArchINSTALLBUILDCHECKBUILD BIN
BUSpaRse 1.23.0  (landing page)
Lambda Moses
git_last_commit: 84331dc
git_last_commit_date: 2025-04-15 11:49:15 -0400
nebbiolo2Linux (Ubuntu 24.04.1 LTS) / x86_64  OK    ERROR  skipped
palomino8Windows Server 2022 Datacenter / x64  OK    ERROR  skippedskipped
lconwaymacOS 12.7.1 Monterey / x86_64  OK    ERROR  skippedskipped
kjohnson3macOS 13.7.1 Ventura / arm64  OK    ERROR  skippedskipped
taishanLinux (openEuler 24.03 LTS) / aarch64  OK    ERROR  skipped
Package 3/14HostnameOS / ArchINSTALLBUILDCHECKBUILD BIN
chimeraviz 1.35.0  (landing page)
Stian Lågstad
git_last_commit: 6ad74e4
git_last_commit_date: 2025-04-15 11:07:23 -0400
nebbiolo2Linux (Ubuntu 24.04.1 LTS) / x86_64  OK    OK    OK  UNNEEDED, same version is already published
palomino8Windows Server 2022 Datacenter / x64  OK    OK    OK    OK  UNNEEDED, same version is already published
lconwaymacOS 12.7.1 Monterey / x86_64  OK    OK    OK    OK  UNNEEDED, same version is already published
kjohnson3macOS 13.7.1 Ventura / arm64  OK    OK    OK    OK  UNNEEDED, same version is already published
taishanLinux (openEuler 24.03 LTS) / aarch64  OK    OK    OK  
Package 4/14HostnameOS / ArchINSTALLBUILDCHECKBUILD BIN
CleanUpRNAseq 1.3.1  (landing page)
Haibo Liu
git_last_commit: e977f16
git_last_commit_date: 2025-05-05 11:52:37 -0400
nebbiolo2Linux (Ubuntu 24.04.1 LTS) / x86_64  OK    OK    OK  UNNEEDED, same version is already published
palomino8Windows Server 2022 Datacenter / x64  OK    OK    OK    OK  UNNEEDED, same version is already published
lconwaymacOS 12.7.1 Monterey / x86_64  OK    OK    OK    OK  UNNEEDED, same version is already published
kjohnson3macOS 13.7.1 Ventura / arm64  OK    OK    OK    OK  UNNEEDED, same version is already published
taishanLinux (openEuler 24.03 LTS) / aarch64  OK    OK    OK  
Package 5/14HostnameOS / ArchINSTALLBUILDCHECKBUILD BIN
CompoundDb 1.13.0  (landing page)
Johannes Rainer
git_last_commit: af95c7e
git_last_commit_date: 2025-04-15 12:45:09 -0400
nebbiolo2Linux (Ubuntu 24.04.1 LTS) / x86_64  OK    OK    OK  UNNEEDED, same version is already published
palomino8Windows Server 2022 Datacenter / x64  OK    OK    OK    OK  UNNEEDED, same version is already published
lconwaymacOS 12.7.1 Monterey / x86_64  OK    OK    OK    OK  UNNEEDED, same version is already published
kjohnson3macOS 13.7.1 Ventura / arm64  OK    OK    OK    OK  UNNEEDED, same version is already published
taishanLinux (openEuler 24.03 LTS) / aarch64  OK    OK    OK  
Package 6/14HostnameOS / ArchINSTALLBUILDCHECKBUILD BIN
drugTargetInteractions 1.17.0  (landing page)
Thomas Girke
git_last_commit: a9a498f
git_last_commit_date: 2025-04-15 12:24:17 -0400
nebbiolo2Linux (Ubuntu 24.04.1 LTS) / x86_64  OK    OK    OK  UNNEEDED, same version is already published
palomino8Windows Server 2022 Datacenter / x64  OK    OK    OK    OK  UNNEEDED, same version is already published
lconwaymacOS 12.7.1 Monterey / x86_64  OK    OK    OK    OK  UNNEEDED, same version is already published
kjohnson3macOS 13.7.1 Ventura / arm64  OK    OK    OK    OK  UNNEEDED, same version is already published
taishanLinux (openEuler 24.03 LTS) / aarch64  OK    OK    OK  
Package 7/14HostnameOS / ArchINSTALLBUILDCHECKBUILD BIN
ensembldb 2.33.0  (landing page)
Johannes Rainer
git_last_commit: 136f370
git_last_commit_date: 2025-04-15 10:49:23 -0400
nebbiolo2Linux (Ubuntu 24.04.1 LTS) / x86_64  OK    OK    OK  UNNEEDED, same version is already published
palomino8Windows Server 2022 Datacenter / x64  OK    OK    OK    OK  UNNEEDED, same version is already published
lconwaymacOS 12.7.1 Monterey / x86_64  OK    OK    OK    OK  UNNEEDED, same version is already published
kjohnson3macOS 13.7.1 Ventura / arm64  OK    OK    OK    OK  UNNEEDED, same version is already published
taishanLinux (openEuler 24.03 LTS) / aarch64  OK    OK    OK  
Package 8/14HostnameOS / ArchINSTALLBUILDCHECKBUILD BIN
ggbio 1.57.0  (landing page)
Michael Lawrence
git_last_commit: ab46b83
git_last_commit_date: 2025-04-15 10:11:14 -0400
nebbiolo2Linux (Ubuntu 24.04.1 LTS) / x86_64  OK    OK    WARNINGS  UNNEEDED, same version is already published
palomino8Windows Server 2022 Datacenter / x64  OK    OK    WARNINGS    OK  UNNEEDED, same version is already published
lconwaymacOS 12.7.1 Monterey / x86_64  OK    OK    WARNINGS    OK  UNNEEDED, same version is already published
kjohnson3macOS 13.7.1 Ventura / arm64  OK    OK    WARNINGS    OK  UNNEEDED, same version is already published
taishanLinux (openEuler 24.03 LTS) / aarch64  OK    OK    WARNINGS  
Package 9/14HostnameOS / ArchINSTALLBUILDCHECKBUILD BIN
Organism.dplyr 1.37.0  (landing page)
Martin Morgan
git_last_commit: 4cb7aa7
git_last_commit_date: 2025-04-15 11:09:06 -0400
nebbiolo2Linux (Ubuntu 24.04.1 LTS) / x86_64  OK    OK    OK  UNNEEDED, same version is already published
palomino8Windows Server 2022 Datacenter / x64  OK    OK    OK    OK  UNNEEDED, same version is already published
lconwaymacOS 12.7.1 Monterey / x86_64  OK    OK    OK    OK  UNNEEDED, same version is already published
kjohnson3macOS 13.7.1 Ventura / arm64  OK    OK    OK    OK  UNNEEDED, same version is already published
taishanLinux (openEuler 24.03 LTS) / aarch64  OK    OK    OK  
Package 10/14HostnameOS / ArchINSTALLBUILDCHECKBUILD BIN
QFeatures 1.19.1  (landing page)
Laurent Gatto
git_last_commit: 2009828
git_last_commit_date: 2025-05-21 14:36:55 -0400
nebbiolo2Linux (Ubuntu 24.04.1 LTS) / x86_64  OK    OK    OK  YES
palomino8Windows Server 2022 Datacenter / x64  OK    OK    OK    OK  YES
lconwaymacOS 12.7.1 Monterey / x86_64  OK    OK    OK    OK  YES
kjohnson3macOS 13.7.1 Ventura / arm64  OK    OK    OK    OK  YES
taishanLinux (openEuler 24.03 LTS) / aarch64  OK    OK    OK  
Package 11/14HostnameOS / ArchINSTALLBUILDCHECKBUILD BIN
RAIDS 1.7.1  (landing page)
Pascal Belleau
git_last_commit: c0dfd0f
git_last_commit_date: 2025-04-15 22:44:24 -0400
nebbiolo2Linux (Ubuntu 24.04.1 LTS) / x86_64  OK    OK    OK  UNNEEDED, same version is already published
palomino8Windows Server 2022 Datacenter / x64  OK    OK    OK    OK  UNNEEDED, same version is already published
lconwaymacOS 12.7.1 Monterey / x86_64  OK    OK    OK    OK  UNNEEDED, same version is already published
kjohnson3macOS 13.7.1 Ventura / arm64  OK    OK    OK    OK  UNNEEDED, same version is already published
taishanLinux (openEuler 24.03 LTS) / aarch64  OK    OK    OK  
Package 12/14HostnameOS / ArchINSTALLBUILDCHECKBUILD BIN
RITAN 1.33.0  (landing page)
Michael Zimmermann
git_last_commit: 901b81b
git_last_commit_date: 2025-04-15 11:11:11 -0400
nebbiolo2Linux (Ubuntu 24.04.1 LTS) / x86_64  OK    OK    WARNINGS  NO, package depends on 'BgeeDB' which is not available
palomino8Windows Server 2022 Datacenter / x64  OK    OK    WARNINGS    OK  NO, package depends on 'BgeeDB' which is not available
lconwaymacOS 12.7.1 Monterey / x86_64  OK    OK    WARNINGS    OK  NO, package depends on 'BgeeDB' which is not available
kjohnson3macOS 13.7.1 Ventura / arm64  OK    OK    WARNINGS    OK  NO, package depends on 'BgeeDB' which is not available
taishanLinux (openEuler 24.03 LTS) / aarch64  OK    OK    WARNINGS  
Package 13/14HostnameOS / ArchINSTALLBUILDCHECKBUILD BIN
scanMiRApp 1.15.0  (landing page)
Pierre-Luc Germain
git_last_commit: c6101ee
git_last_commit_date: 2025-04-15 12:36:07 -0400
nebbiolo2Linux (Ubuntu 24.04.1 LTS) / x86_64  OK    OK    OK  UNNEEDED, same version is already published
palomino8Windows Server 2022 Datacenter / x64  OK    OK    OK    OK  UNNEEDED, same version is already published
lconwaymacOS 12.7.1 Monterey / x86_64  OK    OK    OK    OK  UNNEEDED, same version is already published
kjohnson3macOS 13.7.1 Ventura / arm64  OK    OK    OK    OK  UNNEEDED, same version is already published
taishanLinux (openEuler 24.03 LTS) / aarch64  OK    OK    ERROR  
Package 14/14HostnameOS / ArchINSTALLBUILDCHECKBUILD BIN
TVTB 1.35.0  (landing page)
Kevin Rue-Albrecht
git_last_commit: e66e700
git_last_commit_date: 2025-04-15 11:06:42 -0400
nebbiolo2Linux (Ubuntu 24.04.1 LTS) / x86_64  OK    OK    OK  UNNEEDED, same version is already published
palomino8Windows Server 2022 Datacenter / x64... NOT SUPPORTED ...
lconwaymacOS 12.7.1 Monterey / x86_64  OK    OK    OK    OK  UNNEEDED, same version is already published
kjohnson3macOS 13.7.1 Ventura / arm64  OK    OK    OK    OK  UNNEEDED, same version is already published
taishanLinux (openEuler 24.03 LTS) / aarch64  OK    OK    OK