Back to Multiple platform build/check report for BioC 3.21:   simplified   long
[A]BCDEFGHIJKLMNOPQRSTUVWXYZ

This page was generated on 2025-01-28 11:46 -0500 (Tue, 28 Jan 2025).

HostnameOSArch (*)R versionInstalled pkgs
nebbiolo1Linux (Ubuntu 24.04.1 LTS)x86_64R Under development (unstable) (2025-01-20 r87609) -- "Unsuffered Consequences" 4659
palomino7Windows Server 2022 Datacenterx64R Under development (unstable) (2025-01-21 r87610 ucrt) -- "Unsuffered Consequences" 4454
lconwaymacOS 12.7.1 Montereyx86_64R Under development (unstable) (2025-01-22 r87618) -- "Unsuffered Consequences" 4465
kjohnson3macOS 13.7.1 Venturaarm64R Under development (unstable) (2025-01-20 r87609) -- "Unsuffered Consequences" 4419
kunpeng2Linux (openEuler 22.03 LTS-SP1)aarch64R Under development (unstable) (2024-11-24 r87369) -- "Unsuffered Consequences" 4409
Click on any hostname to see more info about the system (e.g. compilers)      (*) as reported by 'uname -p', except on Windows and Mac OS X

Package 56/2286HostnameOS / ArchINSTALLBUILDCHECKBUILD BIN
AlphaBeta 1.21.0  (landing page)
Yadollah Shahryary Dizaji
Snapshot Date: 2025-01-27 13:40 -0500 (Mon, 27 Jan 2025)
git_url: https://git.bioconductor.org/packages/AlphaBeta
git_branch: devel
git_last_commit: 3bef2e9
git_last_commit_date: 2024-10-29 10:39:08 -0500 (Tue, 29 Oct 2024)
nebbiolo1Linux (Ubuntu 24.04.1 LTS) / x86_64  OK    OK    OK  UNNEEDED, same version is already published
palomino7Windows Server 2022 Datacenter / x64  OK    OK    OK    OK  UNNEEDED, same version is already published
lconwaymacOS 12.7.1 Monterey / x86_64  OK    OK    OK    OK  UNNEEDED, same version is already published
kjohnson3macOS 13.7.1 Ventura / arm64  OK    OK    OK    OK  UNNEEDED, same version is already published
kunpeng2Linux (openEuler 22.03 LTS-SP1) / aarch64  OK    OK    OK  


CHECK results for AlphaBeta on kunpeng2

To the developers/maintainers of the AlphaBeta package:
- Allow up to 24 hours (and sometimes 48 hours) for your latest push to git@git.bioconductor.org:packages/AlphaBeta.git to reflect on this report. See Troubleshooting Build Report for more information.
- Use the following Renviron settings to reproduce errors and warnings.
- If 'R CMD check' started to fail recently on the Linux builder(s) over a missing dependency, add the missing dependency to 'Suggests:' in your DESCRIPTION file. See Renviron.bioc for more information.
- See Martin Grigorov's blog post for how to debug Linux ARM64 related issues on a x86_64 host.

raw results


Summary

Package: AlphaBeta
Version: 1.21.0
Command: /home/biocbuild/R/R/bin/R CMD check --install=check:AlphaBeta.install-out.txt --library=/home/biocbuild/R/R/site-library --no-vignettes --timings AlphaBeta_1.21.0.tar.gz
StartedAt: 2025-01-28 03:30:24 -0000 (Tue, 28 Jan 2025)
EndedAt: 2025-01-28 03:41:07 -0000 (Tue, 28 Jan 2025)
EllapsedTime: 643.9 seconds
RetCode: 0
Status:   OK  
CheckDir: AlphaBeta.Rcheck
Warnings: 0

Command output

##############################################################################
##############################################################################
###
### Running command:
###
###   /home/biocbuild/R/R/bin/R CMD check --install=check:AlphaBeta.install-out.txt --library=/home/biocbuild/R/R/site-library --no-vignettes --timings AlphaBeta_1.21.0.tar.gz
###
##############################################################################
##############################################################################


* using log directory ‘/home/biocbuild/bbs-3.21-bioc/meat/AlphaBeta.Rcheck’
* using R Under development (unstable) (2024-11-24 r87369)
* using platform: aarch64-unknown-linux-gnu
* R was compiled by
    aarch64-unknown-linux-gnu-gcc (GCC) 14.2.0
    GNU Fortran (GCC) 14.2.0
* running under: openEuler 24.03 (LTS)
* using session charset: UTF-8
* using option ‘--no-vignettes’
* checking for file ‘AlphaBeta/DESCRIPTION’ ... OK
* checking extension type ... Package
* this is package ‘AlphaBeta’ version ‘1.21.0’
* package encoding: UTF-8
* checking package namespace information ... OK
* checking package dependencies ... OK
* checking if this is a source package ... OK
* checking if there is a namespace ... OK
* checking for hidden files and directories ... OK
* checking for portable file names ... OK
* checking for sufficient/correct file permissions ... OK
* checking whether package ‘AlphaBeta’ can be installed ... OK
* checking installed package size ... OK
* checking package directory ... OK
* checking ‘build’ directory ... OK
* checking DESCRIPTION meta-information ... OK
* checking top-level files ... NOTE
File
  LICENSE
is not mentioned in the DESCRIPTION file.
* checking for left-over files ... OK
* checking index information ... OK
* checking package subdirectories ... OK
* checking code files for non-ASCII characters ... OK
* checking R files for syntax errors ... OK
* checking whether the package can be loaded ... OK
* checking whether the package can be loaded with stated dependencies ... OK
* checking whether the package can be unloaded cleanly ... OK
* checking whether the namespace can be loaded with stated dependencies ... OK
* checking whether the namespace can be unloaded cleanly ... OK
* checking loading without being on the library search path ... OK
* checking dependencies in R code ... OK
* checking S3 generic/method consistency ... OK
* checking replacement functions ... OK
* checking foreign function calls ... OK
* checking R code for possible problems ... NOTE
ABplot: no visible binding for global variable ‘delta.t’
ABplot: no visible binding for global variable ‘div.obs’
BOOTmodel : LSE_intercept: no visible binding for global variable ‘sel’
BOOTmodel: no visible binding for global variable ‘sel’
BOOTmodel: multiple local function definitions for ‘divergence’ with
  different formal arguments
plotPedigree: no visible binding for global variable ‘meth’
plotPedigree: no visible binding for global variable ‘V1’
plotPedigree: no visible binding for global variable ‘V2’
Undefined global functions or variables:
  V1 V2 delta.t div.obs meth sel
* checking Rd files ... OK
* checking Rd metadata ... OK
* checking Rd cross-references ... OK
* checking for missing documentation entries ... OK
* checking for code/documentation mismatches ... OK
* checking Rd \usage sections ... OK
* checking Rd contents ... OK
* checking for unstated dependencies in examples ... OK
* checking files in ‘vignettes’ ... OK
* checking examples ... OK
Examples with CPU (user + system) or elapsed time > 5s
                  user system elapsed
BOOTmodel      157.205  0.104 157.575
ABselectUU     148.566  0.000 148.821
ABselectMM     119.346  0.004 119.577
ABneutral       96.997  0.315  97.506
ABselectUUSOMA  10.740  0.044  10.803
ABneutralSOMA    9.367  0.020   9.406
ABselectMMSOMA   7.065  0.004   7.083
buildPedigree    1.141  0.035   5.508
rc.meth.lvl      0.830  0.008   5.215
* checking for unstated dependencies in vignettes ... OK
* checking package vignettes ... OK
* checking running R code from vignettes ... SKIPPED
* checking re-building of vignette outputs ... SKIPPED
* checking PDF version of manual ... OK
* DONE

Status: 2 NOTEs
See
  ‘/home/biocbuild/bbs-3.21-bioc/meat/AlphaBeta.Rcheck/00check.log’
for details.


Installation output

AlphaBeta.Rcheck/00install.out

##############################################################################
##############################################################################
###
### Running command:
###
###   /home/biocbuild/R/R/bin/R CMD INSTALL AlphaBeta
###
##############################################################################
##############################################################################


* installing to library ‘/home/biocbuild/R/R-4.5.0-devel_2024-11-24/site-library’
* installing *source* package ‘AlphaBeta’ ...
** using staged installation
** R
** inst
** byte-compile and prepare package for lazy loading
** help
*** installing help indices
** building package indices
** installing vignettes
** testing if installed package can be loaded from temporary location
** testing if installed package can be loaded from final location
** testing if installed package keeps a record of temporary installation path
* DONE (AlphaBeta)

Tests output


Example timings

AlphaBeta.Rcheck/AlphaBeta-Ex.timings

nameusersystemelapsed
ABneutral96.997 0.31597.506
ABneutralSOMA9.3670.0209.406
ABnull0.0090.0000.010
ABplot0.3770.0000.380
ABselectMM119.346 0.004119.577
ABselectMMSOMA7.0650.0047.083
ABselectUU148.566 0.000148.821
ABselectUUSOMA10.740 0.04410.803
BOOTmodel157.205 0.104157.575
FtestRSS0.0170.0000.018
buildPedigree1.1410.0355.508
dMatrix0.1680.0150.185
plotPedigree0.0830.0000.083
rc.meth.lvl0.8300.0085.215