Welcome to mirrors.dotsrc.org

All our mirrors of open source software are available via http, https, ftp and an onion service. More information about our mirrors including statistics and contact information is available on our mirror info pages.

For information about dotsrc.org and our other services please go to our website.

Index of /bioconductor/checkResults/devel/bioc-LATEST/

File Name  ↓ File Size  ↓ Date  ↓ 
Parent directory/--
psygenet2r/-2024-10-24 15:04:42
brainflowprobes/-2024-10-24 15:04:38
ATACCoGAPS/-2024-10-24 15:04:37
BiocOncoTK/-2024-10-24 15:04:38
SummarizedBenchmark/-2024-10-24 15:04:43
nanotatoR/-2024-10-24 15:04:41
RandomWalkRestartMH/-2024-10-24 15:04:42
Risa/-2024-10-24 15:04:43
rDGIdb/-2024-10-24 15:04:42
Pi/-2024-10-24 15:04:42
MQmetrics/-2024-10-24 15:04:41
microbiomeMarker/-2024-10-24 15:04:41
RNAinteract/-2024-10-24 15:04:43
HTqPCR/-2024-10-24 15:04:40
netOmics/-2024-10-24 15:04:41
CellaRepertorium/-2024-10-24 15:04:38
biodbKegg/-2024-10-24 15:04:38
single/-2024-10-24 15:04:43
biodbExpasy/-2024-10-24 15:04:38
polyester/-2024-10-24 15:04:42
BRGenomics/-2024-10-24 15:04:38
Rcollectl/-2025-02-15 16:40:30
HilbertVisGUI/-2025-02-15 16:40:07
BiocHail/-2025-02-15 16:39:46
HTSeqGenie/-2025-02-15 16:40:08
DEGraph/-2025-02-15 16:39:55
NCIgraph/-2025-02-15 16:40:21
RGMQL/-2025-02-15 16:41:51
chevreulShiny/-2025-02-15 16:43:45
chevreulPlot/-2025-02-15 16:43:45
BiGGR/-2025-02-15 16:40:54
rsbml/-2025-02-15 16:41:54
netDx/-2025-02-15 16:44:22
ChIPXpress/-2025-02-15 16:43:46
STdeconvolve/-2025-02-15 16:44:48
paxtoolsr/-2025-02-15 16:44:26
supraHex/-2025-02-15 16:44:48
staRank/-2025-02-15 16:44:48
pareg/-2025-02-15 16:44:26
DEXSeq/-2025-02-15 16:43:53
R3CPET/-2025-02-15 16:41:47
CBEA/-2025-02-15 16:43:44
MAGeCKFlute/-2025-02-15 16:44:13
lapmix/-2025-02-15 16:44:11
iBMQ/-2025-02-15 16:41:23
PanViz/-2025-02-15 16:44:26
runibic/-2025-02-15 16:41:55
gespeR/-2025-02-15 16:44:02
nondetects/-2025-02-15 16:44:23
blacksheepr/-2025-02-15 16:43:42
EnhancedVolcano/-2025-02-15 16:43:55
dce/-2025-02-15 16:43:51
gsean/-2025-02-15 16:44:05
BADER/-2025-02-15 16:43:39
DESeq2/-2025-02-15 16:43:53
HiCool/-2025-02-15 16:44:06
scviR/-2025-02-15 16:44:41
VariantExperiment/-2025-02-15 16:44:54
GeneGA/-2025-02-15 16:44:01
NeuCA/-2025-02-15 16:44:23
DeProViR/-2025-02-15 16:43:52
chromstaR/-2025-02-15 16:43:46
groHMM/-2025-02-15 16:44:05
hummingbird/-2025-02-15 16:44:07
Rtreemix/-2025-02-15 16:44:38
oligo/-2025-02-15 16:44:24
MANOR/-2025-02-15 16:44:13
ArrayExpress/-2025-02-15 16:43:38
GLAD/-2025-02-15 16:44:03
ADaCGH2/-2025-02-15 16:43:35
MAGAR/-2025-02-15 16:44:13
ccmap/-2025-02-15 16:43:44
crossmeta/-2025-02-15 16:43:50
PICS/-2025-02-15 16:44:28
frma/-2025-02-15 16:43:59
VanillaICE/-2025-02-15 16:44:54
cn.farms/-2025-02-15 16:43:47
MinimumDistance/-2025-02-15 16:44:17
crlmm/-2025-02-15 16:43:50
TypeInfo/-2025-02-15 16:44:54
GeneGeneInteR/-2025-02-15 16:44:01
beachmat.tiledb/-2025-02-15 16:43:40
biobtreeR/-2025-02-15 16:42:19
CINdex/-2025-02-15 16:43:46
GeneticsPed/-2025-02-15 16:44:01
mimager/-2025-02-15 16:44:17
DrugVsDisease/-2025-02-15 16:43:54
pdInfoBuilder/-2025-02-15 16:44:26
puma/-2025-02-15 16:44:30
gpuMagic/-2025-02-15 16:44:04
ternarynet/-2025-02-15 16:44:50
muscle/-2025-02-15 16:44:21
Repitools/-2025-02-15 16:44:34
SCAN.UPC/-2025-02-15 16:44:39
ITALICS/-2025-02-15 16:44:10
AneuFinder/-2025-02-15 16:43:37
genoCN/-2025-02-15 16:44:01
trigger/-2025-02-15 16:44:53
girafe/-2025-02-15 16:44:03
VAExprs/-2025-02-15 16:44:54
SICtools/-2025-02-15 16:44:43
ttgsea/-2025-02-15 16:44:53
GenProSeq/-2025-02-15 16:44:02
MAIT/-2025-02-15 16:44:13
netboost/-2025-02-15 16:44:22
CluMSID/-2025-02-15 16:43:47
DeepPINCS/-2025-02-15 16:43:52
slalom/-2025-02-15 16:44:44
ExCluster/-2025-02-15 16:43:57
MotifPeeker/-2025-02-15 16:44:19
IPO/-2025-02-15 16:44:09
RcwlPipelines/-2025-02-15 16:44:33
TENxIO/-2025-02-15 16:44:50
dupRadar/-2025-02-15 16:43:55
Rcwl/-2025-02-15 16:44:33
Rbwa/-2025-02-15 16:44:32
ReUseData/-2025-02-15 16:44:34
FLAMES/-2025-02-15 16:43:58
rifi/-2025-02-15 16:44:35
conumee/-2025-02-15 16:43:49
rifiComparative/-2025-02-15 16:44:36
MutationalPatterns/-2025-02-15 16:44:21
ccfindR/-2025-02-15 16:43:44
ADAPT/-2025-02-15 16:43:36
gmapR/-2025-02-15 16:44:03
TVTB/-2025-02-15 16:44:53
crisprBwa/-2025-02-15 16:43:49
NetPathMiner/-2025-02-15 16:44:22
OncoSimulR/-2025-02-15 16:43:03
hiReadsProcessor/-2025-02-15 16:44:07
annmap/-2025-02-15 16:43:37
CoverageView/-2025-02-15 16:43:49
MACSr/-2025-02-15 16:44:12
casper/-2025-02-15 16:43:44
biocmake/-2025-02-15 16:43:41
SPLINTER/-2025-02-15 16:44:47
FELLA/-2025-02-15 16:43:58
cfTools/-2025-02-15 16:43:45
CHRONOS/-2025-02-15 16:43:46
Pirat/-2025-02-15 16:44:28
chevreulProcess/-2025-02-15 16:43:45
MetaboDynamics/-2025-02-15 16:44:15
PICB/-2025-02-15 16:44:28
Rbec/-2025-02-15 16:44:32
profileScoreDist/-2025-02-15 16:44:29
DMRScan/-2025-02-15 16:43:54
scQTLtools/-2025-02-15 16:44:41
flowPloidy/-2025-02-15 16:43:59
chromDraw/-2025-02-15 16:43:46
microSTASIS/-2025-02-15 16:44:17
SpatialExperimentIO/-2025-02-15 16:44:46
bcSeq/-2025-02-15 16:43:40
decompTumor2Sig/-2025-02-15 16:43:51
randRotation/-2025-02-15 16:44:32
plotGrouper/-2025-02-15 16:44:28
SNPediaR/-2025-02-15 16:44:45
SingleCellAlleleExperiment/-2025-02-15 16:44:44
qckitfastq/-2025-02-15 16:44:30
TransView/-2025-02-15 16:44:52
MetMashR/-2025-02-15 16:44:16
ggmsa/-2025-02-15 16:44:03
phyloseq/-2025-02-15 16:44:27
swfdr/-2025-02-15 16:44:49
onlineFDR/-2025-02-15 16:44:24
UMI4Cats/-2025-02-15 16:44:54
iPath/-2025-02-15 16:44:09
immApex/-2025-02-15 16:44:08
spatialFDA/-2025-02-15 16:44:46
waddR/-2025-02-15 16:44:55
PCAtools/-2025-02-15 16:44:26
ChemmineOB/-2025-02-15 16:43:45
globaltest/-2025-02-15 16:44:03
methodical/-2025-02-15 16:44:15
MsBackendRawFileReader/-2025-02-15 16:44:20
smoothclust/-2025-02-15 16:44:45
basecallQC/-2025-02-15 16:43:39
MsExperiment/-2025-02-15 16:44:20
sosta/-2025-02-15 16:44:45
FeatSeekR/-2025-02-15 16:43:58
scAnnotatR/-2025-02-15 16:44:39
ASURAT/-2025-02-15 16:43:38
lisaClust/-2025-02-15 16:44:12
HERON/-2025-02-15 16:44:06
granulator/-2025-02-15 16:44:04
schex/-2025-02-15 16:44:40
rmspc/-2025-02-15 16:44:36
singleCellTK/-2025-02-15 16:44:44
rawrr/-2025-02-15 16:44:32
celda/-2025-02-15 16:43:44
SpatialFeatureExperiment/-2025-02-15 16:44:46
rawDiag/-2025-02-15 16:44:32
GEOexplorer/-2025-02-15 16:44:02
MoleculeExperiment/-2025-02-15 16:44:18
spicyR/-2025-02-15 16:44:46
decontX/-2025-02-15 16:43:51
OrderedList/-2025-02-15 16:44:25
MetaboAnnotation/-2025-02-15 16:44:15
TDbasedUFEadv/-2025-02-15 16:44:50
orthos/-2025-02-15 16:44:25
fastseg/-2025-02-15 16:43:57
twilight/-2025-02-15 16:44:53
scRNAseqApp/-2025-02-15 16:44:41
Statial/-2025-02-15 16:44:48
imcRtools/-2025-02-15 16:44:08
SigCheck/-2025-02-15 16:44:43
velociraptor/-2025-02-15 16:44:55
PIUMA/-2025-02-15 16:44:28
slingshot/-2025-02-15 16:44:44
bgx/-2025-02-15 16:43:40
OmicsMLRepoR/-2025-02-15 16:44:24
xenLite/-2025-02-15 16:44:56
AlpsNMR/-2025-02-15 16:43:37
stJoincount/-2025-02-15 16:44:48
eiR/-2025-02-15 16:43:55
TileDBArray/-2025-02-15 16:44:51
SpotSweeper/-2025-02-15 16:44:47
megadepth/-2025-02-15 16:44:14
geva/-2025-02-15 16:44:02
CONFESS/-2025-02-15 16:43:48
simpleSeg/-2025-02-15 16:44:44
BioNAR/-2025-02-15 16:43:42
cytoviewer/-2025-02-15 16:43:51
HiContacts/-2025-02-15 16:44:06
cytomapper/-2025-02-15 16:43:51
rtracklayer/-2025-02-15 16:44:38
HiCExperiment/-2025-02-15 16:44:06
miRSM/-2025-02-15 16:44:18
concordexR/-2025-02-15 16:43:48
Voyager/-2025-02-15 16:44:55
REMP/-2025-02-15 16:44:34
progeny/-2025-02-15 16:44:29
PAIRADISE/-2025-02-15 16:44:25
tanggle/-2025-02-15 16:44:50
DAPAR/-2025-02-15 16:43:51
ssize/-2025-02-15 16:44:47
RGSEA/-2025-02-15 16:44:35
SpectralTAD/-2025-02-15 16:44:46
ompBAM/-2025-02-15 16:44:24
MEDIPS/-2025-02-15 16:44:14
easylift/-2025-02-15 16:43:55
saseR/-2025-02-15 16:44:39
GenomicRanges/-2025-02-15 16:44:02
flowMatch/-2025-02-15 16:43:59
simplifyEnrichment/-2025-02-15 16:44:44
CDI/-2025-02-15 16:43:44
fcScan/-2025-02-15 16:43:57
netSmooth/-2025-02-15 16:44:23
HiCBricks/-2025-02-15 16:44:06
diffcoexp/-2025-02-15 16:43:53
metahdep/-2025-02-15 16:44:15
updateObject/-2025-02-15 16:44:54
CeTF/-2025-02-15 16:43:45
XVector/-2025-02-15 16:44:56
hypergraph/-2025-02-15 16:44:07
metapod/-2025-02-15 16:44:15
plasmut/-2025-02-15 16:44:28
ExperimentHub/-2025-02-15 16:43:57
ASpli/-2025-02-15 16:43:38
FamAgg/-2025-02-15 16:43:57
BUScorrect/-2025-02-15 16:43:43
MassArray/-2025-02-15 16:44:13
sparsenetgls/-2025-02-15 16:44:45
DeMAND/-2025-02-15 16:43:52
ExploreModelMatrix/-2025-02-15 16:43:57
r3Cseq/-2025-02-15 16:44:31
m6Aboost/-2025-02-15 16:44:12
microRNA/-2025-02-15 16:44:17
bioassayR/-2025-02-15 16:43:40
ClusterFoldSimilarity/-2025-02-15 16:43:47
makecdfenv/-2025-02-15 16:44:13
mzR/-2025-02-15 16:44:22
MSstatsLOBD/-2025-02-15 16:44:20
transite/-2025-02-15 16:44:52
OUTRIDER/-2025-02-15 16:44:25
wppi/-2025-02-15 16:44:56
ROC/-2025-02-15 16:44:37
spkTools/-2025-02-15 16:44:46
RCy3/-2025-02-15 16:44:33
OncoScore/-2025-02-15 16:44:24
idiogram/-2025-02-15 16:44:08
clusterSeq/-2025-02-15 16:43:47
nnNorm/-2025-02-15 16:44:23
HEM/-2025-02-15 16:44:06
plgem/-2025-02-15 16:44:28
MultiRNAflow/-2025-02-15 16:44:21
EBSeq/-2025-02-15 16:43:55
epistack/-2025-02-15 16:43:56
cogena/-2025-02-15 16:43:48
tidytof/-2025-02-15 16:44:51
iClusterPlus/-2025-02-15 16:44:08
gatom/-2025-02-15 16:44:00
pathwayPCA/-2025-02-15 16:44:26
gDRstyle/-2025-02-15 16:44:00
awst/-2025-02-15 16:43:39
npGSEA/-2025-02-15 16:44:23
genArise/-2025-02-15 16:44:00
biodbChebi/-2025-02-15 16:43:41
MiPP/-2025-02-15 16:44:17
tracktables/-2025-02-15 16:44:52
DOSE/-2025-02-15 16:43:54
epistasisGA/-2025-02-15 16:43:56
reconsi/-2025-02-15 16:44:33
gDR/-2025-02-15 16:44:00
BaalChIP/-2025-02-15 16:43:39
surfaltr/-2025-02-15 16:44:48
epigraHMM/-2025-02-15 16:43:56
airpart/-2025-02-15 16:43:36
HPAanalyze/-2025-02-15 16:44:07
signeR/-2025-02-15 16:44:43
cypress/-2025-02-15 16:43:50
mosbi/-2025-02-15 16:44:19
spikeLI/-2025-02-15 16:44:46
sparseMatrixStats/-2025-02-15 16:44:45
a4Reporting/-2025-02-15 16:43:35
CGHnormaliter/-2025-02-15 16:43:45
SC3/-2025-02-15 16:44:39
GenomicFeatures/-2025-02-15 16:44:02
BiocIO/-2025-02-15 16:43:41
doseR/-2025-02-15 16:43:54
Summix/-2025-02-15 16:44:48
flowMerge/-2025-02-15 16:43:59
CAFE/-2025-02-15 16:43:43
tximport/-2025-02-15 16:44:54
lfa/-2025-02-15 16:44:11
RBGL/-2025-02-15 16:44:32
cqn/-2025-02-15 16:43:49
transcriptR/-2025-02-15 16:44:52
ADImpute/-2025-02-15 16:43:36
a4Base/-2025-02-15 16:43:35
rGREAT/-2025-02-15 16:44:35
EBcoexpress/-2025-02-15 16:43:55
cytofQC/-2025-02-15 16:43:50
crisprBase/-2025-02-15 16:43:49
rmelting/-2025-02-15 16:44:36
BulkSignalR/-2025-02-15 16:43:43
metaCCA/-2025-02-15 16:44:15
NetSAM/-2025-02-15 16:44:22
Spectra/-2025-02-15 16:44:46
spatzie/-2025-02-15 16:44:46
ANF/-2025-02-15 16:43:37
MEB/-2025-02-15 16:44:14
M3Drop/-2025-02-15 16:44:12
RNAseqCovarImpute/-2025-02-15 16:44:36
maPredictDSC/-2025-02-15 16:44:13
debrowser/-2025-02-15 16:43:51
beadarray/-2025-02-15 16:43:40
Gviz/-2025-02-15 16:44:05
lute/-2025-02-15 16:44:12
csaw/-2025-02-15 16:43:50
diffHic/-2025-02-15 16:43:53
ENmix/-2025-02-15 16:43:56
idpr/-2025-02-15 16:44:08
MBttest/-2025-02-15 16:44:14
DelayedDataFrame/-2025-02-15 16:43:52
StructuralVariantAnnotation/-2025-02-15 16:44:48
sarks/-2025-02-15 16:44:39
kebabs/-2025-02-15 16:44:10
AnVIL/-2025-02-15 16:43:38
ViSEAGO/-2025-02-15 16:44:55
cisPath/-2025-02-15 16:43:46
annotatr/-2025-02-15 16:43:37
GDCRNATools/-2025-02-15 16:44:00
AnnotationForge/-2025-02-15 16:43:37
Pviz/-2025-02-15 16:44:30
MDTS/-2025-02-15 16:44:14
peco/-2025-02-15 16:44:27
scShapes/-2025-02-15 16:44:41
BridgeDbR/-2025-02-15 16:43:42
ClassifyR/-2025-02-15 16:43:46
CaDrA/-2025-02-15 16:43:43
faers/-2025-02-15 16:43:57
recount/-2025-02-15 16:44:33
AffiXcan/-2025-02-15 16:43:36
iSEE/-2025-02-15 16:44:10
deltaCaptureC/-2025-02-15 16:43:52
crisprVerse/-2025-02-15 16:43:50
ExperimentSubset/-2025-02-15 16:43:57
STRINGdb/-2025-02-15 16:44:48
attract/-2025-02-15 16:43:39
DEqMS/-2025-02-15 16:43:52
BioMVCClass/-2025-02-15 16:43:42
CNTools/-2025-02-15 16:43:47
zellkonverter/-2025-02-15 16:44:56
OutSplice/-2025-02-15 16:44:25
GenomAutomorphism/-2025-02-15 16:44:01
destiny/-2025-02-15 16:43:53
CSSQ/-2025-02-15 16:43:50
fCCAC/-2025-02-15 16:43:57
TPP2D/-2025-02-15 16:44:52
ncRNAtools/-2025-02-15 16:44:22
marr/-2025-02-15 16:44:13
gscreend/-2025-02-15 16:44:05
iCNV/-2025-02-15 16:44:08
DifferentialRegulation/-2025-02-15 16:43:53
phantasusLite/-2025-02-15 16:44:27
survtype/-2025-02-15 16:44:49
AnnotationFilter/-2025-02-15 16:43:37
mslp/-2025-02-15 16:44:20
plyranges/-2025-02-15 16:44:28
GENIE3/-2025-02-15 16:44:01
RITAN/-2025-02-15 16:44:36
TreeSummarizedExperiment/-2025-02-15 16:44:53
RegionalST/-2025-02-15 16:44:34
VaSP/-2025-02-15 16:44:55
smartid/-2025-02-15 16:44:45
partCNV/-2025-02-15 16:44:26
RESOLVE/-2025-02-15 16:44:34
timeOmics/-2025-02-15 16:44:51
tidyomics/-2025-02-15 16:44:51
igvShiny/-2025-02-15 16:44:08
pgca/-2025-02-15 16:44:27
Harshlight/-2025-02-15 16:44:06
RTCGA/-2025-02-15 16:44:38
cosmiq/-2025-02-15 16:43:49
SCnorm/-2025-02-15 16:44:40
nucleR/-2025-02-15 16:44:23
flowCyBar/-2025-02-15 16:43:58
zinbwave/-2025-02-15 16:44:57
POWSC/-2025-02-15 16:44:29
sigFeature/-2025-02-15 16:44:43
fmcsR/-2025-02-15 16:43:59
metabolomicsWorkbenchR/-2025-02-15 16:44:15
methrix/-2025-02-15 16:44:16
ggkegg/-2025-02-15 16:44:03
genefu/-2025-02-15 16:44:01
geneRecommender/-2025-02-15 16:44:01
BEAT/-2025-02-15 16:43:40
SANTA/-2025-02-15 16:44:39
mixOmics/-2025-02-15 16:44:18
coRdon/-2025-02-15 16:43:49
mia/-2025-02-15 16:44:16
SparseArray/-2025-02-15 16:44:45
AGDEX/-2025-02-15 16:43:36
MetCirc/-2025-02-15 16:44:15
MVCClass/-2025-02-15 16:44:21
BiocBaseUtils/-2025-02-15 16:43:40
Modstrings/-2025-02-15 16:44:18
BicARE/-2025-02-15 16:43:40
DEWSeq/-2025-02-15 16:43:53
RCX/-2025-02-15 16:44:33
pcaMethods/-2025-02-15 16:44:26
spqn/-2025-02-15 16:44:47
BiocGenerics/-2025-02-15 16:43:41
NormqPCR/-2025-02-15 16:44:23
PAST/-2025-02-15 16:44:26
DAMEfinder/-2025-02-15 16:43:51
GenomicDistributions/-2025-02-15 16:44:02
knowYourCG/-2025-02-15 16:44:11
deepSNV/-2025-02-15 16:43:52
ribor/-2025-02-15 16:44:35
ShortRead/-2025-02-15 16:44:43
TADCompare/-2025-02-15 16:44:49
seqcombo/-2025-02-15 16:44:42
marray/-2025-02-15 16:44:13
PROcess/-2025-02-15 16:44:29
ATACseqTFEA/-2025-02-15 16:43:38
SVMDO/-2025-02-15 16:44:49
RVS/-2025-02-15 16:44:38
erccdashboard/-2025-02-15 16:43:56
cfdnakit/-2025-02-15 16:43:45
GSEABenchmarkeR/-2025-02-15 16:44:05
RCASPAR/-2025-02-15 16:44:33
diggit/-2025-02-15 16:43:53
basilisk/-2025-02-15 16:43:39
ABSSeq/-2025-02-15 16:43:35
ORFik/-2025-02-15 16:44:25
CNORdt/-2025-02-15 16:43:47
motifStack/-2025-02-15 16:44:19
uSORT/-2025-02-15 16:44:54
LymphoSeq/-2025-02-15 16:44:12
dominoSignal/-2025-02-15 16:43:54
ATACseqQC/-2025-02-15 16:43:38
DiffBind/-2025-02-15 16:43:53
parglms/-2025-02-15 16:44:26
wiggleplotr/-2025-02-15 16:44:56
iPAC/-2025-02-15 16:44:09
biodbUniprot/-2025-02-15 16:43:41
sscu/-2025-02-15 16:44:47
breakpointR/-2025-02-15 16:43:42
CBNplot/-2025-02-15 16:43:44
POMA/-2025-02-15 16:44:29
mitch/-2025-02-15 16:44:18
MoonlightR/-2025-02-15 16:44:19
artMS/-2025-02-15 16:43:38
MMDiff2/-2025-02-15 16:44:18
oncomix/-2025-02-15 16:44:24
gmoviz/-2025-02-15 16:44:04
LACE/-2025-02-15 16:44:11
MBECS/-2025-02-15 16:44:14
biocroxytest/-2025-02-15 16:43:41
NanoTube/-2025-02-15 16:44:22
SIAMCAT/-2025-02-15 16:44:43
cytolib/-2025-02-15 16:43:50
CircSeqAlignTk/-2025-02-15 16:43:46
MsCoreUtils/-2025-02-15 16:44:20
coMethDMR/-2025-02-15 16:43:48
timescape/-2025-02-15 16:44:51
Nebulosa/-2025-02-15 16:44:22
AnVILBilling/-2025-02-15 16:43:38
enrichplot/-2025-02-15 16:43:56
DelayedRandomArray/-2025-02-15 16:43:52
Herper/-2025-02-15 16:44:06
ctsGE/-2025-02-15 16:43:50
GSReg/-2025-02-15 16:44:05
Trendy/-2025-02-15 16:44:53
fedup/-2025-02-15 16:43:58
seqCAT/-2025-02-15 16:44:42
SigsPack/-2025-02-15 16:44:43
MetaCyto/-2025-02-15 16:44:15
FEAST/-2025-02-15 16:43:58
LedPred/-2025-02-15 16:44:11
affyPLM/-2025-02-15 16:43:36
rBiopaxParser/-2025-02-15 16:44:32
pwalign/-2025-02-15 16:44:30
flagme/-2025-02-15 16:43:58
RNASeqPower/-2025-02-15 16:44:36
EDASeq/-2025-02-15 16:43:55
sizepower/-2025-02-15 16:44:44
ChIPexoQual/-2025-02-15 16:43:45
alabaster.string/-2025-02-15 16:43:37
cycle/-2025-02-15 16:43:50
GSEAlm/-2025-02-15 16:44:05
ScaledMatrix/-2025-02-15 16:44:39
DeMixT/-2025-02-15 16:43:52
IFAA/-2025-02-15 16:44:08
rhdf5filters/-2025-02-15 16:44:35
MetaNeighbor/-2025-02-15 16:44:15
SPONGE/-2025-02-15 16:44:47
tenXplore/-2025-02-15 16:44:50
pram/-2025-02-15 16:44:29
altcdfenvs/-2025-02-15 16:43:37
VegaMC/-2025-02-15 16:44:55
HilbertCurve/-2025-02-15 16:44:06
SharedObject/-2025-02-15 16:44:43
batchelor/-2025-02-15 16:43:39
MultiDataSet/-2025-02-15 16:44:21
RJMCMCNucleosomes/-2025-02-15 16:44:36
ndexr/-2025-02-15 16:44:22
ResidualMatrix/-2025-02-15 16:44:34
multistateQTL/-2025-02-15 16:44:21
switchde/-2025-02-15 16:44:49
ontoProc/-2025-02-15 16:44:24
segmenter/-2025-02-15 16:44:42
GA4GHshiny/-2025-02-15 16:43:59
IsoCorrectoR/-2025-02-15 16:44:10
ComPrAn/-2025-02-15 16:43:48
ggmanh/-2025-02-15 16:44:03
flowMeans/-2025-02-15 16:43:59
rBLAST/-2025-02-15 16:44:32
Pedixplorer/-2025-02-15 16:44:27
trackViewer/-2025-02-15 16:44:52
funtooNorm/-2025-02-15 16:43:59
genefilter/-2025-02-15 16:44:01
multtest/-2025-02-15 16:44:21
MicrobiotaProcess/-2025-02-15 16:44:17
arrayMvout/-2025-02-15 16:43:38
alabaster.files/-2025-02-15 16:43:36
Clomial/-2025-02-15 16:43:47
ROSeq/-2025-02-15 16:44:37
SARC/-2025-02-15 16:44:39
sva/-2025-02-15 16:44:49
pmm/-2025-02-15 16:44:28
BLMA/-2025-02-15 16:43:42
SemDist/-2025-02-15 16:44:42
biodbHmdb/-2025-02-15 16:43:41
iCOBRA/-2025-02-15 16:44:08
DELocal/-2025-02-15 16:43:52
ldblock/-2025-02-15 16:44:11
SIM/-2025-02-15 16:44:43
methylGSA/-2025-02-15 16:44:16
similaRpeak/-2025-02-15 16:44:44
motifmatchr/-2025-02-15 16:44:19
cmapR/-2025-02-15 16:43:47
cbaf/-2025-02-15 16:43:44
IsoformSwitchAnalyzeR/-2025-02-15 16:44:10
diffuStats/-2025-02-15 16:43:53
synapsis/-2025-02-15 16:44:49
methylKit/-2025-02-15 16:44:16
siggenes/-2025-02-15 16:44:43
methylPipe/-2025-02-15 16:44:16
ivygapSE/-2025-02-15 16:44:10
DECIPHER/-2025-02-15 16:43:51
dcanr/-2025-02-15 16:43:51
planet/-2025-02-15 16:44:28
BiocHubsShiny/-2025-02-15 16:43:41
tidySummarizedExperiment/-2025-02-15 16:44:51
HelloRanges/-2025-02-15 16:44:06
qusage/-2025-02-15 16:44:31
RiboProfiling/-2025-02-15 16:44:35
RUVSeq/-2025-02-15 16:44:38
mirTarRnaSeq/-2025-02-15 16:44:18
hierinf/-2025-02-15 16:44:06
DFP/-2025-02-15 16:43:53
MEAL/-2025-02-15 16:44:14
transcriptogramer/-2025-02-15 16:44:52
BUSseq/-2025-02-15 16:43:43
ballgown/-2025-02-15 16:43:39
Omixer/-2025-02-15 16:44:24
mosdef/-2025-02-15 16:44:19
uncoverappLib/-2025-02-15 16:44:54
pRolocGUI/-2025-02-15 16:44:30
DepecheR/-2025-02-15 16:43:52
alabaster.vcf/-2025-02-15 16:43:37
GOTHiC/-2025-02-15 16:44:04
cfDNAPro/-2025-02-15 16:43:45
h5vc/-2025-02-15 16:44:05
GrafGen/-2025-02-15 16:44:04
vbmp/-2025-02-15 16:44:55
HiLDA/-2025-02-15 16:44:07
smoppix/-2025-02-15 16:44:45
nethet/-2025-02-15 16:44:22
affycomp/-2025-02-15 16:43:36
demuxmix/-2025-02-15 16:43:52
scone/-2025-02-15 16:44:40
keggorthology/-2025-02-15 16:44:11
sSNAPPY/-2025-02-15 16:44:47
MatrixRider/-2025-02-15 16:44:14
biosigner/-2025-02-15 16:43:42
PANR/-2025-02-15 16:44:26
phosphonormalizer/-2025-02-15 16:44:27
MICSQTL/-2025-02-15 16:44:17
SingleMoleculeFootprinting/-2025-02-15 16:44:44
wpm/-2025-02-15 16:44:56
miaSim/-2025-02-15 16:44:16
clippda/-2025-02-15 16:43:46
epidecodeR/-2025-02-15 16:43:56
PathNet/-2025-02-15 16:44:26
SeqSQC/-2025-02-15 16:44:42
oppar/-2025-02-15 16:44:25
affyContam/-2025-02-15 16:43:36
cyanoFilter/-2025-02-15 16:43:50
HTSFilter/-2025-02-15 16:44:07
LBE/-2025-02-15 16:44:11
SamSPECTRAL/-2025-02-15 16:44:38
iSEEtree/-2025-02-15 16:44:10
GenomicPlot/-2025-02-15 16:44:02
convert/-2025-02-15 16:43:49
HELP/-2025-02-15 16:44:06
scry/-2025-02-15 16:44:41
survClust/-2025-02-15 16:44:49
tidySingleCellExperiment/-2025-02-15 16:44:51
gage/-2025-02-15 16:44:00
DaMiRseq/-2025-02-15 16:43:51
SurfR/-2025-02-15 16:44:49
normr/-2025-02-15 16:44:23
CGHregions/-2025-02-15 16:43:45
SubCellBarCode/-2025-02-15 16:44:48
BUS/-2025-02-15 16:43:43
GNOSIS/-2025-02-15 16:44:04
apComplex/-2025-02-15 16:43:38
planttfhunter/-2025-02-15 16:44:28
metagenomeSeq/-2025-02-15 16:44:15
RiboCrypt/-2025-02-15 16:44:35
BiFET/-2025-02-15 16:43:40
sSeq/-2025-02-15 16:44:47
rexposome/-2025-02-15 16:44:34
SNPRelate/-2025-02-15 16:44:45
mfa/-2025-02-15 16:44:16
zFPKM/-2025-02-15 16:44:57
DEsingle/-2025-02-15 16:43:53
MAPFX/-2025-02-15 16:44:13
tricycle/-2025-02-15 16:44:53
compcodeR/-2025-02-15 16:43:48
bigmelon/-2025-02-15 16:43:40
Spaniel/-2025-02-15 16:44:45
scCB2/-2025-02-15 16:44:39
infinityFlow/-2025-02-15 16:44:09
bambu/-2025-02-15 16:43:39
rTRMui/-2025-02-15 16:44:38
protGear/-2025-02-15 16:44:30
GloScope/-2025-02-15 16:44:03
webbioc/-2025-02-15 16:44:56
M3C/-2025-02-15 16:44:12
spillR/-2025-02-15 16:44:46
CTdata/-2025-02-15 16:43:50
PWMEnrich/-2025-02-15 16:44:30
EnrichDO/-2025-02-15 16:43:56
pipeComp/-2025-02-15 16:44:28
chipenrich/-2025-02-15 16:43:45
ADAM/-2025-02-15 16:43:35
cellscape/-2025-02-15 16:43:44
flowCore/-2025-02-15 16:43:58
HIREewas/-2025-02-15 16:44:07
cleanUpdTSeq/-2025-02-15 16:43:46
combi/-2025-02-15 16:43:48
RImmPort/-2025-02-15 16:44:36
CFAssay/-2025-02-15 16:43:45
scClassify/-2025-02-15 16:44:39
geneXtendeR/-2025-02-15 16:44:01
immunoClust/-2025-02-15 16:44:08
cleaver/-2025-02-15 16:43:46
DiscoRhythm/-2025-02-15 16:43:53
miRcomp/-2025-02-15 16:44:17
RNAmodR.RiboMethSeq/-2025-02-15 16:44:36
msgbsR/-2025-02-15 16:44:20
xCell2/-2025-02-15 16:44:56
cellity/-2025-02-15 16:43:44
GSCA/-2025-02-15 16:44:05
cola/-2025-02-15 16:43:48
spaSim/-2025-02-15 16:44:46
GeneRegionScan/-2025-02-15 16:44:01
proBAMr/-2025-02-15 16:44:29
BRAIN/-2025-02-15 16:43:42
densvis/-2025-02-15 16:43:52
bsseq/-2025-02-15 16:43:43
escheR/-2025-02-15 16:43:57
HDTD/-2025-02-15 16:44:06
R453Plus1Toolbox/-2025-02-15 16:44:31
CytoGLMM/-2025-02-15 16:43:50
paircompviz/-2025-02-15 16:44:25
RepViz/-2025-02-15 16:44:34
FGNet/-2025-02-15 16:43:58
switchBox/-2025-02-15 16:44:49
CellNOptR/-2025-02-15 16:43:44
nuCpos/-2025-02-15 16:44:23
SpliceWiz/-2025-02-15 16:44:47
omXplore/-2025-02-15 16:44:24
GWASTools/-2025-02-15 16:44:05
DepInfeR/-2025-02-15 16:43:52
scruff/-2025-02-15 16:44:41
TargetSearch/-2025-02-15 16:44:50
maCorrPlot/-2025-02-15 16:44:12
txdbmaker/-2025-02-15 16:44:54
alabaster.mae/-2025-02-15 16:43:36
xmapbridge/-2025-02-15 16:44:56
MethylMix/-2025-02-15 16:44:16
methimpute/-2025-02-15 16:44:15
epialleleR/-2025-02-15 16:43:56
geneplotter/-2025-02-15 16:44:01
OPWeight/-2025-02-15 16:44:25
Cormotif/-2025-02-15 16:43:49
motifTestR/-2025-02-15 16:44:19
GenomicInteractionNodes/-2025-02-15 16:44:02
EnrichmentBrowser/-2025-02-15 16:43:56
immunogenViewer/-2025-02-15 16:44:08
Cepo/-2025-02-15 16:43:45
epivizrChart/-2025-02-15 16:43:56
epivizr/-2025-02-15 16:43:56
scrapper/-2025-02-15 16:44:41
SpaceMarkers/-2025-02-15 16:44:45
BioNet/-2025-02-15 16:43:42
gwasurvivr/-2025-02-15 16:44:05
autonomics/-2025-02-15 16:43:39
KBoost/-2025-02-15 16:44:10
scFeatures/-2025-02-15 16:44:40
RankProd/-2025-02-15 16:44:32
CNAnorm/-2025-02-15 16:43:47
findIPs/-2025-02-15 16:43:58
flowStats/-2025-02-15 16:43:59
PrInCE/-2025-02-15 16:44:29
MBCB/-2025-02-15 16:44:14
ideal/-2025-02-15 16:44:08
fastLiquidAssociation/-2025-02-15 16:43:57
mCSEA/-2025-02-15 16:44:14
GEWIST/-2025-02-15 16:44:02
Icens/-2025-02-15 16:44:08
MPFE/-2025-02-15 16:44:19
iterativeBMAsurv/-2025-02-15 16:44:10
RNAAgeCalc/-2025-02-15 16:44:36
MethylSeekR/-2025-02-15 16:44:16
PDATK/-2025-02-15 16:44:26
MSPrep/-2025-02-15 16:44:20
ChemmineR/-2025-02-15 16:43:45
SCFA/-2025-02-15 16:44:40
SynExtend/-2025-02-15 16:44:49
BiocWorkflowTools/-2025-02-15 16:43:41
NoRCE/-2025-02-15 16:44:23
AnVILGCP/-2025-02-15 16:43:38
pepStat/-2025-02-15 16:44:27
signatureSearch/-2025-02-15 16:44:43
msqrob2/-2025-02-15 16:44:20
qpcrNorm/-2025-02-15 16:44:31
flowCHIC/-2025-02-15 16:43:58
GSEAmining/-2025-02-15 16:44:05
flowClean/-2025-02-15 16:43:58
Basic4Cseq/-2025-02-15 16:43:39
scDotPlot/-2025-02-15 16:44:40
ORFhunteR/-2025-02-15 16:44:25
scDDboost/-2025-02-15 16:44:40
iSEEu/-2025-02-15 16:44:10
HIBAG/-2025-02-15 16:44:06
MBQN/-2025-02-15 16:44:14
RCyjs/-2025-02-15 16:44:33
GeneTonic/-2025-02-15 16:44:01
LOBSTAHS/-2025-02-15 16:44:12
AIMS/-2025-02-15 16:43:36
SpatialDecon/-2025-02-15 16:44:46
BioGA/-2025-02-15 16:43:41
HiCDCPlus/-2025-02-15 16:44:06
SMITE/-2025-02-15 16:44:45
bamsignals/-2025-02-15 16:43:39
CAEN/-2025-02-15 16:43:43
NPARC/-2025-02-15 16:44:23
dagLogo/-2025-02-15 16:43:51
midasHLA/-2025-02-15 16:44:17
esetVis/-2025-02-15 16:43:57
CCPROMISE/-2025-02-15 16:43:44
intansv/-2025-02-15 16:44:09
epiNEM/-2025-02-15 16:43:56
SUITOR/-2025-02-15 16:44:48
minet/-2025-02-15 16:44:17
appreci8R/-2025-02-15 16:43:38
tpSVG/-2025-02-15 16:44:52
Uniquorn/-2025-02-15 16:44:54
FitHiC/-2025-02-15 16:43:58
rpx/-2025-02-15 16:44:37
logicFS/-2025-02-15 16:44:12
semisup/-2025-02-15 16:44:42
genomicInstability/-2025-02-15 16:44:02
txcutr/-2025-02-15 16:44:54
missRows/-2025-02-15 16:44:18
InteractiveComplexHeatmap/-2025-02-15 16:44:09
ReactomeGSA/-2025-02-15 16:44:33
SCBN/-2025-02-15 16:44:39
FISHalyseR/-2025-02-15 16:43:58
SDAMS/-2025-02-15 16:44:42
SimFFPE/-2025-02-15 16:44:44
ceRNAnetsim/-2025-02-15 16:43:45
Streamer/-2025-02-15 16:44:48
gaga/-2025-02-15 16:44:00
VDJdive/-2025-02-15 16:44:55
seqArchR/-2025-02-15 16:44:42
panelcn.mops/-2025-02-15 16:44:26
Moonlight2R/-2025-02-15 16:44:19
selectKSigs/-2025-02-15 16:44:42
BiocVersion/-2025-02-15 16:43:41
gemini/-2025-02-15 16:44:00
GENESIS/-2025-02-15 16:44:01
GeneSelectMMD/-2025-02-15 16:44:01
atena/-2025-02-15 16:43:38
rRDP/-2025-02-15 16:44:37
zenith/-2025-02-15 16:44:56
qsea/-2025-02-15 16:44:31
iBBiG/-2025-02-15 16:44:07
EGAD/-2025-02-15 16:43:55
oppti/-2025-02-15 16:44:25
GAprediction/-2025-02-15 16:44:00
alabaster.schemas/-2025-02-15 16:43:36
RNAmodR.ML/-2025-02-15 16:44:36
scoreInvHap/-2025-02-15 16:44:41
PRONE/-2025-02-15 16:44:30
Damsel/-2025-02-15 16:43:51
GWAS.BAYES/-2025-02-15 16:44:05
hermes/-2025-02-15 16:44:06
MultiMed/-2025-02-15 16:44:21
MSstatsConvert/-2025-02-15 16:44:20
Qtlizer/-2025-02-15 16:44:31
comapr/-2025-02-15 16:43:48
ChromSCape/-2025-02-15 16:43:46
BREW3R.r/-2025-02-15 16:43:42
BumpyMatrix/-2025-02-15 16:43:43
ReducedExperiment/-2025-02-15 16:44:34
MSnbase/-2025-02-15 16:44:20
beer/-2025-02-15 16:43:40
easyRNASeq/-2025-02-15 16:43:55
chipseq/-2025-02-15 16:43:46
ecolitk/-2025-02-15 16:43:55
DMCFB/-2025-02-15 16:43:54
ibh/-2025-02-15 16:44:07
StabMap/-2025-02-15 16:44:48
KEGGREST/-2025-02-15 16:44:11
flowGraph/-2025-02-15 16:43:59
variancePartition/-2025-02-15 16:44:54
CODEX/-2025-02-15 16:43:48
cytoKernel/-2025-02-15 16:43:50
GlobalAncova/-2025-02-15 16:44:03
DEFormats/-2025-02-15 16:43:52
survcomp/-2025-02-15 16:44:49
MatrixQCvis/-2025-02-15 16:44:14
Rdisop/-2025-02-15 16:44:33
consensusSeekeR/-2025-02-15 16:43:48
microbiomeExplorer/-2025-02-15 16:44:17
flowBin/-2025-02-15 16:43:58
hpar/-2025-02-15 16:44:07
TrajectoryGeometry/-2025-02-15 16:44:52
retrofit/-2025-02-15 16:44:34
topGO/-2025-02-15 16:44:52
mBPCR/-2025-02-15 16:44:14
SpatialExperiment/-2025-02-15 16:44:46
GOSemSim/-2025-02-15 16:44:04
GSALightning/-2025-02-15 16:44:05
BioNERO/-2025-02-15 16:43:42
NanoMethViz/-2025-02-15 16:44:22
metaMS/-2025-02-15 16:44:15
vtpnet/-2025-02-15 16:44:55
LRcell/-2025-02-15 16:44:12
cn.mops/-2025-02-15 16:43:47
RAIDS/-2025-02-15 16:44:32
SeqVarTools/-2025-02-15 16:44:42
QSutils/-2025-02-15 16:44:31
tRNAdbImport/-2025-02-15 16:44:53
scPCA/-2025-02-15 16:44:41
ISAnalytics/-2025-02-15 16:44:09
goseq/-2025-02-15 16:44:04
CNVPanelizer/-2025-02-15 16:43:47
tweeDEseq/-2025-02-15 16:44:53
BiSeq/-2025-02-15 16:43:42
CytoML/-2025-02-15 16:43:51
annotate/-2025-02-15 16:43:37
transomics2cytoscape/-2025-02-15 16:44:52
QTLExperiment/-2025-02-15 16:44:31
SpeCond/-2025-02-15 16:44:46
scp/-2025-02-15 16:44:41
PLSDAbatch/-2025-02-15 16:44:28
BgeeCall/-2025-02-15 16:43:40
bayNorm/-2025-02-15 16:43:39
sangeranalyseR/-2025-02-15 16:44:39
atSNP/-2025-02-15 16:43:39
cnvGSA/-2025-02-15 16:43:47
limmaGUI/-2025-02-15 16:44:11
randPack/-2025-02-15 16:44:32
AnnotationHubData/-2025-02-15 16:43:37
ASICS/-2025-02-15 16:43:38
scDblFinder/-2025-02-15 16:44:40
mdp/-2025-02-15 16:44:14
lpsymphony/-2025-02-15 16:44:12
CAGEr/-2025-02-15 16:43:43
PhenStat/-2025-02-15 16:44:27
standR/-2025-02-15 16:44:48
tadar/-2025-02-15 16:44:49
sRACIPE/-2025-02-15 16:44:47
SplicingFactory/-2025-02-15 16:44:47
snpStats/-2025-02-15 16:44:45
stageR/-2025-02-15 16:44:48
ptairMS/-2025-02-15 16:44:30
biodbNcbi/-2025-02-15 16:43:41
ginmappeR/-2025-02-15 16:44:03
VariantAnnotation/-2025-02-15 16:44:54
affxparser/-2025-02-15 16:43:36
CoSIA/-2025-02-15 16:43:49
rprimer/-2025-02-15 16:44:37
KEGGlincs/-2025-02-15 16:44:11
antiProfiles/-2025-02-15 16:43:38
pathlinkR/-2025-02-15 16:44:26
TCC/-2025-02-15 16:44:50
RSVSim/-2025-02-15 16:44:37
GUIDEseq/-2025-02-15 16:44:05
APL/-2025-02-15 16:43:38
octad/-2025-02-15 16:44:23
canceR/-2025-02-15 16:43:43
methylMnM/-2025-02-15 16:44:16
zitools/-2025-02-15 16:44:57
hierGWAS/-2025-02-15 16:44:06
scoup/-2025-02-15 16:44:41
gep2pep/-2025-02-15 16:44:02
hyperdraw/-2025-02-15 16:44:07
qsmooth/-2025-02-15 16:44:31
biobroom/-2025-02-15 16:43:40
IRanges/-2025-02-15 16:44:09
cellbaseR/-2025-02-15 16:43:44
BUSpaRse/-2025-02-15 16:43:43
MIRA/-2025-02-15 16:44:17
coGPS/-2025-02-15 16:43:48
CAMERA/-2025-02-15 16:43:43
Rtpca/-2025-02-15 16:44:38
vissE/-2025-02-15 16:44:55
scFeatureFilter/-2025-02-15 16:44:40
MethylAid/-2025-02-15 16:44:16
apeglm/-2025-02-15 16:43:38
MBASED/-2025-02-15 16:44:14
GeneMeta/-2025-02-15 16:44:01
BiocPkgTools/-2025-02-15 16:43:41
GeneOverlap/-2025-02-15 16:44:01
seqsetvis/-2025-02-15 16:44:42
sketchR/-2025-02-15 16:44:44
packFinder/-2025-02-15 16:44:25
demuxSNP/-2025-02-15 16:43:52
RIVER/-2025-02-15 16:44:36
rcellminer/-2025-02-15 16:44:33
RUVnormalize/-2025-02-15 16:44:38
ASEB/-2025-02-15 16:43:38
MassSpecWavelet/-2025-02-15 16:44:13
corral/-2025-02-15 16:43:49
plier/-2025-02-15 16:44:28
clusterExperiment/-2025-02-15 16:43:47
CoCiteStats/-2025-02-15 16:43:48
GOpro/-2025-02-15 16:44:04
maser/-2025-02-15 16:44:13
synlet/-2025-02-15 16:44:49
iNETgrate/-2025-02-15 16:44:09
QUBIC/-2025-02-15 16:44:31
omicplotR/-2025-02-15 16:44:24
SELEX/-2025-02-15 16:44:42
rhdf5client/-2025-02-15 16:44:35
safe/-2025-02-15 16:44:38
anota/-2025-02-15 16:43:37
topdownr/-2025-02-15 16:44:52
BayesSpace/-2025-02-15 16:43:39
XNAString/-2025-02-15 16:44:56
RMassBank/-2025-02-15 16:44:36
beachmat/-2025-02-15 16:43:40
geneAttribution/-2025-02-15 16:44:00
biotmle/-2025-02-15 16:43:42
tLOH/-2025-02-15 16:44:51
assorthead/-2025-02-15 16:43:38
BufferedMatrixMethods/-2025-02-15 16:43:43
padma/-2025-02-15 16:44:25
ModCon/-2025-02-15 16:44:18
AssessORF/-2025-02-15 16:43:38
sangerseqR/-2025-02-15 16:44:39
iSEEpathways/-2025-02-15 16:44:10
cydar/-2025-02-15 16:43:50
GenomicTuples/-2025-02-15 16:44:02
gcapc/-2025-02-15 16:44:00
periodicDNA/-2025-02-15 16:44:27
LRBaseDbi/-2025-02-15 16:44:12
calm/-2025-02-15 16:43:43
multiMiR/-2025-02-15 16:44:21
ASAFE/-2025-02-15 16:43:38
BUMHMM/-2025-02-15 16:43:43
BadRegionFinder/-2025-02-15 16:43:39
iASeq/-2025-02-15 16:44:07
pathview/-2025-02-15 16:44:26
erma/-2025-02-15 16:43:56
topconfects/-2025-02-15 16:44:52
iasva/-2025-02-15 16:44:07
SMAD/-2025-02-15 16:44:45
clipper/-2025-02-15 16:43:46
derfinder/-2025-02-15 16:43:52
ReadqPCR/-2025-02-15 16:44:33
CEMiTool/-2025-02-15 16:43:45
geneplast/-2025-02-15 16:44:01
CATALYST/-2025-02-15 16:43:44
DelayedMatrixStats/-2025-02-15 16:43:52
SeqArray/-2025-02-15 16:44:42
CellBench/-2025-02-15 16:43:44
cTRAP/-2025-02-15 16:43:50
geneRxCluster/-2025-02-15 16:44:01
Rbowtie2/-2025-02-15 16:44:32
kissDE/-2025-02-15 16:44:11
GenomicAlignments/-2025-02-15 16:44:01
escape/-2025-02-15 16:43:57
tradeSeq/-2025-02-15 16:44:52
CAGEfightR/-2025-02-15 16:43:43
flowViz/-2025-02-15 16:43:59
HoloFoodR/-2025-02-15 16:44:07
MsBackendMassbank/-2025-02-15 16:44:19
INTACT/-2025-02-15 16:44:09
MOFA2/-2025-02-15 16:44:18
squallms/-2025-02-15 16:44:47
proteinProfiles/-2025-02-15 16:44:30
consensusOV/-2025-02-15 16:43:48
hca/-2025-02-15 16:44:06
MADSEQ/-2025-02-15 16:44:13
SingleCellExperiment/-2025-02-15 16:44:44
RolDE/-2025-02-15 16:44:37
drawProteins/-2025-02-15 16:43:54
seahtrue/-2025-02-15 16:44:42
EMDomics/-2025-02-15 16:43:55
Rcpi/-2025-02-15 16:44:33
ISoLDE/-2025-02-15 16:44:10
roastgsa/-2025-02-15 16:44:37
pRoloc/-2025-02-15 16:44:30
branchpointer/-2025-02-15 16:43:42
AnVILWorkflow/-2025-02-15 16:43:38
adductomicsR/-2025-02-15 16:43:36
LinkHD/-2025-02-15 16:44:11
splots/-2025-02-15 16:44:47
Glimma/-2025-02-15 16:44:03
icetea/-2025-02-15 16:44:08
benchdamic/-2025-02-15 16:43:40
ELMER/-2025-02-15 16:43:55
REBET/-2025-02-15 16:44:33
blima/-2025-02-15 16:43:42
AnVILAz/-2025-02-15 16:43:38
massiR/-2025-02-15 16:44:13
CRISPRball/-2025-02-15 16:43:49
CARNIVAL/-2025-02-15 16:43:44
tigre/-2025-02-15 16:44:51
CNViz/-2025-02-15 16:43:47
GNET2/-2025-02-15 16:44:04
enrichViewNet/-2025-02-15 16:43:56
flowClust/-2025-02-15 16:43:58
PepsNMR/-2025-02-15 16:44:27
GeDi/-2025-02-15 16:44:00
MantelCorr/-2025-02-15 16:44:13
GDSArray/-2025-02-15 16:44:00
spatialSimGP/-2025-02-15 16:44:46
plotgardener/-2025-02-15 16:44:28
affy/-2025-02-15 16:43:36
iSEEde/-2025-02-15 16:44:10
dar/-2025-02-15 16:43:51
extraChIPs/-2025-02-15 16:43:57
Biobase/-2025-02-15 16:43:40
pathifier/-2025-02-15 16:44:26
moanin/-2025-02-15 16:44:18
philr/-2025-02-15 16:44:27
methylInheritance/-2025-02-15 16:44:16
DeconRNASeq/-2025-02-15 16:43:51
funOmics/-2025-02-15 16:43:59
tRanslatome/-2025-02-15 16:44:52
normalize450K/-2025-02-15 16:44:23
EBImage/-2025-02-15 16:43:55
ReportingTools/-2025-02-15 16:44:34
mzID/-2025-02-15 16:44:22
pfamAnalyzeR/-2025-02-15 16:44:27
GOstats/-2025-02-15 16:44:04
interacCircos/-2025-02-15 16:44:09
ssviz/-2025-02-15 16:44:48
OTUbase/-2025-02-15 16:44:25
sechm/-2025-02-15 16:44:42
HybridExpress/-2025-02-15 16:44:07
wateRmelon/-2025-02-15 16:44:55
TMSig/-2025-02-15 16:44:51
pmp/-2025-02-15 16:44:28
methInheritSim/-2025-02-15 16:44:15
specL/-2025-02-15 16:44:46
singscore/-2025-02-15 16:44:44
DTA/-2025-02-15 16:43:54
multiGSEA/-2025-02-15 16:44:21
MGFR/-2025-02-15 16:44:16
structToolbox/-2025-02-15 16:44:48
xcore/-2025-02-15 16:44:56
TrajectoryUtils/-2025-02-15 16:44:52
crisprDesign/-2025-02-15 16:43:49
scGPS/-2025-02-15 16:44:40
globalSeq/-2025-02-15 16:44:03
daMA/-2025-02-15 16:43:51
HIPPO/-2025-02-15 16:44:07
DEGseq/-2025-02-15 16:43:52
SPsimSeq/-2025-02-15 16:44:47
strandCheckR/-2025-02-15 16:44:48
dks/-2025-02-15 16:43:54
lemur/-2025-02-15 16:44:11
seq.hotSPOT/-2025-02-15 16:44:42
DirichletMultinomial/-2025-02-15 16:43:53
AllelicImbalance/-2025-02-15 16:43:37
soGGi/-2025-02-15 16:44:45
timecourse/-2025-02-15 16:44:51
compEpiTools/-2025-02-15 16:43:48
Pigengene/-2025-02-15 16:44:28
mnem/-2025-02-15 16:44:18
scBFA/-2025-02-15 16:44:39
shinyepico/-2025-02-15 16:44:43
OLINgui/-2025-02-15 16:44:24
epivizrServer/-2025-02-15 16:43:56
regioneR/-2025-02-15 16:44:34
GARS/-2025-02-15 16:44:00
SBGNview/-2025-02-15 16:44:39
FilterFFPE/-2025-02-15 16:43:58
messina/-2025-02-15 16:44:15
Rhdf5lib/-2025-02-15 16:44:35
BiocSet/-2025-02-15 16:43:41
UCSC.utils/-2025-02-15 16:44:54
adverSCarial/-2025-02-15 16:43:36
FastqCleaner/-2025-02-15 16:43:57
iCARE/-2025-02-15 16:44:07
gDRimport/-2025-02-15 16:44:00
rgoslin/-2025-02-15 16:44:35
CNVrd2/-2025-02-15 16:43:48
ToxicoGx/-2025-02-15 16:44:52
SpatialCPie/-2025-02-15 16:44:46
SiPSiC/-2025-02-15 16:44:44
BiocSklearn/-2025-02-15 16:43:41
tRNA/-2025-02-15 16:44:53
getDEE2/-2025-02-15 16:44:02
biscuiteer/-2025-02-15 16:43:42
anota2seq/-2025-02-15 16:43:37
maftools/-2025-02-15 16:44:13
tilingArray/-2025-02-15 16:44:51
ClustAll/-2025-02-15 16:43:47
Ularcirc/-2025-02-15 16:44:54
DNABarcodes/-2025-02-15 16:43:54
Wrench/-2025-02-15 16:44:56
qPLEXanalyzer/-2025-02-15 16:44:31
netZooR/-2025-02-15 16:44:23
graphite/-2025-02-15 16:44:04
PECA/-2025-02-15 16:44:27
oligoClasses/-2025-02-15 16:44:24
SIMD/-2025-02-15 16:44:43
COCOA/-2025-02-15 16:43:48
XDE/-2025-02-15 16:44:56
biovizBase/-2025-02-15 16:43:42
bandle/-2025-02-15 16:43:39
HicAggR/-2025-02-15 16:44:06
Rgraphviz/-2025-02-15 16:44:35
ggspavis/-2025-02-15 16:44:03
UPDhmm/-2025-02-15 16:44:54
DART/-2025-02-15 16:43:51
customCMPdb/-2025-02-15 16:43:50
MPRAnalyze/-2025-02-15 16:44:19
beachmat.hdf5/-2025-02-15 16:43:40
SBMLR/-2025-02-15 16:44:39
cummeRbund/-2025-02-15 16:43:50
TDbasedUFE/-2025-02-15 16:44:50
scTreeViz/-2025-02-15 16:44:41
NanoStringNCTools/-2025-02-15 16:44:22
multiClust/-2025-02-15 16:44:21
mygene/-2025-02-15 16:44:22
interactiveDisplayBase/-2025-02-15 16:44:09
LEA/-2025-02-15 16:44:11
UNDO/-2025-02-15 16:44:54
BioCartaImage/-2025-02-15 16:43:40
pairkat/-2025-02-15 16:44:26
CytoMDS/-2025-02-15 16:43:51
barcodetrackR/-2025-02-15 16:43:39
sampleClassifier/-2025-02-15 16:44:38
metaSeq/-2025-02-15 16:44:15
crisprViz/-2025-02-15 16:43:50
oncoscanR/-2025-02-15 16:44:24
powerTCR/-2025-02-15 16:44:29
chromVAR/-2025-02-15 16:43:46
SCArray.sat/-2025-02-15 16:44:39
clusterProfiler/-2025-02-15 16:43:47
MSstatsQCgui/-2025-02-15 16:44:21
TitanCNA/-2025-02-15 16:44:51
ASGSCA/-2025-02-15 16:43:38
GenomicFiles/-2025-02-15 16:44:02
codelink/-2025-02-15 16:43:48
INPower/-2025-02-15 16:44:09
miRNApath/-2025-02-15 16:44:18
IVAS/-2025-02-15 16:44:10
scds/-2025-02-15 16:44:40
pickgene/-2025-02-15 16:44:28
phenomis/-2025-02-15 16:44:27
Rarr/-2025-02-15 16:44:32
INSPEcT/-2025-02-15 16:44:09
goProfiles/-2025-02-15 16:44:04
NBAMSeq/-2025-02-15 16:44:22
SRAdb/-2025-02-15 16:44:47
TEQC/-2025-02-15 16:44:50
mbkmeans/-2025-02-15 16:44:14
MSstatsPTM/-2025-02-15 16:44:20
dreamlet/-2025-02-15 16:43:54
phenopath/-2025-02-15 16:44:27
gDRutils/-2025-02-15 16:44:00
chromPlot/-2025-02-15 16:43:46
CNVfilteR/-2025-02-15 16:43:47
goSTAG/-2025-02-15 16:44:04
SparseSignatures/-2025-02-15 16:44:45
sitadela/-2025-02-15 16:44:44
baySeq/-2025-02-15 16:43:39
BOBaFIT/-2025-02-15 16:43:42
APAlyzer/-2025-02-15 16:43:38
epivizrData/-2025-02-15 16:43:56
MAI/-2025-02-15 16:44:13
GEOmetadb/-2025-02-15 16:44:02
hicVennDiagram/-2025-02-15 16:44:06
diffcyt/-2025-02-15 16:43:53
ADAMgui/-2025-02-15 16:43:36
TFARM/-2025-02-15 16:44:50
HilbertVis/-2025-02-15 16:44:06
IntEREst/-2025-02-15 16:44:09
MCbiclust/-2025-02-15 16:44:14
twoddpcr/-2025-02-15 16:44:54
DEScan2/-2025-02-15 16:43:53
BCRANK/-2025-02-15 16:43:40
SummarizedExperiment/-2025-02-15 16:44:48
InPAS/-2025-02-15 16:44:09
MGnifyR/-2025-02-15 16:44:16
GA4GHclient/-2025-02-15 16:43:59
cBioPortalData/-2025-02-15 16:43:44
SWATH2stats/-2025-02-15 16:44:49
impute/-2025-02-15 16:44:09
discordant/-2025-02-15 16:43:53
eds/-2025-02-15 16:43:55
RDRToolbox/-2025-02-15 16:44:33
BSgenomeForge/-2025-02-15 16:43:43
Mergeomics/-2025-02-15 16:44:14
les/-2025-02-15 16:44:11
EpiMix/-2025-02-15 16:43:56
scRepertoire/-2025-02-15 16:44:41
CardinalIO/-2025-02-15 16:43:43
alabaster.ranges/-2025-02-15 16:43:36
ggbio/-2025-02-15 16:44:03
stepNorm/-2025-02-15 16:44:48
proActiv/-2025-02-15 16:44:29
CompoundDb/-2025-02-15 16:43:48
PLPE/-2025-02-15 16:44:28
Sconify/-2025-02-15 16:44:41
ZygosityPredictor/-2025-02-15 16:44:57
mapscape/-2025-02-15 16:44:13
celaref/-2025-02-15 16:43:44
SpaNorm/-2025-02-15 16:44:45
dinoR/-2025-02-15 16:43:53
MatrixGenerics/-2025-02-15 16:44:13
svaNUMT/-2025-02-15 16:44:49
gDNAx/-2025-02-15 16:44:00
BASiCStan/-2025-02-15 16:43:39
Chicago/-2025-02-15 16:43:45
HarmonizR/-2025-02-15 16:44:06
NuPoP/-2025-02-15 16:44:23
msa/-2025-02-15 16:44:19
martini/-2025-02-15 16:44:13
ABarray/-2025-02-15 16:43:35
gg4way/-2025-02-15 16:44:02
CyTOFpower/-2025-02-15 16:43:50
STATegRa/-2025-02-15 16:44:48
R4RNA/-2025-02-15 16:44:31
dStruct/-2025-02-15 16:43:54
COSNet/-2025-02-15 16:43:49
subSeq/-2025-02-15 16:44:48
MethTargetedNGS/-2025-02-15 16:44:16
garfield/-2025-02-15 16:44:00
CleanUpRNAseq/-2025-02-15 16:43:46
doppelgangR/-2025-02-15 16:43:54
IgGeneUsage/-2025-02-15 16:44:08
HiCDOC/-2025-02-15 16:44:06
flowWorkspace/-2025-02-15 16:43:59
rbsurv/-2025-02-15 16:44:32
idr2d/-2025-02-15 16:44:08
GenomeInfoDb/-2025-02-15 16:44:01
scBubbletree/-2025-02-15 16:44:39
scDD/-2025-02-15 16:44:40
regionalpcs/-2025-02-15 16:44:34
RTNsurvival/-2025-02-15 16:44:38
BiocFileCache/-2025-02-15 16:43:41
genomeIntervals/-2025-02-15 16:44:01
quantro/-2025-02-15 16:44:31
frmaTools/-2025-02-15 16:43:59
crisprShiny/-2025-02-15 16:43:49
CexoR/-2025-02-15 16:43:45
RaggedExperiment/-2025-02-15 16:44:32
scDiagnostics/-2025-02-15 16:44:40
DEsubs/-2025-02-15 16:43:53
SNPhood/-2025-02-15 16:44:45
h5mread/-2025-02-15 16:44:05
EventPointer/-2025-02-15 16:43:57
CGHcall/-2025-02-15 16:43:45
limpca/-2025-02-15 16:44:11
RBioinf/-2025-02-15 16:44:32
DNAfusion/-2025-02-15 16:43:54
BASiCS/-2025-02-15 16:43:39
RnaSeqSampleSize/-2025-02-15 16:44:36
GIGSEA/-2025-02-15 16:44:03
NewWave/-2025-02-15 16:44:23
BatchQC/-2025-02-15 16:43:39
transmogR/-2025-02-15 16:44:52
quantsmooth/-2025-02-15 16:44:31
miRBaseConverter/-2025-02-15 16:44:17
Informeasure/-2025-02-15 16:44:09
BiocFHIR/-2025-02-15 16:43:41
rScudo/-2025-02-15 16:44:37
EWCE/-2025-02-15 16:43:57
HybridMTest/-2025-02-15 16:44:07
OmicCircos/-2025-02-15 16:44:24
derfinderHelper/-2025-02-15 16:43:52
cytoMEM/-2025-02-15 16:43:51
simPIC/-2025-02-15 16:44:44
microbiomeDASim/-2025-02-15 16:44:17
CONSTANd/-2025-02-15 16:43:49
MultimodalExperiment/-2025-02-15 16:44:21
alevinQC/-2025-02-15 16:43:37
IMPCdata/-2025-02-15 16:44:09
methyLImp2/-2025-02-15 16:44:16
DNAcopy/-2025-02-15 16:43:54
cbpManager/-2025-02-15 16:43:44
GraphPAC/-2025-02-15 16:44:04
biomformat/-2025-02-15 16:43:42
IMAS/-2025-02-15 16:44:08
CellMapper/-2025-02-15 16:43:44
hoodscanR/-2025-02-15 16:44:07
sincell/-2025-02-15 16:44:44
OmaDB/-2025-02-15 16:44:24
struct/-2025-02-15 16:44:48
ASSIGN/-2025-02-15 16:43:38
CaMutQC/-2025-02-15 16:43:43
DominoEffect/-2025-02-15 16:43:54
GRmetrics/-2025-02-15 16:44:05
terraTCGAdata/-2025-02-15 16:44:50
a4/-2025-02-15 16:43:35
mirIntegrator/-2025-02-15 16:44:17
regioneReloaded/-2025-02-15 16:44:34
RedeR/-2025-02-15 16:44:34
DegNorm/-2025-02-15 16:43:52
iSEEhex/-2025-02-15 16:44:10
VarCon/-2025-02-15 16:44:54
flowcatchR/-2025-02-15 16:43:58
rGenomeTracks/-2025-02-15 16:44:35
MultiAssayExperiment/-2025-02-15 16:44:21
pairedGSEA/-2025-02-15 16:44:25
cageminer/-2025-02-15 16:43:43
TREG/-2025-02-15 16:44:53
scReClassify/-2025-02-15 16:44:41
netprioR/-2025-02-15 16:44:22
metabomxtr/-2025-02-15 16:44:15
scHOT/-2025-02-15 16:44:40
basilisk.utils/-2025-02-15 16:43:39
scde/-2025-02-15 16:44:40
phantasus/-2025-02-15 16:44:27
GSVA/-2025-02-15 16:44:05
Harman/-2025-02-15 16:44:05
seqTools/-2025-02-15 16:44:42
FRASER/-2025-02-15 16:43:59
consICA/-2025-02-15 16:43:48
ngsReports/-2025-02-15 16:44:23
Rhisat2/-2025-02-15 16:44:35
RGraph2js/-2025-02-15 16:44:35
speckle/-2025-02-15 16:44:46
NTW/-2025-02-15 16:44:23
BPRMeth/-2025-02-15 16:43:42
recountmethylation/-2025-02-15 16:44:34
BANDITS/-2025-02-15 16:43:39
nempi/-2025-02-15 16:44:22
KnowSeq/-2025-02-15 16:44:11
scanMiR/-2025-02-15 16:44:39
biodb/-2025-02-15 16:43:41
pcaExplorer/-2025-02-15 16:44:26
oposSOM/-2025-02-15 16:44:25
CatsCradle/-2025-02-15 16:43:44
traviz/-2025-02-15 16:44:52
syntenet/-2025-02-15 16:44:49
TFBSTools/-2025-02-15 16:44:50
XINA/-2025-02-15 16:44:56
preprocessCore/-2025-02-15 16:44:29
FRGEpistasis/-2025-02-15 16:43:59
BiRewire/-2025-02-15 16:43:42
ffpe/-2025-02-15 16:43:58
SeqGate/-2025-02-15 16:44:42
RNAdecay/-2025-02-15 16:44:36
Mulcom/-2025-02-15 16:44:21
traseR/-2025-02-15 16:44:52
ProteoMM/-2025-02-15 16:44:30
condiments/-2025-02-15 16:43:48
scater/-2025-02-15 16:44:39
DelayedArray/-2025-02-15 16:43:52
myvariant/-2025-02-15 16:44:22
DelayedTensor/-2025-02-15 16:43:52
dearseq/-2025-02-15 16:43:51
MOGAMUN/-2025-02-15 16:44:18
circRNAprofiler/-2025-02-15 16:43:46
BaseSpaceR/-2025-02-15 16:43:39
MetNet/-2025-02-15 16:44:16
BG2/-2025-02-15 16:43:40
profileplyr/-2025-02-15 16:44:29
TCGAbiolinks/-2025-02-15 16:44:50
FlowSOM/-2025-02-15 16:43:59
BubbleTree/-2025-02-15 16:43:43
RgnTX/-2025-02-15 16:44:35
ggcyto/-2025-02-15 16:44:03
MsBackendMetaboLights/-2025-02-15 16:44:19
gdsfmt/-2025-02-15 16:44:00
tomoseqr/-2025-02-15 16:44:52
ISLET/-2025-02-15 16:44:10
ncGTW/-2025-02-15 16:44:22
MeasurementError.cor/-2025-02-15 16:44:14
MODA/-2025-02-15 16:44:18
regsplice/-2025-02-15 16:44:34
CTSV/-2025-02-15 16:43:50
AUCell/-2025-02-15 16:43:39
flowTrans/-2025-02-15 16:43:59
optimalFlow/-2025-02-15 16:44:25
CNVMetrics/-2025-02-15 16:43:47
PCAN/-2025-02-15 16:44:26
AnnotationHub/-2025-02-15 16:43:37
geyser/-2025-02-15 16:44:02
illuminaio/-2025-02-15 16:44:08
pqsfinder/-2025-02-15 16:44:29
G4SNVHunter/-2025-02-15 16:43:59
annaffy/-2025-02-15 16:43:37
bnbc/-2025-02-15 16:43:42
maskBAD/-2025-02-15 16:44:13
Rvisdiff/-2025-02-15 16:44:38
multiscan/-2025-02-15 16:44:21
glmGamPoi/-2025-02-15 16:44:03
CTexploreR/-2025-02-15 16:43:50
snm/-2025-02-15 16:44:45
seq2pathway/-2025-02-15 16:44:42
debCAM/-2025-02-15 16:43:51
scanMiRApp/-2025-02-15 16:44:39
a4Classif/-2025-02-15 16:43:35
CTDquerier/-2025-02-15 16:43:50
alabaster.bumpy/-2025-02-15 16:43:36
crisprBowtie/-2025-02-15 16:43:49
HiTC/-2025-02-15 16:44:07
CoGAPS/-2025-02-15 16:43:48
rqubic/-2025-02-15 16:44:37
bacon/-2025-02-15 16:43:39
MetaPhOR/-2025-02-15 16:44:15
biocthis/-2025-02-15 16:43:41
CIMICE/-2025-02-15 16:43:46
SPOTlight/-2025-02-15 16:44:47
systemPipeR/-2025-02-15 16:44:49
BiocCheck/-2025-02-15 16:43:41
rhdf5/-2025-02-15 16:44:35
TissueEnrich/-2025-02-15 16:44:51
infercnv/-2025-02-15 16:44:09
ddCt/-2025-02-15 16:43:51
GRaNIE/-2025-02-15 16:44:04
CNVRanger/-2025-02-15 16:43:47
famat/-2025-02-15 16:43:57
drugTargetInteractions/-2025-02-15 16:43:54
mitoClone2/-2025-02-15 16:44:18
hiAnnotator/-2025-02-15 16:44:06
MSnID/-2025-02-15 16:44:20
occugene/-2025-02-15 16:44:23
MultiBaC/-2025-02-15 16:44:21
SGSeq/-2025-02-15 16:44:43
miRNAtap/-2025-02-15 16:44:18
tomoda/-2025-02-15 16:44:51
SplineDV/-2025-02-15 16:44:47
muscat/-2025-02-15 16:44:21
CNEr/-2025-02-15 16:43:47
EpipwR/-2025-02-15 16:43:56
gcrma/-2025-02-15 16:44:00
openCyto/-2025-02-15 16:44:24
cellmigRation/-2025-02-15 16:43:44
dada2/-2025-02-15 16:43:51
satuRn/-2025-02-15 16:44:39
OpenStats/-2025-02-15 16:44:25
KinSwingR/-2025-02-15 16:44:11
EBarrays/-2025-02-15 16:43:55
ANCOMBC/-2025-02-15 16:43:37
lpNet/-2025-02-15 16:44:12
vsclust/-2025-02-15 16:44:55
a4Preproc/-2025-02-15 16:43:35
aroma.light/-2025-02-15 16:43:38
PREDA/-2025-02-15 16:44:29
PolySTest/-2025-02-15 16:44:29
BiocNeighbors/-2025-02-15 16:43:41
OMICsPCA/-2025-02-15 16:44:24
annotationTools/-2025-02-15 16:43:37
MSstatsLiP/-2025-02-15 16:44:20
BiocBook/-2025-02-15 16:43:40
OrganismDbi/-2025-02-15 16:44:25
fdrame/-2025-02-15 16:43:58
Category/-2025-02-15 16:43:44
HMMcopy/-2025-02-15 16:44:07
SingleCellSignalR/-2025-02-15 16:44:44
metabinR/-2025-02-15 16:44:15
ChIPsim/-2025-02-15 16:43:46
qvalue/-2025-02-15 16:44:31
snapcount/-2025-02-15 16:44:45
AMOUNTAIN/-2025-02-15 16:43:37
pogos/-2025-02-15 16:44:29
LOLA/-2025-02-15 16:44:12
biocGraph/-2025-02-15 16:43:41
PhyloProfile/-2025-02-15 16:44:27
rqt/-2025-02-15 16:44:37
CopyNumberPlots/-2025-02-15 16:43:49
ChIPanalyser/-2025-02-15 16:43:45
MMUPHin/-2025-02-15 16:44:18
fgsea/-2025-02-15 16:43:58
epiregulon.extra/-2025-02-15 16:43:56
CellBarcode/-2025-02-15 16:43:44
receptLoss/-2025-02-15 16:44:33
podkat/-2025-02-15 16:44:29
Dino/-2025-02-15 16:43:53
RiboDiPA/-2025-02-15 16:44:35
ExperimentHubData/-2025-02-15 16:43:57
weaver/-2025-02-15 16:44:56
BioCor/-2025-02-15 16:43:41
cliProfiler/-2025-02-15 16:43:46
MLInterfaces/-2025-02-15 16:44:18
rGADEM/-2025-02-15 16:44:35
ctc/-2025-02-15 16:43:50
segmentSeq/-2025-02-15 16:44:42
pvac/-2025-02-15 16:44:30
miRLAB/-2025-02-15 16:44:17
qmtools/-2025-02-15 16:44:31
nearBynding/-2025-02-15 16:44:22
spoon/-2025-02-15 16:44:47
IsoCorrectoRGUI/-2025-02-15 16:44:10
hmdbQuery/-2025-02-15 16:44:07
cicero/-2025-02-15 16:43:46
diffUTR/-2025-02-15 16:43:53
biomaRt/-2025-02-15 16:43:42
genomation/-2025-02-15 16:44:01
RTCA/-2025-02-15 16:44:38
memes/-2025-02-15 16:44:14
mist/-2025-02-15 16:44:18
scDataviz/-2025-02-15 16:44:40
mogsa/-2025-02-15 16:44:18
spiky/-2025-02-15 16:44:46
matter/-2025-02-15 16:44:14
Linnorm/-2025-02-15 16:44:11
alabaster.matrix/-2025-02-15 16:43:36
ChAMP/-2025-02-15 16:43:45
DNAshapeR/-2025-02-15 16:43:54
SimBu/-2025-02-15 16:44:43
ACME/-2025-02-15 16:43:35
affyILM/-2025-02-15 16:43:36
TrIdent/-2025-02-15 16:44:53
phenoTest/-2025-02-15 16:44:27
HDF5Array/-2025-02-15 16:44:06
dyebias/-2025-02-15 16:43:55
geneClassifiers/-2025-02-15 16:44:01
interactiveDisplay/-2025-02-15 16:44:09
glmSparseNet/-2025-02-15 16:44:03
ssrch/-2025-02-15 16:44:47
QuaternaryProd/-2025-02-15 16:44:31
ggtreeExtra/-2025-02-15 16:44:03
magpie/-2025-02-15 16:44:13
ggtreeSpace/-2025-02-15 16:44:03
PathoStat/-2025-02-15 16:44:26
adSplit/-2025-02-15 16:43:36
OLIN/-2025-02-15 16:44:24
enhancerHomologSearch/-2025-02-15 16:43:55
SCOPE/-2025-02-15 16:44:41
KEGGgraph/-2025-02-15 16:44:11
cellxgenedp/-2025-02-15 16:43:45
MEAT/-2025-02-15 16:44:14
gwascat/-2025-02-15 16:44:05
lmdme/-2025-02-15 16:44:12
alabaster.se/-2025-02-15 16:43:37
RadioGx/-2025-02-15 16:44:31
HubPub/-2025-02-15 16:44:07
easier/-2025-02-15 16:43:55
genomes/-2025-02-15 16:44:01
categoryCompare/-2025-02-15 16:43:44
SPEM/-2025-02-15 16:44:46
csdR/-2025-02-15 16:43:50
GEOquery/-2025-02-15 16:44:02
hapFabia/-2025-02-15 16:44:05
SeqGSEA/-2025-02-15 16:44:42
COTAN/-2025-02-15 16:43:49
SOMNiBUS/-2025-02-15 16:44:45
MsDataHub/-2025-02-15 16:44:20
quantiseqr/-2025-02-15 16:44:31
systemPipeTools/-2025-02-15 16:44:49
maaslin3/-2025-02-15 16:44:12
CellScore/-2025-02-15 16:43:44
compSPOT/-2025-02-15 16:43:48
scDesign3/-2025-02-15 16:44:40
AnnotationDbi/-2025-02-15 16:43:37
multicrispr/-2025-02-15 16:44:21
treekoR/-2025-02-15 16:44:53
nipalsMCIA/-2025-02-15 16:44:23
TFEA.ChIP/-2025-02-15 16:44:50
MACSQuantifyR/-2025-02-15 16:44:12
meshr/-2025-02-15 16:44:15
Guitar/-2025-02-15 16:44:05
GSAR/-2025-02-15 16:44:05
scider/-2025-02-15 16:44:40
QuasR/-2025-02-15 16:44:31
widgetTools/-2025-02-15 16:44:56
iCheck/-2025-02-15 16:44:08
alabaster.sce/-2025-02-15 16:43:36
EasyCellType/-2025-02-15 16:43:55
alabaster.spatial/-2025-02-15 16:43:37
EGSEA/-2025-02-15 16:43:55
regionReport/-2025-02-15 16:44:34
Xeva/-2025-02-15 16:44:56
tidyFlowCore/-2025-02-15 16:44:51
srnadiff/-2025-02-15 16:44:47
PADOG/-2025-02-15 16:44:25
treeclimbR/-2025-02-15 16:44:53
ClusterJudge/-2025-02-15 16:43:47
tidysbml/-2025-02-15 16:44:51
msPurity/-2025-02-15 16:44:20
biomvRCNS/-2025-02-15 16:43:42
flowTime/-2025-02-15 16:43:59
iSeq/-2025-02-15 16:44:10
ccImpute/-2025-02-15 16:43:44
Scale4C/-2025-02-15 16:44:39
synergyfinder/-2025-02-15 16:44:49
MsBackendSql/-2025-02-15 16:44:20
esATAC/-2025-02-15 16:43:57
affylmGUI/-2025-02-15 16:43:36
EpiCompare/-2025-02-15 16:43:56
RCM/-2025-02-15 16:44:33
pgxRpi/-2025-02-15 16:44:27
geNetClassifier/-2025-02-15 16:44:01
LinTInd/-2025-02-15 16:44:12
MSstatsQC/-2025-02-15 16:44:21
MOSClip/-2025-02-15 16:44:19
ComplexHeatmap/-2025-02-15 16:43:48
fobitools/-2025-02-15 16:43:59
SigFuge/-2025-02-15 16:44:43
RProtoBufLib/-2025-02-15 16:44:37
methylumi/-2025-02-15 16:44:16
hopach/-2025-02-15 16:44:07
a4Core/-2025-02-15 16:43:35
prebs/-2025-02-15 16:44:29
BeadDataPackR/-2025-02-15 16:43:40
multiWGCNA/-2025-02-15 16:44:21
VisiumIO/-2025-02-15 16:44:55
mistyR/-2025-02-15 16:44:18
ConsensusClusterPlus/-2025-02-15 16:43:48
MeSHDbi/-2025-02-15 16:44:14
QDNAseq/-2025-02-15 16:44:30
epimutacions/-2025-02-15 16:43:56
zlibbioc/-2025-02-15 16:44:57
omicsViewer/-2025-02-15 16:44:24
PhIPData/-2025-02-15 16:44:27
methylSig/-2025-02-15 16:44:16
universalmotif/-2025-02-15 16:44:54
GSEABase/-2025-02-15 16:44:05
AlphaMissenseR/-2025-02-15 16:43:37
AHMassBank/-2025-02-15 16:43:36
PepSetTest/-2025-02-15 16:44:27
isomiRs/-2025-02-15 16:44:10
GeoTcgaData/-2025-02-15 16:44:02
HiCcompare/-2025-02-15 16:44:06
easyreporting/-2025-02-15 16:43:55
isobar/-2025-02-15 16:44:10
Biostrings/-2025-02-15 16:43:42
KCsmart/-2025-02-15 16:44:10
MiChip/-2025-02-15 16:44:17
BAGS/-2025-02-15 16:43:39
TPP/-2025-02-15 16:44:52
MineICA/-2025-02-15 16:44:17
TurboNorm/-2025-02-15 16:44:53
koinar/-2025-02-15 16:44:11
cpvSNP/-2025-02-15 16:43:49
SingleR/-2025-02-15 16:44:44
sccomp/-2025-02-15 16:44:40
InterCellar/-2025-02-15 16:44:09
ropls/-2025-02-15 16:44:37
sitePath/-2025-02-15 16:44:44
DriverNet/-2025-02-15 16:43:54
EpiTxDb/-2025-02-15 16:43:56
SpatialOmicsOverlay/-2025-02-15 16:44:46
mina/-2025-02-15 16:44:17
CMA/-2025-02-15 16:43:47
AMARETTO/-2025-02-15 16:43:37
dcGSA/-2025-02-15 16:43:51
fishpond/-2025-02-15 16:43:58
factR/-2025-02-15 16:43:57
ncdfFlow/-2025-02-15 16:44:22
CRISPRseek/-2025-02-15 16:43:49
flowAI/-2025-02-15 16:43:58
miaViz/-2025-02-15 16:44:17
coseq/-2025-02-15 16:43:49
RLassoCox/-2025-02-15 16:44:36
GRENITS/-2025-02-15 16:44:04
RNAmodR.AlkAnilineSeq/-2025-02-15 16:44:36
RTCGAToolbox/-2025-02-15 16:44:38
TCGAutils/-2025-02-15 16:44:50
NormalyzerDE/-2025-02-15 16:44:23
DMRcate/-2025-02-15 16:43:54
vsn/-2025-02-15 16:44:55
ddPCRclust/-2025-02-15 16:43:51
signifinder/-2025-02-15 16:44:43
consensusDE/-2025-02-15 16:43:48
Rsamtools/-2025-02-15 16:44:37
CNORfeeder/-2025-02-15 16:43:47
RRHO/-2025-02-15 16:44:37
DynDoc/-2025-02-15 16:43:55
edgeR/-2025-02-15 16:43:55
GmicR/-2025-02-15 16:44:03
TFHAZ/-2025-02-15 16:44:50
bettr/-2025-02-15 16:43:40
pengls/-2025-02-15 16:44:27
flowFP/-2025-02-15 16:43:58
bioDist/-2025-02-15 16:43:41
shiny.gosling/-2025-02-15 16:44:43
scTHI/-2025-02-15 16:44:41
sights/-2025-02-15 16:44:43
GeneBreak/-2025-02-15 16:44:00
decontam/-2025-02-15 16:43:51
trio/-2025-02-15 16:44:53
SIMAT/-2025-02-15 16:44:43
methylclock/-2025-02-15 16:44:16
consensus/-2025-02-15 16:43:48
ccrepe/-2025-02-15 16:43:44
TreeAndLeaf/-2025-02-15 16:44:53
DESpace/-2025-02-15 16:43:53
rWikiPathways/-2025-02-15 16:44:38
rfaRm/-2025-02-15 16:44:34
IWTomics/-2025-02-15 16:44:10
DropletUtils/-2025-02-15 16:43:54
DFplyr/-2025-02-15 16:43:53
monaLisa/-2025-02-15 16:44:19
cghMCR/-2025-02-15 16:43:45
BasicSTARRseq/-2025-02-15 16:43:39
Mfuzz/-2025-02-15 16:44:16
ChIPseeker/-2025-02-15 16:43:46
splineTimeR/-2025-02-15 16:44:47
TTMap/-2025-02-15 16:44:53
divergence/-2025-02-15 16:43:54
GenomicSuperSignature/-2025-02-15 16:44:02
ILoReg/-2025-02-15 16:44:08
countsimQC/-2025-02-15 16:43:49
GenomicInteractions/-2025-02-15 16:44:02
PhenoGeneRanker/-2025-02-15 16:44:27
recoup/-2025-02-15 16:44:34
betaHMM/-2025-02-15 16:43:40
PPInfer/-2025-02-15 16:44:29
RUVcorr/-2025-02-15 16:44:38
DeepTarget/-2025-02-15 16:43:52
gDRcore/-2025-02-15 16:44:00
GSRI/-2025-02-15 16:44:05
CoreGx/-2025-02-15 16:43:49
gcatest/-2025-02-15 16:44:00
scTensor/-2025-02-15 16:44:41
sigsquared/-2025-02-15 16:44:43
ppcseq/-2025-02-15 16:44:29
LPE/-2025-02-15 16:44:12
bumphunter/-2025-02-15 16:43:43
VariantTools/-2025-02-15 16:44:55
pipeFrame/-2025-02-15 16:44:28
SIMLR/-2025-02-15 16:44:44
BindingSiteFinder/-2025-02-15 16:43:40
DEGreport/-2025-02-15 16:43:52
ReactomePA/-2025-02-15 16:44:33
DRIMSeq/-2025-02-15 16:43:54
covRNA/-2025-02-15 16:43:49
aCGH/-2025-02-15 16:43:35
TOP/-2025-02-15 16:44:52
RbcBook1/-2025-02-15 16:44:32
gtrellis/-2025-02-15 16:44:05
ClusterSignificance/-2025-02-15 16:43:47
CytoPipelineGUI/-2025-02-15 16:43:51
DuplexDiscovereR/-2025-02-15 16:43:55
GMRP/-2025-02-15 16:44:04
TSCAN/-2025-02-15 16:44:53
BrowserViz/-2025-02-15 16:43:43
omada/-2025-02-15 16:44:24
GeoDiff/-2025-02-15 16:44:02
CNORode/-2025-02-15 16:43:47
PharmacoGx/-2025-02-15 16:44:27
graph/-2025-02-15 16:44:04
MetaboSignal/-2025-02-15 16:44:15
MIRit/-2025-02-15 16:44:17
bluster/-2025-02-15 16:43:42
QuartPAC/-2025-02-15 16:44:31
TSAR/-2025-02-15 16:44:53
EBSEA/-2025-02-15 16:43:55
InTAD/-2025-02-15 16:44:09
PROMISE/-2025-02-15 16:44:30
PureCN/-2025-02-15 16:44:30
scMitoMut/-2025-02-15 16:44:40
MLP/-2025-02-15 16:44:18
ScreenR/-2025-02-15 16:44:41
omicsPrint/-2025-02-15 16:44:24
preciseTAD/-2025-02-15 16:44:29
flowBeads/-2025-02-15 16:43:58
iChip/-2025-02-15 16:44:08
IHW/-2025-02-15 16:44:08
NetActivity/-2025-02-15 16:44:22
BBCAnalyzer/-2025-02-15 16:43:40
ROCpAI/-2025-02-15 16:44:37
visiumStitched/-2025-02-15 16:44:55
scMerge/-2025-02-15 16:44:40
TAPseq/-2025-02-15 16:44:50
GeneNetworkBuilder/-2025-02-15 16:44:01
dir.expiry/-2025-02-15 16:43:53
rTRM/-2025-02-15 16:44:38
epigenomix/-2025-02-15 16:43:56
chimeraviz/-2025-02-15 16:43:45
clst/-2025-02-15 16:43:47
MiRaGE/-2025-02-15 16:44:17
RTopper/-2025-02-15 16:44:38
CytoPipeline/-2025-02-15 16:43:51
GreyListChIP/-2025-02-15 16:44:04
CuratedAtlasQueryR/-2025-02-15 16:43:50
ReactomeContentService4R/-2025-02-15 16:44:33
GladiaTOX/-2025-02-15 16:44:03
MBAmethyl/-2025-02-15 16:44:14
MetID/-2025-02-15 16:44:16
GBScleanR/-2025-02-15 16:44:00
tidyCoverage/-2025-02-15 16:44:50
Heatplus/-2025-02-15 16:44:06
msImpute/-2025-02-15 16:44:20
hdxmsqc/-2025-02-15 16:44:06
UniProt.ws/-2025-02-15 16:44:54
mpra/-2025-02-15 16:44:19
CGEN/-2025-02-15 16:43:45
GraphAT/-2025-02-15 16:44:04
MEDME/-2025-02-15 16:44:14
DMRcaller/-2025-02-15 16:43:54
msmsTests/-2025-02-15 16:44:20
SwathXtend/-2025-02-15 16:44:49
INDEED/-2025-02-15 16:44:09
BiocSingular/-2025-02-15 16:43:41
ERSSA/-2025-02-15 16:43:57
Oscope/-2025-02-15 16:44:25
magrene/-2025-02-15 16:44:13
primirTSS/-2025-02-15 16:44:29
coMET/-2025-02-15 16:43:48
omicRexposome/-2025-02-15 16:44:24
BERT/-2025-02-15 16:43:40
epiregulon/-2025-02-15 16:43:56
LoomExperiment/-2025-02-15 16:44:12
pepXMLTab/-2025-02-15 16:44:27
miRNAmeConverter/-2025-02-15 16:44:17
openPrimeR/-2025-02-15 16:44:24
matchBox/-2025-02-15 16:44:13
gpls/-2025-02-15 16:44:04
fCI/-2025-02-15 16:43:57
ASSET/-2025-02-15 16:43:38
MSstatsShiny/-2025-02-15 16:44:21
seqArchRplus/-2025-02-15 16:44:42
MSstats/-2025-02-15 16:44:20
triplex/-2025-02-15 16:44:53
cosmosR/-2025-02-15 16:43:49
TBSignatureProfiler/-2025-02-15 16:44:50
BSgenome/-2025-02-15 16:43:43
MuData/-2025-02-15 16:44:21
riboSeqR/-2025-02-15 16:44:35
DegCre/-2025-02-15 16:43:52
scmap/-2025-02-15 16:44:40
bioCancer/-2025-02-15 16:43:40
crisprScore/-2025-02-15 16:43:49
EpiDISH/-2025-02-15 16:43:56
ROTS/-2025-02-15 16:44:37
rgsepd/-2025-02-15 16:44:35
maSigPro/-2025-02-15 16:44:13
chihaya/-2025-02-15 16:43:45
SAIGEgds/-2025-02-15 16:44:38
MsBackendMsp/-2025-02-15 16:44:20
CausalR/-2025-02-15 16:43:44
Structstrings/-2025-02-15 16:44:48
OSAT/-2025-02-15 16:44:25
sparrow/-2025-02-15 16:44:45
SQLDataFrame/-2025-02-15 16:44:47
gemma.R/-2025-02-15 16:44:00
SEtools/-2025-02-15 16:44:42
cancerclass/-2025-02-15 16:43:43
decoupleR/-2025-02-15 16:43:52
lipidr/-2025-02-15 16:44:12
ExpressionAtlas/-2025-02-15 16:43:57
copa/-2025-02-15 16:43:49
goSorensen/-2025-02-15 16:44:04
DiffLogo/-2025-02-15 16:43:53
edge/-2025-02-15 16:43:55
OmnipathR/-2025-02-15 16:44:24
musicatk/-2025-02-15 16:44:21
IntramiRExploreR/-2025-02-15 16:44:09
miRspongeR/-2025-02-15 16:44:18
Organism.dplyr/-2025-02-15 16:44:25
qsvaR/-2025-02-15 16:44:31
amplican/-2025-02-15 16:43:37
GGPA/-2025-02-15 16:44:03
IdeoViz/-2025-02-15 16:44:08
TargetScore/-2025-02-15 16:44:50
RBioFormats/-2025-02-15 16:44:32
ReactomeGraph4R/-2025-02-15 16:44:33
mspms/-2025-02-15 16:44:20
scRecover/-2025-02-15 16:44:41
odseq/-2025-02-15 16:44:23
Melissa/-2025-02-15 16:44:14
vulcan/-2025-02-15 16:44:55
CHETAH/-2025-02-15 16:43:45
DExMA/-2025-02-15 16:43:53
GEOsubmission/-2025-02-15 16:44:02
ACE/-2025-02-15 16:43:35
factDesign/-2025-02-15 16:43:57
simona/-2025-02-15 16:44:44
statTarget/-2025-02-15 16:44:48
MouseFM/-2025-02-15 16:44:19
scran/-2025-02-15 16:44:41
MSstatsBig/-2025-02-15 16:44:20
flowGate/-2025-02-15 16:43:58
veloviz/-2025-02-15 16:44:55
REDseq/-2025-02-15 16:44:34
scuttle/-2025-02-15 16:44:41
Anaquin/-2025-02-15 16:43:37
ribosomeProfilingQC/-2025-02-15 16:44:35
MethPed/-2025-02-15 16:44:15
ggtree/-2025-02-15 16:44:03
SpectraQL/-2025-02-15 16:44:46
ROntoTools/-2025-02-15 16:44:37
Polytect/-2025-02-15 16:44:29
DMCHMM/-2025-02-15 16:43:54
bnem/-2025-02-15 16:43:42
TIN/-2025-02-15 16:44:51
scPipe/-2025-02-15 16:44:41
shinyMethyl/-2025-02-15 16:44:43
ChIPseqR/-2025-02-15 16:43:46
tkWidgets/-2025-02-15 16:44:51
supersigs/-2025-02-15 16:44:48
Macarron/-2025-02-15 16:44:12
CGHbase/-2025-02-15 16:43:45
metapone/-2025-02-15 16:44:15
DEP/-2025-02-15 16:43:52
seqLogo/-2025-02-15 16:44:42
flowVS/-2025-02-15 16:43:59
ExiMiR/-2025-02-15 16:43:57
GEM/-2025-02-15 16:44:00
MEIGOR/-2025-02-15 16:44:14
agilp/-2025-02-15 16:43:36
EnMCB/-2025-02-15 16:43:56
TnT/-2025-02-15 16:44:51
MesKit/-2025-02-15 16:44:15
GenomicScores/-2025-02-15 16:44:02
TCseq/-2025-02-15 16:44:50
SomaticSignatures/-2025-02-15 16:44:45
nullranges/-2025-02-15 16:44:23
pathRender/-2025-02-15 16:44:26
iGC/-2025-02-15 16:44:08
spatialDE/-2025-02-15 16:44:46
MAST/-2025-02-15 16:44:13
ggseqalign/-2025-02-15 16:44:03
CrispRVariants/-2025-02-15 16:43:50
monocle/-2025-02-15 16:44:19
MotifDb/-2025-02-15 16:44:19
hipathia/-2025-02-15 16:44:07
yamss/-2025-02-15 16:44:56
scifer/-2025-02-15 16:44:40
mastR/-2025-02-15 16:44:13
motifbreakR/-2025-02-15 16:44:19
HGC/-2025-02-15 16:44:06
GateFinder/-2025-02-15 16:44:00
roar/-2025-02-15 16:44:36
Rfastp/-2025-02-15 16:44:34
BloodGen3Module/-2025-02-15 16:43:42
mariner/-2025-02-15 16:44:13
RCSL/-2025-02-15 16:44:33
affyio/-2025-02-15 16:43:36
Rnits/-2025-02-15 16:44:36
chopsticks/-2025-02-15 16:43:46
RnBeads/-2025-02-15 16:44:36
screenCounter/-2025-02-15 16:44:41
customProDB/-2025-02-15 16:43:50
SCANVIS/-2025-02-15 16:44:39
MsQuality/-2025-02-15 16:44:20
MOMA/-2025-02-15 16:44:19
borealis/-2025-02-15 16:43:42
VERSO/-2025-02-15 16:44:55
motifcounter/-2025-02-15 16:44:19
evaluomeR/-2025-02-15 16:43:57
Maaslin2/-2025-02-15 16:44:12
rCGH/-2025-02-15 16:44:33
DCATS/-2025-02-15 16:43:51
iSEEhub/-2025-02-15 16:44:10
fgga/-2025-02-15 16:43:58
PIPETS/-2025-02-15 16:44:28
flowSpecs/-2025-02-15 16:43:59
PhosR/-2025-02-15 16:44:27
systemPipeShiny/-2025-02-15 16:44:49
fenr/-2025-02-15 16:43:58
Cogito/-2025-02-15 16:43:48
RNAmodR/-2025-02-15 16:44:36
treeio/-2025-02-15 16:44:53
VennDetail/-2025-02-15 16:44:55
made4/-2025-02-15 16:44:13
COMPASS/-2025-02-15 16:43:48
MSstatsTMT/-2025-02-15 16:44:21
VariantFiltering/-2025-02-15 16:44:54
eisaR/-2025-02-15 16:43:55
doubletrouble/-2025-02-15 16:43:54
clstutils/-2025-02-15 16:43:47
immunotation/-2025-02-15 16:44:08
methylCC/-2025-02-15 16:44:16
VCFArray/-2025-02-15 16:44:55
lineagespot/-2025-02-15 16:44:11
yarn/-2025-02-15 16:44:56
PoDCall/-2025-02-15 16:44:28
RedisParam/-2025-02-15 16:44:34
aggregateBioVar/-2025-02-15 16:43:36
GeomxTools/-2025-02-15 16:44:02
MsBackendMgf/-2025-02-15 16:44:20
SNAGEE/-2025-02-15 16:44:45
multiHiCcompare/-2025-02-15 16:44:21
S4Arrays/-2025-02-15 16:44:38
pandaR/-2025-02-15 16:44:26
DNABarcodeCompatibility/-2025-02-15 16:43:54
sagenhaft/-2025-02-15 16:44:38
transformGamPoi/-2025-02-15 16:44:52
RegEnrich/-2025-02-15 16:44:34
abseqR/-2025-02-15 16:43:35
graper/-2025-02-15 16:44:04
gCrisprTools/-2025-02-15 16:44:00
rnaseqcomp/-2025-02-15 16:44:36
rsemmed/-2025-02-15 16:44:37
metabCombiner/-2025-02-15 16:44:15
igvR/-2025-02-15 16:44:08
Rhtslib/-2025-02-15 16:44:35
alabaster/-2025-02-15 16:43:36
missMethyl/-2025-02-15 16:44:18
methylscaper/-2025-02-15 16:44:16
GenVisR/-2025-02-15 16:44:02
Rbowtie/-2025-02-15 16:44:32
censcyt/-2025-02-15 16:43:45
ProtGenerics/-2025-02-15 16:44:30
CelliD/-2025-02-15 16:43:44
ALDEx2/-2025-02-15 16:43:37
MGFM/-2025-02-15 16:44:16
CSAR/-2025-02-15 16:43:50
rain/-2025-02-15 16:44:32
SynMut/-2025-02-15 16:44:49
regutools/-2025-02-15 16:44:34
MetaboCoreUtils/-2025-02-15 16:44:15
UCell/-2025-02-15 16:44:54
derfinderPlot/-2025-02-15 16:43:53
weitrix/-2025-02-15 16:44:56
DSS/-2025-02-15 16:43:54
GenomicOZone/-2025-02-15 16:44:02
pageRank/-2025-02-15 16:44:25
peakPantheR/-2025-02-15 16:44:27
wavClusteR/-2025-02-15 16:44:55
ggsc/-2025-02-15 16:44:03
rnaEditr/-2025-02-15 16:44:36
panp/-2025-02-15 16:44:26
plyxp/-2025-02-15 16:44:28
MungeSumstats/-2025-02-15 16:44:21
mumosa/-2025-02-15 16:44:21
BEclear/-2025-02-15 16:43:40
TFutils/-2025-02-15 16:44:50
meshes/-2025-02-15 16:44:14
spatialHeatmap/-2025-02-15 16:44:46
Dune/-2025-02-15 16:43:55
EDIRquery/-2025-02-15 16:43:55
metaseqR2/-2025-02-15 16:44:15
gINTomics/-2025-02-15 16:44:03
S4Vectors/-2025-02-15 16:44:38
Rmmquant/-2025-02-15 16:44:36
recount3/-2025-02-15 16:44:34
PROPS/-2025-02-15 16:44:30
scMultiSim/-2025-02-15 16:44:40
seqPattern/-2025-02-15 16:44:42
ensembldb/-2025-02-15 16:43:56
Cardinal/-2025-02-15 16:43:43
MicrobiomeProfiler/-2025-02-15 16:44:17
LiquidAssociation/-2025-02-15 16:44:12
ramwas/-2025-02-15 16:44:32
rols/-2025-02-15 16:44:37
katdetectr/-2025-02-15 16:44:10
PeacoQC/-2025-02-15 16:44:26
SplicingGraphs/-2025-02-15 16:44:47
Director/-2025-02-15 16:43:53
kmcut/-2025-02-15 16:44:11
plyinteractions/-2025-02-15 16:44:28
bugsigdbr/-2025-02-15 16:43:43
Doscheda/-2025-02-15 16:43:54
mdqc/-2025-02-15 16:44:14
proDA/-2025-02-15 16:44:29
tripr/-2025-02-15 16:44:53
TOAST/-2025-02-15 16:44:51
orthogene/-2025-02-15 16:44:25
ProteoDisco/-2025-02-15 16:44:30
microbiome/-2025-02-15 16:44:17
OVESEG/-2025-02-15 16:44:25
GWENA/-2025-02-15 16:44:05
TEKRABber/-2025-02-15 16:44:50
CNORfuzzy/-2025-02-15 16:43:47
clustifyr/-2025-02-15 16:43:47
GenomicDataCommons/-2025-02-15 16:44:01
FuseSOM/-2025-02-15 16:43:59
fastreeR/-2025-02-15 16:43:57
LimROTS/-2025-02-15 16:44:11
sevenC/-2025-02-15 16:44:43
scatterHatch/-2025-02-15 16:44:39
GOfuncR/-2025-02-15 16:44:04
rrvgo/-2025-02-15 16:44:37
SGCP/-2025-02-15 16:44:43
ChIPpeakAnno/-2025-02-15 16:43:46
Rqc/-2025-02-15 16:44:37
ssPATHS/-2025-02-15 16:44:47
lumi/-2025-02-15 16:44:12
AWFisher/-2025-02-15 16:43:39
msmsEDA/-2025-02-15 16:44:20
iSEEindex/-2025-02-15 16:44:10
AffyRNADegradation/-2025-02-15 16:43:36
biocViews/-2025-02-15 16:43:41
splatter/-2025-02-15 16:44:47
diffGeneAnalysis/-2025-02-15 16:43:53
clustComp/-2025-02-15 16:43:47
affycoretools/-2025-02-15 16:43:36
scmeth/-2025-02-15 16:44:40
fabia/-2025-02-15 16:43:57
CytoDx/-2025-02-15 16:43:50
TargetDecoy/-2025-02-15 16:44:50
TRONCO/-2025-02-15 16:44:53
BgeeDB/-2025-02-15 16:43:40
cliqueMS/-2025-02-15 16:43:46
ipdDb/-2025-02-15 16:44:09
dmrseq/-2025-02-15 16:43:54
SpotClean/-2025-02-15 16:44:47
RLMM/-2025-02-15 16:44:36
iterativeBMA/-2025-02-15 16:44:10
unifiedWMWqPCR/-2025-02-15 16:44:54
MethReg/-2025-02-15 16:44:16
netresponse/-2025-02-15 16:44:22
nnSVG/-2025-02-15 16:44:23
procoil/-2025-02-15 16:44:29
lefser/-2025-02-15 16:44:11
CellMixS/-2025-02-15 16:43:44
BEARscc/-2025-02-15 16:43:40
RCAS/-2025-02-15 16:44:32
PROPER/-2025-02-15 16:44:30
Motif2Site/-2025-02-15 16:44:19
rSWeeP/-2025-02-15 16:44:38
rhinotypeR/-2025-02-15 16:44:35
TRESS/-2025-02-15 16:44:53
dittoSeq/-2025-02-15 16:43:54
GPA/-2025-02-15 16:44:04
InteractionSet/-2025-02-15 16:44:09
arrayQualityMetrics/-2025-02-15 16:43:38
viper/-2025-02-15 16:44:55
alabaster.base/-2025-02-15 16:43:36
IsoBayes/-2025-02-15 16:44:10
Prostar/-2025-02-15 16:44:30
biodbNci/-2025-02-15 16:43:41
ramr/-2025-02-15 16:44:32
AnVILBase/-2025-02-15 16:43:38
qcmetrics/-2025-02-15 16:44:30
RcisTarget/-2025-02-15 16:44:33
MsFeatures/-2025-02-15 16:44:20
scTGIF/-2025-02-15 16:44:41
epivizrStandalone/-2025-02-15 16:43:56
flowDensity/-2025-02-15 16:43:58
ChIPComp/-2025-02-15 16:43:45
SpacePAC/-2025-02-15 16:44:45
PING/-2025-02-15 16:44:28
target/-2025-02-15 16:44:50
RareVariantVis/-2025-02-15 16:44:32
gypsum/-2025-02-15 16:44:05
EnrichedHeatmap/-2025-02-15 16:43:56
flowPlots/-2025-02-15 16:43:59
BioTIP/-2025-02-15 16:43:42
OCplus/-2025-02-15 16:44:23
ARRmNormalization/-2025-02-15 16:43:38
metagene2/-2025-02-15 16:44:15
ChIPQC/-2025-02-15 16:43:46
OGRE/-2025-02-15 16:44:24
MPAC/-2025-02-15 16:44:19
nucleoSim/-2025-02-15 16:44:23
mbQTL/-2025-02-15 16:44:14
miQC/-2025-02-15 16:44:17
scMET/-2025-02-15 16:44:40
DIAlignR/-2025-02-15 16:43:53
covEB/-2025-02-15 16:43:49
GEOfastq/-2025-02-15 16:44:02
skewr/-2025-02-15 16:44:44
HPiP/-2025-02-15 16:44:07
clusterStab/-2025-02-15 16:43:47
AnVILPublish/-2025-02-15 16:43:38
CCPlotR/-2025-02-15 16:43:44
GSgalgoR/-2025-02-15 16:44:05
NOISeq/-2025-02-15 16:44:23
CellTrails/-2025-02-15 16:43:45
HuBMAPR/-2025-02-15 16:44:07
IONiseR/-2025-02-15 16:44:09
BiocParallel/-2025-02-15 16:43:41
GOexpress/-2025-02-15 16:44:04
MLSeq/-2025-02-15 16:44:18
rebook/-2025-02-15 16:44:33
MWASTools/-2025-02-15 16:44:22
RAREsim/-2025-02-15 16:44:32
synapter/-2025-02-15 16:44:49
piano/-2025-02-15 16:44:28
RNAsense/-2025-02-15 16:44:36
CRImage/-2025-02-15 16:43:49
frenchFISH/-2025-02-15 16:43:59
SPIAT/-2025-02-15 16:44:46
xcms/-2025-02-15 16:44:56
miloR/-2025-02-15 16:44:17
EmpiricalBrownsMethod/-2025-02-15 16:43:55
cardelino/-2025-02-15 16:43:43
vidger/-2025-02-15 16:44:55
distinct/-2025-02-15 16:43:53
Path2PPI/-2025-02-15 16:44:26
psichomics/-2025-02-15 16:44:30
MOSim/-2025-02-15 16:44:19
arrayQuality/-2025-02-15 16:43:38
BayesKnockdown/-2025-02-15 16:43:39
RSeqAn/-2025-02-15 16:44:37
clevRvis/-2025-02-15 16:43:46
geomeTriD/-2025-02-15 16:44:02
mobileRNA/-2025-02-15 16:44:18
rfPred/-2025-02-15 16:44:35
SCArray/-2025-02-15 16:44:39
ggtreeDendro/-2025-02-15 16:44:03
RTN/-2025-02-15 16:44:38
MSA2dist/-2025-02-15 16:44:19
SLqPCR/-2025-02-15 16:44:44
PAA/-2025-02-15 16:44:25
GraphAlignment/-2025-02-15 16:44:04
YAPSA/-2025-02-15 16:44:56
sevenbridges/-2025-02-15 16:44:43
lionessR/-2025-02-15 16:44:12
FindIT2/-2025-02-15 16:43:58
BiocStyle/-2025-02-15 16:43:41
animalcules/-2025-02-15 16:43:37
BufferedMatrix/-2025-02-15 16:43:43
Banksy/-2025-02-15 16:43:39
RBM/-2025-02-15 16:44:32
minfi/-2025-02-15 16:44:17
QFeatures/-2025-02-15 16:44:31
svaRetro/-2025-02-15 16:44:49
omicade4/-2025-02-15 16:44:24
flowPeaks/-2025-02-15 16:43:59
snifter/-2025-02-15 16:44:45
projectR/-2025-02-15 16:44:29
BioQC/-2025-02-15 16:43:42
PSMatch/-2025-02-15 16:44:30
iSEEfier/-2025-02-15 16:44:10
tRNAscanImport/-2025-02-15 16:44:53
sesame/-2025-02-15 16:44:42
tidybulk/-2025-02-15 16:44:50
SPIA/-2025-02-15 16:44:46
ChromHeatMap/-2025-02-15 16:43:46
CiteFuse/-2025-02-15 16:43:46
karyoploteR/-2025-02-15 16:44:10
AgiMicroRna/-2025-02-15 16:43:36
parody/-2025-02-15 16:44:26
tidySpatialExperiment/-2025-02-15 16:44:51
GeneExpressionSignature/-2025-02-15 16:44:01
loci2path/-2025-02-15 16:44:12
broadSeq/-2025-02-15 16:43:43
AlphaBeta/-2025-02-15 16:43:37
heatmaps/-2025-02-15 16:44:06
qpgraph/-2025-02-15 16:44:31
NanoStringDiff/-2025-02-15 16:44:22
acde/-2025-02-15 16:43:35
tximeta/-2025-02-15 16:44:54
pvca/-2025-02-15 16:44:30
brendaDb/-2025-02-15 16:43:42
deconvR/-2025-02-15 16:43:52
deltaGseg/-2025-02-15 16:43:52
hypeR/-2025-02-15 16:44:07
banocc/-2025-02-15 16:43:39
raer/-2025-02-15 16:44:31
eudysbiome/-2025-02-15 16:43:57
RTNduals/-2025-02-15 16:44:38
RPA/-2025-02-15 16:44:37
IMMAN/-2025-02-15 16:44:08
Rsubread/-2025-02-15 16:44:37
ClustIRR/-2025-02-15 16:43:47
flowCut/-2025-02-15 16:43:58
NADfinder/-2025-02-15 16:44:22
mosaics/-2025-02-15 16:44:19
TMixClust/-2025-02-15 16:44:51
cogeqc/-2025-02-15 16:43:48
PanomiR/-2025-02-15 16:44:26
levi/-2025-02-15 16:44:11
fmrs/-2025-02-15 16:43:59
GeneStructureTools/-2025-02-15 16:44:01
limma/-2025-02-15 16:44:11
VplotR/-2025-02-15 16:44:55
mgsa/-2025-02-15 16:44:16
goTools/-2025-02-15 16:44:04
Rmagpie/-2025-02-15 16:44:36
skipped-index.dcf0 B2025-02-15 16:38:21
DEVEL3b.png2.6 KiB2025-02-15 16:38:22
Renviron.bioc3.3 KiB2025-02-15 16:38:22
report.js6.0 KiB2025-02-15 16:38:22
kjohnson3-NodeInfo.html6.7 KiB2025-02-15 16:38:22
lconway-NodeInfo.html6.8 KiB2025-02-15 16:38:22
nebbiolo1-NodeInfo.html6.9 KiB2025-02-15 16:38:22
120px-Red_Light_Icon.svg.png7.0 KiB2025-02-15 16:38:22
palomino7-NodeInfo.html7.0 KiB2025-02-15 16:38:22
120px-Green_Light_Icon.svg.png7.1 KiB2025-02-15 16:38:22
120px-Blue_Light_Icon.svg.png7.1 KiB2025-02-15 16:38:22
kunpeng2-NodeInfo.html7.7 KiB2025-01-30 18:08:43
report.css11.0 KiB2025-02-15 16:38:22
meat-index.dcf236.2 KiB2025-02-15 16:38:21
pkg_dep_graph.txt376.9 KiB2025-02-15 16:38:21
palomino7-R-instpkgs.html460.6 KiB2025-02-15 16:38:22
nebbiolo1-R-instpkgs.html517.3 KiB2025-02-15 16:38:22
kunpeng2-R-instpkgs.html531.9 KiB2025-01-30 18:08:43
kjohnson3-R-instpkgs.html591.5 KiB2025-02-15 16:38:22
lconway-R-instpkgs.html602.1 KiB2025-02-15 16:38:22
PROPAGATION_STATUS_DB.txt690.9 KiB2025-02-15 16:38:21
BUILD_STATUS_DB.txt1.0 MiB2025-02-15 16:38:21
index.html1.3 MiB2025-02-15 16:45:12
kunpeng2-index.html2.0 MiB2025-01-30 18:13:52
nebbiolo1-index.html2.9 MiB2025-02-15 16:44:58
lconway-index.html3.3 MiB2025-02-15 16:45:06
palomino7-index.html3.3 MiB2025-02-15 16:45:01
kjohnson3-index.html3.3 MiB2025-02-15 16:45:11
long-report.html14.0 MiB2025-02-15 16:45:26
report.tgz91.0 MiB2025-02-15 16:46:45