Switch to long report

Multiple platform build/check report for BioC 3.22

This page was generated on 2025-04-28 12:13 -0400 (Mon, 28 Apr 2025).

Approx. Package Snapshot Date/Time (git pull): 2025-04-27 13:00 -0400 (Sun, 27 Apr 2025)
See this page for all the Bioconductor builds and their schedule.

Package status is indicated by one of the following glyphs
  TIMEOUT  
INSTALL, BUILD, CHECK or BUILD BIN of package took more than 40 minutes
  ERROR  
Bad DESCRIPTION file, or INSTALL, BUILD or BUILD BIN of package failed, or CHECK produced errors
  WARNINGS  
CHECK of package produced warnings
  OK  
INSTALL, BUILD, CHECK and BUILD BIN of package went OK
  NA  
INSTALL, BUILD, CHECK or BUILD BIN result is not available because of an anomaly in the Build System
Click on any glyph in the report below to access the detailed report.
A
ABCDEFGHIJKLMNOPQRSTUVWXYZ
PackageMaintainerINSTALL/BUILD/CHECK
1/2302a4 1.57.0  (landing page)Laure Cougnaud  OK  
2/2302a4Base 1.57.0  (landing page)Laure Cougnaud  OK  
3/2302a4Classif 1.57.0  (landing page)Laure Cougnaud  OK  
4/2302a4Core 1.57.0  (landing page)Laure Cougnaud  OK  
5/2302a4Preproc 1.57.0  (landing page)Laure Cougnaud  OK  
6/2302a4Reporting 1.57.0  (landing page)Laure Cougnaud  OK  
7/2302ABarray 1.77.0  (landing page)Yongming Andrew Sun  OK  
8/2302abseqR 1.27.0  (landing page)JiaHong Fong  OK  
9/2302ABSSeq 1.63.0  (landing page)Wentao Yang  OK  
10/2302acde 1.39.0  (landing page)Juan Pablo Acosta  OK  
11/2302ACE 1.27.0  (landing page)Jos B Poell  OK  
12/2302aCGH 1.87.0  (landing page)Peter Dimitrov  OK  
13/2302ACME 2.65.0  (landing page)Sean Davis  ERROR  
14/2302ADaCGH2 2.49.0  (landing page)Ramon Diaz-Uriarte  OK  
15/2302ADAM 1.25.0  (landing page)Jose Luiz Rybarczyk Filho  OK  
16/2302ADAMgui 1.25.0  (landing page)Jose Luiz Rybarczyk Filho  OK  
17/2302ADAPT 1.3.0  (landing page)Mukai Wang  ERROR  
18/2302adductomicsR 1.25.0  (landing page)Josie Hayes  WARNINGS  
19/2302ADImpute 1.19.0  (landing page)Ana Carolina Leote  WARNINGS  
20/2302adSplit 1.79.0  (landing page)Claudio Lottaz  ERROR  
21/2302adverSCarial 1.7.0  (landing page)Ghislain FIEVET  WARNINGS  
22/2302AffiXcan 1.27.0  (landing page)Alessandro Lussana  OK  
23/2302affxparser 1.81.0  (landing page)Kasper Daniel Hansen  ERROR  
24/2302affy 1.87.0  (landing page)Robert D. Shear  WARNINGS  
25/2302affycomp 1.85.0  (landing page)Robert D. Shear  OK  
26/2302affyContam 1.67.0  (landing page)V. Carey  OK  
27/2302affycoretools 1.81.0  (landing page)James W. MacDonald  OK  
28/2302affyILM 1.61.0  (landing page)Myriam Kroll and Fabrice Berger  OK  
29/2302affyio 1.79.0  (landing page)Ben Bolstad  WARNINGS  
30/2302affylmGUI 1.83.0  (landing page)Gordon Smyth  OK  
31/2302affyPLM 1.85.0  (landing page)Ben Bolstad  WARNINGS  
32/2302AffyRNADegradation 1.55.0  (landing page)Mario Fasold  OK  
33/2302AGDEX 1.57.0  (landing page)Cuilan lani Gao  OK  
34/2302aggregateBioVar 1.19.0  (landing page)Jason Ratcliff  OK  
35/2302agilp 3.41.0  (landing page)Benny Chain  OK  
36/2302AgiMicroRna 2.59.0  (landing page)Pedro Lopez-Romero  WARNINGS  
37/2302AHMassBank 1.9.0  (landing page)Johannes Rainer  OK  
38/2302AIMS 1.41.0  (landing page)Eric R Paquet  OK  
39/2302airpart 1.17.0  (landing page)Wancen Mu  OK  
40/2302alabaster 1.9.0  (landing page)Aaron Lun  OK  
41/2302alabaster.base 1.9.0  (landing page)Aaron Lun  WARNINGS  
42/2302alabaster.bumpy 1.9.0  (landing page)Aaron Lun  OK  
43/2302alabaster.files 1.7.0  (landing page)Aaron Lun  OK  
44/2302alabaster.mae 1.9.0  (landing page)Aaron Lun  OK  
45/2302alabaster.matrix 1.9.0  (landing page)Aaron Lun  OK  
46/2302alabaster.ranges 1.9.0  (landing page)Aaron Lun  OK  
47/2302alabaster.sce 1.9.0  (landing page)Aaron Lun  OK  
48/2302alabaster.schemas 1.9.0  (landing page)Aaron Lun  OK  
49/2302alabaster.se 1.9.0  (landing page)Aaron Lun  OK  
50/2302alabaster.sfe 1.1.0  (landing page)Lambda Moses  ERROR  
51/2302alabaster.spatial 1.9.0  (landing page)Aaron Lun  OK  
52/2302alabaster.string 1.9.0  (landing page)Aaron Lun  OK  
53/2302alabaster.vcf 1.9.0  (landing page)Aaron Lun  OK  
54/2302ALDEx2 1.41.0  (landing page)Greg Gloor  OK  
55/2302alevinQC 1.25.0  (landing page)Charlotte Soneson  OK  
56/2302AllelicImbalance 1.47.0  (landing page)Jesper R Gadin  OK  
57/2302AlphaBeta 1.23.0  (landing page)Yadollah Shahryary Dizaji  OK  
58/2302AlphaMissenseR 1.5.0  (landing page)Martin Morgan  OK  
59/2302AlpsNMR 4.11.0  (landing page)Sergio Oller Moreno  ERROR  
60/2302altcdfenvs 2.71.0  (landing page)Laurent Gautier  OK  
61/2302AMARETTO 1.25.0  (landing page)Olivier Gevaert  WARNINGS  
62/2302AMOUNTAIN 1.35.0  (landing page)Dong Li  OK  
63/2302amplican 1.31.0  (landing page)Eivind Valen  OK  
64/2302Anaquin 2.33.0  (landing page)Ted Wong  OK  
65/2302ANCOMBC 2.11.0  (landing page)Huang Lin  OK  
66/2302ANF 1.31.0  (landing page)Tianle Ma  OK  
67/2302animalcules 1.25.0  (landing page)Jessica McClintock  OK  
68/2302annaffy 1.81.0  (landing page)Colin A. Smith  WARNINGS  
69/2302annmap 1.51.0  (landing page)Chris Wirth  WARNINGS  
70/2302annotate 1.87.0  (landing page)Bioconductor Package Maintainer  ERROR  
71/2302AnnotationDbi 1.71.0  (landing page)Bioconductor Package Maintainer  OK  
72/2302AnnotationFilter 1.33.0  (landing page)Bioconductor Package Maintainer  OK  
73/2302AnnotationForge 1.51.0  (landing page)Bioconductor Package Maintainer  OK  
74/2302AnnotationHub 3.99.0  (landing page)Bioconductor Package Maintainer  OK  
75/2302AnnotationHubData 1.39.1  (landing page)Bioconductor Package Maintainer  WARNINGS  
76/2302annotationTools 1.83.0  (landing page)Alexandre Kuhn  OK  
77/2302annotatr 1.35.0  (landing page)Raymond G. Cavalcante  OK  
78/2302anota 1.57.0  (landing page)Ola Larsson  OK  
79/2302anota2seq 1.31.0  (landing page)Christian Oertlin , Ola Larsson  WARNINGS  
80/2302antiProfiles 1.49.0  (landing page)Hector Corrada Bravo  OK  
81/2302AnVIL 1.21.0  (landing page)Marcel Ramos  OK  
82/2302AnVILAz 1.3.0  (landing page)Marcel Ramos  OK  
83/2302AnVILBase 1.3.0  (landing page)Marcel Ramos  OK  
84/2302AnVILBilling 1.19.0  (landing page)Vince Carey  OK  
85/2302AnVILGCP 1.3.0  (landing page)Marcel Ramos  OK  
86/2302AnVILPublish 1.19.0  (landing page)Marcel Ramos  OK  
87/2302AnVILWorkflow 1.9.0  (landing page)Sehyun Oh  OK  
88/2302APAlyzer 1.23.0  (landing page)Ruijia Wang  ERROR  
89/2302apComplex 2.75.0  (landing page)Denise Scholtens  OK  
90/2302apeglm 1.31.0  (landing page)Anqi Zhu  WARNINGS  
91/2302APL 1.13.0  (landing page)Clemens Kohl  OK  
92/2302appreci8R 1.27.0  (landing page)Sarah Sandmann  OK  
93/2302aroma.light 3.39.0  (landing page)Henrik Bengtsson  OK  
94/2302ArrayExpress 1.69.0  (landing page)Jose Marugan  ERROR  
95/2302arrayMvout 1.67.0  (landing page)V. Carey  OK  
96/2302arrayQuality 1.87.0  (landing page)Agnes Paquet  WARNINGS  
97/2302arrayQualityMetrics 3.65.0  (landing page)Mike Smith  OK  
98/2302ARRmNormalization 1.49.0  (landing page)Jean-Philippe Fortin  OK  
99/2302artMS 1.27.0  (landing page)David Jimenez-Morales  OK  
100/2302ASAFE 1.35.0  (landing page)Qian Zhang  OK  
101/2302ASEB 1.53.0  (landing page)Likun Wang  WARNINGS  
102/2302ASGSCA 1.43.0  (landing page)Hela Romdhani  OK  
103/2302ASICS 2.25.0  (landing page)Gaëlle Lefort  WARNINGS  
104/2302ASpli 2.19.0  (landing page)Ariel Chernomoretz  WARNINGS  
105/2302AssessORF 1.27.0  (landing page)Deepank Korandla  OK  
106/2302ASSET 2.27.0  (landing page)Samsiddhi Bhattacharjee  OK  
107/2302ASSIGN 1.45.0  (landing page)Ying Shen , W. Evan Johnson  OK  
108/2302assorthead 1.3.0  (landing page)Aaron Lun  OK  
109/2302ASURAT 1.13.0  (landing page)Keita Iida  ERROR  
110/2302ATACseqQC 1.33.0  (landing page)Jianhong Ou  ERROR  
111/2302ATACseqTFEA 1.11.0  (landing page)Jianhong Ou  OK  
112/2302atena 1.15.0  (landing page)Robert Castelo  OK  
113/2302atSNP 1.25.0  (landing page)Sunyoung Shin  OK  
114/2302attract 1.61.0  (landing page)Samuel Zimmerman  OK  
115/2302AUCell 1.31.0  (landing page)Gert Hulselmans  OK  
116/2302autonomics 1.17.0  (landing page)Aditya Bhagwat  OK  
117/2302AWFisher 1.23.0  (landing page)Zhiguang Huo  OK  
118/2302awst 1.17.0  (landing page)Davide Risso  OK  
B
ABCDEFGHIJKLMNOPQRSTUVWXYZ
PackageMaintainerINSTALL/BUILD/CHECK
119/2302BaalChIP 1.35.0  (landing page)Ines de Santiago  WARNINGS  
120/2302bacon 1.37.0  (landing page)Maarten van Iterson  OK  
121/2302BADER 1.47.0  (landing page)Andreas Neudecker  OK  
122/2302BadRegionFinder 1.37.0  (landing page)Sarah Sandmann  OK  
123/2302BAGS 2.49.0  (landing page)Alejandro Quiroz-Zarate  OK  
124/2302ballgown 2.41.0  (landing page)Jack Fu  OK  
125/2302bambu 3.11.0  (landing page)Ying Chen  OK  
126/2302bamsignals 1.41.0  (landing page)Johannes Helmuth  ERROR  
127/2302BANDITS 1.25.0  (landing page)Simone Tiberi  TIMEOUT  
128/2302bandle 1.13.0  (landing page)Oliver M. Crook  WARNINGS  
129/2302Banksy 1.5.0  (landing page)Joseph Lee  OK  
130/2302banocc 1.33.0  (landing page)George Weingart  ERROR  
131/2302barbieQ 1.1.2  (landing page)Liyang Fei  OK  
132/2302barcodetrackR 1.17.0  (landing page)Diego Alexander Espinoza  OK  
133/2302basecallQC 1.33.0  (landing page)Thomas Carroll  OK  
134/2302BaseSpaceR 1.53.0  (landing page)Jared O'Connell  WARNINGS  
135/2302Basic4Cseq 1.45.0  (landing page)Carolin Walter  OK  
136/2302BASiCS 2.21.0  (landing page)Catalina Vallejos  WARNINGS  
137/2302BASiCStan 1.11.0  (landing page)Alan O'Callaghan  WARNINGS  
138/2302BasicSTARRseq 1.37.0  (landing page)Annika Buerger  OK  
139/2302basilisk 1.21.0  (landing page)Aaron Lun  OK  
140/2302basilisk.utils 1.21.0  (landing page)Aaron Lun  OK  
141/2302batchelor 1.25.0  (landing page)Aaron Lun  OK  
142/2302BatchQC 2.5.0  (landing page)Jessica Anderson  OK  
143/2302BatchSVG 1.1.0  (landing page)Christine Hou  OK  
144/2302BayesKnockdown 1.35.0  (landing page)William Chad Young  OK  
145/2302BayesSpace 1.19.0  (landing page)Matt Stone  ERROR  
146/2302bayNorm 1.27.0  (landing page)Wenhao Tang  OK  
147/2302baySeq 2.43.0  (landing page)Samuel Granjeaud  OK  
148/2302BBCAnalyzer 1.39.0  (landing page)Sarah Sandmann  WARNINGS  
149/2302BCRANK 1.71.0  (landing page)Adam Ameur  OK  
150/2302bcSeq 1.31.0  (landing page)Jiaxing Lin  ERROR  
151/2302beachmat 2.25.0  (landing page)Aaron Lun  WARNINGS  
152/2302beachmat.hdf5 1.7.0  (landing page)Aaron Lun  WARNINGS  
153/2302beachmat.tiledb 1.1.0  (landing page)Aaron Lun  ERROR  
154/2302beadarray 2.59.0  (landing page)Mark Dunning  ERROR  
155/2302BeadDataPackR 1.61.0  (landing page)Mike Smith  OK  
156/2302BEAT 1.47.0  (landing page)Kemal Akman  OK  
157/2302BEclear 2.25.0  (landing page)Livia Rasp  OK  
158/2302bedbaser 1.1.0  (landing page)Andres Wokaty  ERROR  
159/2302beer 1.13.0  (landing page)Athena Chen  ERROR  
160/2302benchdamic 1.15.2  (landing page)Matteo Calgaro  ERROR  
161/2302BERT 1.5.0  (landing page)Yannis Schumann  OK  
162/2302betaHMM 1.5.0  (landing page)Koyel Majumdar  ERROR  
163/2302bettr 1.5.0  (landing page)Charlotte Soneson  OK  
164/2302BG2 1.9.0  (landing page)Jacob Williams  OK  
165/2302BgeeCall 1.25.0  (landing page)Julien Wollbrett  OK  
166/2302BgeeDB 2.35.0  (landing page)Julien Wollbrett , Julien Roux , Andrea Komljenovic , Frederic Bastian  ERROR  
167/2302bgx 1.75.0  (landing page)Ernest Turro  ERROR  
168/2302BicARE 1.67.0  (landing page)Pierre Gestraud  OK  
169/2302BiFET 1.29.0  (landing page)Ahrim Youn  OK  
170/2302BiGGR 1.45.0  (landing page)Anand K. Gavai  ERROR  
171/2302bigmelon 1.35.0  (landing page)Leonard C. Schalkwyk  WARNINGS  
172/2302BindingSiteFinder 2.7.0  (landing page)Mirko Brüggemann  ERROR  
173/2302bioassayR 1.47.0  (landing page)Thomas Girke  ERROR  
174/2302Biobase 2.69.0  (landing page)Bioconductor Package Maintainer  OK  
175/2302biobroom 1.41.0  (landing page)John D. Storey and Andrew J. Bass  WARNINGS  
176/2302biobtreeR 1.21.0  (landing page)Tamer Gur  ERROR  
177/2302bioCancer 1.37.0  (landing page)Karim Mezhoud  OK  
178/2302BioCartaImage 1.7.0  (landing page)Zuguang Gu  OK  
179/2302BiocBaseUtils 1.11.0  (landing page)Marcel Ramos  OK  
180/2302BiocBook 1.7.0  (landing page)Jacques Serizay  ERROR  
181/2302BiocCheck 1.45.2  (landing page)Marcel Ramos  ERROR  
182/2302BiocFHIR 1.11.0  (landing page)Vincent Carey  OK  
183/2302BiocFileCache 2.99.0  (landing page)Lori Shepherd  OK  
184/2302BiocGenerics 0.55.0  (landing page)Hervé Pagès  WARNINGS  
185/2302biocGraph 1.71.0  (landing page)Florian Hahne  OK  
186/2302BiocHail 1.9.0  (landing page)Vincent Carey  ERROR  
187/2302BiocHubsShiny 1.9.0  (landing page)Marcel Ramos  OK  
188/2302BiocIO 1.19.0  (landing page)Marcel Ramos  OK  
189/2302biocmake 1.1.0  (landing page)Aaron Lun  OK  
190/2302BiocNeighbors 2.3.0  (landing page)Aaron Lun  WARNINGS  
191/2302BioCor 1.33.0  (landing page)Lluís Revilla Sancho  ERROR  
192/2302BiocParallel 1.43.0  (landing page)Martin Morgan  ERROR  
193/2302BiocPkgTools 1.27.2  (landing page)Sean Davis  ERROR  
194/2302biocroxytest 1.5.0  (landing page)Francesc Catala-Moll  OK  
195/2302BiocSet 1.23.0  (landing page)Kayla Morrell  ERROR  
196/2302BiocSingular 1.25.0  (landing page)Aaron Lun  WARNINGS  
197/2302BiocSklearn 1.31.0  (landing page)Vince Carey  OK  
198/2302BiocStyle 2.37.0  (landing page)Bioconductor Package Maintainer  OK  
199/2302biocthis 1.19.0  (landing page)Leonardo Collado-Torres  OK  
200/2302BiocVersion 3.22.0  (landing page)Bioconductor Package Maintainer  OK  
201/2302biocViews 1.77.0  (landing page)Bioconductor Package Maintainer  OK  
202/2302BiocWorkflowTools 1.35.0  (landing page)Mike Smith  OK  
203/2302biodb 1.17.0  (landing page)Pierrick Roger  WARNINGS  
204/2302biodbChebi 1.15.0  (landing page)Pierrick Roger  OK  
205/2302biodbHmdb 1.15.0  (landing page)Pierrick Roger  ERROR  
206/2302biodbNcbi 1.13.0  (landing page)Pierrick Roger  OK  
207/2302biodbNci 1.13.0  (landing page)Pierrick Roger  OK  
208/2302biodbUniprot 1.15.0  (landing page)Pierrick Roger  OK  
209/2302bioDist 1.81.0  (landing page)Bioconductor Package Maintainer  OK  
210/2302BioGA 1.3.0  (landing page)Dany Mukesha  OK  
211/2302biomaRt 2.65.0  (landing page)Mike Smith  OK  
212/2302biomformat 1.37.0  (landing page)Paul J. McMurdie  OK  
213/2302BioMVCClass 1.77.0  (landing page)Elizabeth Whalen  OK  
214/2302biomvRCNS 1.49.0  (landing page)Yang Du  ERROR  
215/2302BioNAR 1.11.0  (landing page)Anatoly Sorokin  OK  
216/2302BioNERO 1.17.0  (landing page)Fabricio Almeida-Silva  ERROR  
217/2302BioNet 1.69.0  (landing page)Marcus Dittrich  OK  
218/2302BioQC 1.37.0  (landing page)Jitao David Zhang  OK  
219/2302biosigner 1.37.0  (landing page)Etienne A. Thevenot  ERROR  
220/2302Biostrings 2.77.0  (landing page)Hervé Pagès  ERROR  
221/2302BioTIP 1.23.0  (landing page)Yuxi (Jennifer) Sun , Zhezhen Wang , and X Holly Yang  WARNINGS  
222/2302biotmle 1.33.0  (landing page)Nima Hejazi  OK  
223/2302biovizBase 1.57.0  (landing page)Michael Lawrence  WARNINGS  
224/2302BiRewire 3.41.0  (landing page)Andrea Gobbi  WARNINGS  
225/2302biscuiteer 1.23.0  (landing page)Jacob Morrison  WARNINGS  
226/2302BiSeq 1.49.0  (landing page)Katja Hebestreit  WARNINGS  
227/2302blacksheepr 1.23.0  (landing page)RugglesLab  OK  
228/2302blima 1.43.0  (landing page)Vojtěch Kulvait  OK  
229/2302BLMA 1.33.0  (landing page)Van-Dung Pham  OK  
230/2302BloodGen3Module 1.17.0  (landing page)Darawan Rinchai  WARNINGS  
231/2302bluster 1.19.0  (landing page)Aaron Lun  ERROR  
232/2302bnbc 1.31.0  (landing page)Kipper Fletez-Brant  OK  
233/2302bnem 1.17.0  (landing page)Martin Pirkl  OK  
234/2302BOBaFIT 1.13.0  (landing page)Gaia Mazzocchetti  WARNINGS  
235/2302borealis 1.13.0  (landing page)Garrett Jenkinson  OK  
236/2302BPRMeth 1.35.0  (landing page)Chantriolnt-Andreas Kapourani  OK  
237/2302BRAIN 1.55.0  (landing page)Piotr Dittwald  WARNINGS  
238/2302branchpointer 1.35.0  (landing page)Beth Signal  OK  
239/2302breakpointR 1.27.0  (landing page)David Porubsky  OK  
240/2302BreastSubtypeR 1.1.0  (landing page)Qiao Yang  OK  
241/2302brendaDb 1.23.0  (landing page)Yi Zhou  OK  
242/2302BREW3R.r 1.5.0  (landing page)Lucille Lopez-Delisle  OK  
243/2302BridgeDbR 2.19.0  (landing page)Egon Willighagen  OK  
244/2302broadSeq 1.3.0  (landing page)Rishi Das Roy  OK  
245/2302BrowserViz 2.31.0  (landing page)Arkadiusz Gladki  OK  
246/2302BSgenome 1.77.0  (landing page)Hervé Pagès  ERROR  
247/2302BSgenomeForge 1.9.0  (landing page)Hervé Pagès  ERROR  
248/2302bsseq 1.45.0  (landing page)Kasper Daniel Hansen  ERROR  
249/2302BubbleTree 2.39.0  (landing page)Todd Creasy , Wei Zhu  OK  
250/2302BufferedMatrix 1.73.0  (landing page)Ben Bolstad  WARNINGS  
251/2302BufferedMatrixMethods 1.73.0  (landing page)Ben Bolstad  OK  
252/2302bugsigdbr 1.15.2  (landing page)Ludwig Geistlinger  OK  
253/2302BulkSignalR 1.1.0  (landing page)Jean-Philippe Villemin  ERROR  
254/2302BUMHMM 1.33.0  (landing page)Alina Selega  OK  
255/2302bumphunter 1.51.0  (landing page)Tamilselvi Guharaj  OK  
256/2302BumpyMatrix 1.17.0  (landing page)Aaron Lun  OK  
257/2302BUS 1.65.0  (landing page)Yuanhua Liu  OK  
258/2302BUScorrect 1.27.0  (landing page)Xiangyu Luo  OK  
259/2302BUSpaRse 1.23.0  (landing page)Lambda Moses  ERROR  
260/2302BUSseq 1.15.0  (landing page)Fangda Song  OK  
C
ABCDEFGHIJKLMNOPQRSTUVWXYZ
PackageMaintainerINSTALL/BUILD/CHECK
261/2302CaDrA 1.7.0  (landing page)Reina Chau  OK  
262/2302CAEN 1.17.0  (landing page)Zhou Yan  OK  
263/2302CAFE 1.45.0  (landing page)Sander Bollen  WARNINGS  
264/2302CAGEfightR 1.29.0  (landing page)Malte Thodberg  OK  
265/2302cageminer 1.15.0  (landing page)Fabrício Almeida-Silva  OK  
266/2302CAGEr 2.15.0  (landing page)Charles Plessy  ERROR  
267/2302calm 1.23.0  (landing page)Kun Liang  OK  
268/2302CAMERA 1.65.0  (landing page)Steffen Neumann  ERROR  
269/2302CaMutQC 1.5.0  (landing page)Xin Wang  ERROR  
270/2302canceR 1.43.0  (landing page)Karim Mezhoud  WARNINGS  
271/2302cancerclass 1.53.0  (landing page)Daniel Kosztyla  WARNINGS  
272/2302cardelino 1.11.0  (landing page)Davis McCarthy  ERROR  
273/2302Cardinal 3.11.0  (landing page)Kylie Ariel Bemis  OK  
274/2302CardinalIO 1.7.0  (landing page)Kylie Ariel Bemis  OK  
275/2302CARDspa 1.1.0  (landing page)Jing Fu  OK  
276/2302CARNIVAL 2.19.0  (landing page)Attila Gabor  OK  
277/2302casper 2.43.0  (landing page)David Rossell  ERROR  
278/2302CATALYST 1.33.0  (landing page)Helena L. Crowell  ERROR  
279/2302Category 2.75.0  (landing page)Bioconductor Package Maintainer  ERROR  
280/2302categoryCompare 1.53.0  (landing page)Robert M. Flight  ERROR  
281/2302CatsCradle 1.3.0  (landing page)Michael Shapiro  OK  
282/2302CausalR 1.41.0  (landing page)Glyn Bradley , Steven Barrett  OK  
283/2302cbaf 1.31.0  (landing page)Arman Shahrisa  OK  
284/2302cBioPortalData 2.21.0  (landing page)Marcel Ramos  OK  
285/2302CBNplot 1.9.0  (landing page)Noriaki Sato  OK  
286/2302cbpManager 1.17.0  (landing page)Arsenij Ustjanzew  WARNINGS  
287/2302CCAFE 1.1.0  (landing page)Hayley Wolff  OK  
288/2302ccfindR 1.29.0  (landing page)Jun Woo  ERROR  
289/2302ccImpute 1.11.0  (landing page)Marcin Malec  WARNINGS  
290/2302ccmap 1.35.0  (landing page)Alex Pickering  ERROR  
291/2302CCPlotR 1.7.0  (landing page)Sarah Ennis  OK  
292/2302CCPROMISE 1.35.0  (landing page)Xueyuan Cao  WARNINGS  
293/2302ccrepe 1.45.0  (landing page)Emma Schwager ,Craig Bielski, George Weingart  OK  
294/2302CDI 1.7.0  (landing page)Jiyuan Fang  OK  
295/2302celaref 1.27.0  (landing page)Sarah Williams  OK  
296/2302celda 1.25.0  (landing page)Joshua Campbell  WARNINGS  
297/2302CellBarcode 1.15.0  (landing page)Wenjie Sun  OK  
298/2302cellbaseR 1.33.0  (landing page)Mohammed OE Abdallah  OK  
299/2302CellBench 1.25.0  (landing page)Shian Su  OK  
300/2302CelliD 1.17.0  (landing page)Akira Cortal  WARNINGS  
301/2302cellity 1.37.0  (landing page)Tomislav Ilicic  OK  
302/2302CellMapper 1.35.0  (landing page)Brad Nelms  WARNINGS  
303/2302cellmigRation 1.17.0  (landing page)Waldir Leoncio  OK  
304/2302CellMixS 1.25.0  (landing page)Almut Lütge  OK  
305/2302CellNOptR 1.55.0  (landing page)Attila Gabor  OK  
306/2302cellscape 1.33.0  (landing page)Shixiang Wang  OK  
307/2302CellScore 1.29.0  (landing page)Nancy Mah  ERROR  
308/2302CellTrails 1.27.0  (landing page)Daniel Ellwanger  OK  
309/2302cellxgenedp 1.13.0  (landing page)Martin Morgan  OK  
310/2302CEMiTool 1.33.0  (landing page)Helder Nakaya  OK  
311/2302censcyt 1.17.0  (landing page)Reto Gerber  OK  
312/2302Cepo 1.15.0  (landing page)Hani Jieun Kim  OK  
313/2302ceRNAnetsim 1.21.0  (landing page)Selcen Ari Yuka  OK  
314/2302CeTF 1.21.0  (landing page)Carlos Alberto Oliveira de Biagi Junior  ERROR  
315/2302CexoR 1.47.0  (landing page)Pedro Madrigal  OK  
316/2302CFAssay 1.43.0  (landing page)Herbert Braselmann  OK  
317/2302cfdnakit 1.7.0  (landing page)Pitithat Puranachot  OK  
318/2302cfDNAPro 1.15.0  (landing page)Haichao Wang  WARNINGS  
319/2302cfTools 1.9.0  (landing page)Ran Hu  ERROR  
320/2302CGEN 3.45.0  (landing page)Justin Lee  ERROR  
321/2302CGHbase 1.69.0  (landing page)Mark van de Wiel  OK  
322/2302CGHcall 2.71.0  (landing page)Mark van de Wiel  WARNINGS  
323/2302cghMCR 1.67.0  (landing page)J. Zhang  WARNINGS  
324/2302CGHnormaliter 1.63.0  (landing page)Bart P.P. van Houte  OK  
325/2302CGHregions 1.67.0  (landing page)Sjoerd Vosse  OK  
326/2302ChAMP 2.39.0  (landing page)Yuan Tian  WARNINGS  
327/2302ChemmineOB 1.47.0  (landing page)Thomas Girke  ERROR  
328/2302ChemmineR 3.61.0  (landing page)Thomas Girke  WARNINGS  
329/2302CHETAH 1.25.0  (landing page)Jurrian de Kanter  OK  
330/2302chevreulPlot 1.1.0  (landing page)Kevin Stachelek  OK  
331/2302chevreulProcess 1.1.0  (landing page)Kevin Stachelek  OK  
332/2302chevreulShiny 1.1.0  (landing page)Kevin Stachelek  OK  
333/2302Chicago 1.37.0  (landing page)Mikhail Spivakov  OK  
334/2302chihaya 1.9.0  (landing page)Aaron Lun  WARNINGS  
335/2302chimeraviz 1.35.0  (landing page)Stian Lågstad  OK  
336/2302ChIPanalyser 1.31.0  (landing page)Patrick C.N. Martin  OK  
337/2302ChIPComp 1.39.0  (landing page)Li Chen  OK  
338/2302chipenrich 2.33.0  (landing page)Kai Wang  OK  
339/2302ChIPexoQual 1.33.0  (landing page)Rene Welch  OK  
340/2302ChIPpeakAnno 3.43.0  (landing page)Jianhong Ou  OK  
341/2302ChIPQC 1.45.0  (landing page)Tom Carroll , Rory Stark  OK  
342/2302ChIPseeker 1.45.0  (landing page)Guangchuang Yu  OK  
343/2302chipseq 1.59.0  (landing page)Bioconductor Package Maintainer  WARNINGS  
344/2302ChIPseqR 1.63.0  (landing page)Peter Humburg  ERROR  
345/2302ChIPsim 1.63.0  (landing page)Peter Humburg  ERROR  
346/2302ChIPXpress 1.53.0  (landing page)George Wu  OK  
347/2302chopsticks 1.75.0  (landing page)Hin-Tak Leung  ERROR  
348/2302chromDraw 2.39.0  (landing page)Jan Janecka  ERROR  
349/2302ChromHeatMap 1.63.0  (landing page)Tim F. Rayner  OK  
350/2302chromPlot 1.37.0  (landing page)Karen Y. Orostica  WARNINGS  
351/2302ChromSCape 1.19.0  (landing page)Pacome Prompsy  ERROR  
352/2302chromVAR 1.31.0  (landing page)Alicia Schep  OK  
353/2302CHRONOS 1.37.0  (landing page)Panos Balomenos  ERROR  
354/2302cicero 1.27.0  (landing page)Hannah Pliner  OK  
355/2302CIMICE 1.17.0  (landing page)Nicolò Rossi  ERROR  
356/2302CINdex 1.37.0  (landing page)Yuriy Gusev  ERROR  
357/2302circRNAprofiler 1.23.0  (landing page)Simona Aufiero  ERROR  
358/2302CircSeqAlignTk 1.11.0  (landing page)Jianqiang Sun  ERROR  
359/2302cisPath 1.49.0  (landing page)Likun Wang  ERROR  
360/2302CiteFuse 1.21.0  (landing page)Yingxin Lin  OK  
361/2302ClassifyR 3.13.0  (landing page)Dario Strbenac  WARNINGS  
362/2302cleanUpdTSeq 1.47.0  (landing page)Jianhong Ou ; Lihua Julie Zhu  WARNINGS  
363/2302CleanUpRNAseq 1.3.0  (landing page)Haibo Liu  OK  
364/2302cleaver 1.47.0  (landing page)Sebastian Gibb  OK  
365/2302clevRvis 1.9.0  (landing page)Sarah Sandmann  OK  
366/2302clippda 1.59.0  (landing page)Stephen Nyangoma  OK  
367/2302clipper 1.49.0  (landing page)Paolo Martini  OK  
368/2302cliProfiler 1.15.0  (landing page)You Zhou  ERROR  
369/2302cliqueMS 1.23.0  (landing page)Oriol Senan Campos  ERROR  
370/2302Clomial 1.45.0  (landing page)Habil Zare  OK  
371/2302clst 1.57.0  (landing page)Noah Hoffman  WARNINGS  
372/2302clstutils 1.57.0  (landing page)Noah Hoffman  WARNINGS  
373/2302CluMSID 1.25.0  (landing page)Tobias Depke  ERROR  
374/2302ClustAll 1.5.0  (landing page)Asier Ortega-Legarreta  OK  
375/2302clustComp 1.37.0  (landing page)Aurora Torrente  OK  
376/2302clusterExperiment 2.29.0  (landing page)Elizabeth Purdom  ERROR  
377/2302ClusterFoldSimilarity 1.5.0  (landing page)Oscar Gonzalez-Velasco  TIMEOUT  
378/2302ClusterJudge 1.31.0  (landing page)Adrian Pasculescu  OK  
379/2302clusterProfiler 4.17.0  (landing page)Guangchuang Yu  OK  
380/2302clusterSeq 1.33.0  (landing page)Samuel Granjeaud  OK  
381/2302ClusterSignificance 1.37.0  (landing page)Jason T Serviss  OK  
382/2302clusterStab 1.81.0  (landing page)James W. MacDonald  OK  
383/2302clustifyr 1.21.0  (landing page)Rui Fu  OK  
384/2302ClustIRR 1.7.1  (landing page)Simo Kitanovski  WARNINGS  
385/2302clustSIGNAL 1.1.0  (landing page)Pratibha Panwar  OK  
386/2302CMA 1.67.0  (landing page)Roman Hornung  OK  
387/2302cmapR 1.21.0  (landing page)Ted Natoli  OK  
388/2302cn.farms 1.57.0  (landing page)Andreas Mitterecker  ERROR  
389/2302cn.mops 1.55.0  (landing page)Gundula Povysil  OK  
390/2302CNAnorm 1.55.0  (landing page)Stefano Berri  OK  
391/2302CNEr 1.45.0  (landing page)Ge Tan  ERROR  
392/2302CNORdt 1.51.0  (landing page)A. MacNamara  OK  
393/2302CNORfeeder 1.49.0  (landing page)Attila Gabor  WARNINGS  
394/2302CNORfuzzy 1.51.0  (landing page)T. Cokelaer  OK  
395/2302CNORode 1.51.0  (landing page)Attila Gabor  WARNINGS  
396/2302CNTools 1.65.0  (landing page)J. Zhang  OK  
397/2302CNVfilteR 1.23.0  (landing page)Jose Marcos Moreno-Cabrera  ERROR  
398/2302cnvGSA 1.53.0  (landing page)Joseph Lugo  OK  
399/2302CNViz 1.17.0  (landing page)Rebecca Greenblatt  ERROR  
400/2302CNVMetrics 1.13.0  (landing page)Astrid Deschênes  OK  
401/2302CNVPanelizer 1.41.0  (landing page)Thomas Wolf  OK  
402/2302CNVRanger 1.25.0  (landing page)Ludwig Geistlinger  ERROR  
403/2302CNVrd2 1.47.0  (landing page)Hoang Tan Nguyen  ERROR  
404/2302CoCiteStats 1.81.0  (landing page)Bioconductor Package Maintainer  OK  
405/2302COCOA 2.23.0  (landing page)John Lawson  OK  
406/2302codelink 1.77.0  (landing page)Diego Diez  OK  
407/2302CODEX 1.41.0  (landing page)Yuchao Jiang  ERROR  
408/2302CoGAPS 3.29.0  (landing page)Elana J. Fertig  OK  
409/2302cogena 1.43.0  (landing page)Zhilong Jia  WARNINGS  
410/2302cogeqc 1.13.0  (landing page)Fabrício Almeida-Silva  OK  
411/2302Cogito 1.15.0  (landing page)Annika Bürger  OK  
412/2302coGPS 1.53.0  (landing page)Yingying Wei  OK  
413/2302cola 2.15.0  (landing page)Zuguang Gu  OK  
414/2302comapr 1.13.0  (landing page)Ruqian Lyu  OK  
415/2302combi 1.21.0  (landing page)Stijn Hawinkel  OK  
416/2302coMethDMR 1.13.0  (landing page)Fernanda Veitzman  WARNINGS  
417/2302COMPASS 1.47.0  (landing page)Greg Finak  OK  
418/2302compcodeR 1.45.0  (landing page)Charlotte Soneson  OK  
419/2302compEpiTools 1.43.0  (landing page)Mattia Furlan  OK  
420/2302ComplexHeatmap 2.25.0  (landing page)Zuguang Gu  OK  
421/2302CompoundDb 1.13.0  (landing page)Johannes Rainer  OK  
422/2302ComPrAn 1.17.0  (landing page)Petra Palenikova  OK  
423/2302compSPOT 1.7.0  (landing page)Sydney Grant  OK  
424/2302concordexR 1.9.0  (landing page)Kayla Jackson  ERROR  
425/2302condiments 1.17.0  (landing page)Hector Roux de Bezieux  OK  
426/2302CONFESS 1.37.0  (landing page)Diana LOW  WARNINGS  
427/2302consensus 1.27.0  (landing page)Tim Peters  OK  
428/2302ConsensusClusterPlus 1.73.0  (landing page)Matt Wilkerson  OK  
429/2302consensusDE 1.27.0  (landing page)Ashley J. Waardenberg  OK  
430/2302consensusOV 1.31.0  (landing page)Benjamin Haibe-Kains  OK  
431/2302consensusSeekeR 1.37.0  (landing page)Astrid Deschênes  OK  
432/2302consICA 2.7.0  (landing page)Petr V. Nazarov  OK  
433/2302CONSTANd 1.17.0  (landing page)Dirk Valkenborg  OK  
434/2302conumee 1.43.0  (landing page)Volker Hovestadt  OK  
435/2302convert 1.85.0  (landing page)Yee Hwa (Jean) Yang  OK  
436/2302copa 1.77.0  (landing page)James W. MacDonald  OK  
437/2302CopyNumberPlots 1.25.0  (landing page)Bernat Gel  ERROR  
438/2302coRdon 1.27.0  (landing page)Anamaria Elek  OK  
439/2302CoreGx 2.13.0  (landing page)Benjamin Haibe-Kains  OK  
440/2302Cormotif 1.55.0  (landing page)Yingying Wei  OK  
441/2302corral 1.19.0  (landing page)Lauren Hsu  OK  
442/2302coseq 1.33.0  (landing page)Andrea Rau  OK  
443/2302CoSIA 1.9.0  (landing page)Amanda D. Clark  OK  
444/2302cosmiq 1.43.0  (landing page)David Fischer  ERROR  
445/2302cosmosR 1.17.0  (landing page)Attila Gabor  ERROR  
446/2302COSNet 1.43.0  (landing page)Marco Frasca  WARNINGS  
447/2302COTAN 2.9.1  (landing page)Galfrè Silvia Giulia  ERROR  
448/2302countsimQC 1.27.0  (landing page)Charlotte Soneson  OK  
449/2302covEB 1.35.0  (landing page)C. Pacini  OK  
450/2302CoverageView 1.47.0  (landing page)Ernesto Lowy  WARNINGS  
451/2302covRNA 1.35.0  (landing page)Lara Urban  OK  
452/2302CPSM 1.1.1  (landing page)Harpreet Kaur  OK  
453/2302cpvSNP 1.41.0  (landing page)Caitlin McHugh  OK  
454/2302cqn 1.55.0  (landing page)Kasper Daniel Hansen  OK  
455/2302CRImage 1.57.0  (landing page)Henrik Failmezger , Yinyin Yuan  OK  
456/2302CRISPRball 1.5.0  (landing page)Jared Andrews  OK  
457/2302crisprBase 1.13.0  (landing page)Jean-Philippe Fortin  OK  
458/2302crisprBowtie 1.13.0  (landing page)Jean-Philippe Fortin  OK  
459/2302crisprBwa 1.13.0  (landing page)Jean-Philippe Fortin  OK  
460/2302crisprDesign 1.11.0  (landing page)Jean-Philippe Fortin  ERROR  
461/2302crisprScore 1.13.0  (landing page)Jean-Philippe Fortin  OK  
462/2302CRISPRseek 1.49.0  (landing page)Lihua Julie Zhu  ERROR  
463/2302crisprShiny 1.5.0  (landing page)Jean-Philippe Fortin  OK  
464/2302CrispRVariants 1.37.0  (landing page)Helen Lindsay  WARNINGS  
465/2302crisprVerse 1.11.0  (landing page)Jean-Philippe Fortin  OK  
466/2302crisprViz 1.11.0  (landing page)Jean-Philippe Fortin  OK  
467/2302crlmm 1.67.0  (landing page)Benilton S Carvalho  ERROR  
468/2302crumblr 1.1.0  (landing page)Gabriel Hoffman  ERROR  
469/2302crupR 1.1.0  (landing page)Persia Akbari Omgba  ERROR  
470/2302CSAR 1.61.0  (landing page)Jose M Muino  OK  
471/2302csaw 1.43.0  (landing page)Aaron Lun  WARNINGS  
472/2302csdR 1.15.0  (landing page)Jakob Peder Pettersen  OK  
473/2302CSSQ 1.21.0  (landing page)Fan Lab at Georgia Institute of Technology  OK  
474/2302ctc 1.83.0  (landing page)Antoine Lucas  OK  
475/2302CTdata 1.9.0  (landing page)Laurent Gatto  OK  
476/2302CTDquerier 2.17.0  (landing page)Xavier Escribà-Montagut  WARNINGS  
477/2302CTexploreR 1.5.0  (landing page)Axelle Loriot  OK  
478/2302cTRAP 1.27.0  (landing page)Nuno Saraiva-Agostinho  ERROR  
479/2302ctsGE 1.35.0  (landing page)Michal Sharabi-Schwager  OK  
480/2302CTSV 1.11.0  (landing page)Jinge Yu Developer  OK  
481/2302cummeRbund 2.51.0  (landing page)Loyal A. Goff  WARNINGS  
482/2302CuratedAtlasQueryR 1.7.0  (landing page)Stefano Mangiola  OK  
483/2302customCMPdb 1.19.0  (landing page)Yuzhu Duan  ERROR  
484/2302customProDB 1.49.0  (landing page)Xiaojing Wang  WARNINGS  
485/2302cyanoFilter 1.17.0  (landing page)Oluwafemi Olusoji  OK  
486/2302cycle 1.63.0  (landing page)Matthias Futschik  OK  
487/2302cydar 1.33.0  (landing page)Aaron Lun  OK  
488/2302cypress 1.5.0  (landing page)Shilin Yu  OK  
489/2302CytoDx 1.29.0  (landing page)Zicheng Hu  OK  
490/2302CyTOFpower 1.15.0  (landing page)Anne-Maud Ferreira  ERROR  
491/2302cytofQC 1.9.0  (landing page)Jill Lundell  OK  
492/2302CytoGLMM 1.17.0  (landing page)Christof Seiler  OK  
493/2302cytoKernel 1.15.0  (landing page)Tusharkanti Ghosh  OK  
494/2302cytolib 2.21.0  (landing page)Mike Jiang  WARNINGS  
495/2302cytomapper 1.21.0  (landing page)Lasse Meyer  WARNINGS  
496/2302CytoMDS 1.5.0  (landing page)Philippe Hauchamps  OK  
497/2302cytoMEM 1.13.0  (landing page)Jonathan Irish  OK  
498/2302CytoML 2.21.0  (landing page)Mike Jiang  ERROR  
499/2302CytoPipeline 1.9.0  (landing page)Philippe Hauchamps  OK  
500/2302CytoPipelineGUI 1.7.0  (landing page)Philippe Hauchamps  OK  
501/2302cytoviewer 1.9.0  (landing page)Lasse Meyer  OK  
D
ABCDEFGHIJKLMNOPQRSTUVWXYZ
PackageMaintainerINSTALL/BUILD/CHECK
502/2302dada2 1.37.0  (landing page)Benjamin Callahan  ERROR  
503/2302dagLogo 1.47.0  (landing page)Jianhong Ou  OK  
504/2302daMA 1.81.0  (landing page)Jobst Landgrebe  OK  
505/2302DAMEfinder 1.21.0  (landing page)Stephany Orjuela  OK  
506/2302DaMiRseq 2.21.0  (landing page)Mattia Chiesa  OK  
507/2302Damsel 1.5.0  (landing page)Caitlin Page  OK  
508/2302dandelionR 1.1.0  (landing page)Kelvin Tuong  OK  
509/2302DAPAR 1.41.0  (landing page)Samuel Wieczorek  OK  
510/2302dar 1.5.0  (landing page)Francesc Catala-Moll  OK  
511/2302DART 1.57.0  (landing page)Charles Shijie Zheng  OK  
512/2302dcanr 1.25.0  (landing page)Dharmesh D. Bhuva  OK  
513/2302DCATS 1.7.0  (landing page)Xinyi Lin  OK  
514/2302dcGSA 1.37.0  (landing page)Jiehuan sun  WARNINGS  
515/2302ddCt 1.65.0  (landing page)Jitao David Zhang  WARNINGS  
516/2302ddPCRclust 1.29.0  (landing page)Benedikt G. Brink  OK  
517/2302dearseq 1.21.0  (landing page)Boris P. Hejblum  OK  
518/2302debCAM 1.27.0  (landing page)Lulu Chen  OK  
519/2302debrowser 1.37.0  (landing page)Alper Kucukural  OK  
520/2302DECIPHER 3.5.0  (landing page)Erik Wright  OK  
521/2302decompTumor2Sig 2.25.0  (landing page)Rosario M. Piro  TIMEOUT  
522/2302DeconRNASeq 1.51.0  (landing page)Ting Gong  OK  
523/2302decontam 1.29.0  (landing page)Benjamin Callahan  OK  
524/2302decontX 1.7.0  (landing page)Joshua Campbell  WARNINGS  
525/2302DeconvoBuddies 1.1.0  (landing page)Louise Huuki-Myers  OK  
526/2302deconvR 1.15.0  (landing page)Irem B. Gündüz  OK  
527/2302decoupleR 2.15.0  (landing page)Pau Badia-i-Mompel  ERROR  
528/2302DeepPINCS 1.17.0  (landing page)Dongmin Jung  ERROR  
529/2302deepSNV 1.55.0  (landing page)Moritz Gerstung  OK  
530/2302DeepTarget 1.3.0  (landing page)Trinh Nguyen  OK  
531/2302DEFormats 1.37.0  (landing page)Andrzej Oleś  OK  
532/2302DegCre 1.5.0  (landing page)Brian S. Roberts  OK  
533/2302DegNorm 1.19.0  (landing page)Ji-Ping Wang  OK  
534/2302DEGraph 1.61.0  (landing page)Laurent Jacob  OK  
535/2302DEGreport 1.45.0  (landing page)Lorena Pantano  OK  
536/2302DEGseq 1.63.0  (landing page)Likun Wang  WARNINGS  
537/2302DelayedArray 0.35.1  (landing page)Hervé Pagès  WARNINGS  
538/2302DelayedDataFrame 1.25.0  (landing page)Qian Liu  OK  
539/2302DelayedMatrixStats 1.31.0  (landing page)Peter Hickey  OK  
540/2302DelayedRandomArray 1.17.0  (landing page)Aaron Lun  OK  
541/2302DelayedTensor 1.15.0  (landing page)Koki Tsuyuzaki  WARNINGS  
542/2302DELocal 1.9.0  (landing page)Rishi Das Roy  OK  
543/2302deltaCaptureC 1.23.0  (landing page)Michael Shapiro  OK  
544/2302deltaGseg 1.49.0  (landing page)Diana Low  WARNINGS  
545/2302DeMAND 1.39.0  (landing page)Jung Hoon Woo , Mariano Alvarez  OK  
546/2302DeMixT 1.25.0  (landing page)Ruonan Li  WARNINGS  
547/2302demuxmix 1.11.0  (landing page)Hans-Ulrich Klein  OK  
548/2302demuxSNP 1.7.0  (landing page)Michael Lynch  OK  
549/2302densvis 1.19.0  (landing page)Alan O'Callaghan  OK  
550/2302DEP 1.31.0  (landing page)Arne Smits  WARNINGS  
551/2302DepecheR 1.25.0  (landing page)Jakob Theorell  WARNINGS  
552/2302DepInfeR 1.13.0  (landing page)Junyan Lu  OK  
553/2302DEqMS 1.27.0  (landing page)Yafeng Zhu  OK  
554/2302derfinder 1.43.0  (landing page)Leonardo Collado-Torres  OK  
555/2302derfinderHelper 1.43.0  (landing page)Leonardo Collado-Torres  OK  
556/2302derfinderPlot 1.43.0  (landing page)Leonardo Collado-Torres  OK  
557/2302DEScan2 1.29.0  (landing page)Dario Righelli  WARNINGS  
558/2302DESeq2 1.49.0  (landing page)Michael Love  OK  
559/2302DEsingle 1.29.0  (landing page)Zhun Miao  OK  
560/2302DESpace 2.1.0  (landing page)Peiying Cai  TIMEOUT  
561/2302destiny 3.23.0  (landing page)Philipp Angerer  WARNINGS  
562/2302DEsubs 1.35.0  (landing page)Aristidis G. Vrahatis , Panos Balomenos  WARNINGS  
563/2302DEWSeq 1.23.0  (landing page)bioinformatics team Hentze  OK  
564/2302DExMA 1.17.0  (landing page)Juan Antonio Villatoro-García  ERROR  
565/2302DEXSeq 1.55.0  (landing page)Alejandro Reyes  OK  
566/2302DFP 1.67.0  (landing page)Rodrigo Alvarez-Glez  OK  
567/2302DFplyr 1.3.0  (landing page)Jonathan Carroll  OK  
568/2302DiffBind 3.19.0  (landing page)Rory Stark  OK  
569/2302diffcoexp 1.29.0  (landing page)Wenbin Wei  OK  
570/2302diffcyt 1.29.0  (landing page)Lukas M. Weber  OK  
571/2302DifferentialRegulation 2.7.0  (landing page)Simone Tiberi  TIMEOUT  
572/2302diffGeneAnalysis 1.91.0  (landing page)Choudary Jagarlamudi  OK  
573/2302diffHic 1.41.0  (landing page)Aaron Lun , Gordon Smyth , Hannah Coughlin  OK  
574/2302DiffLogo 2.33.0  (landing page)Hendrik Treutler  WARNINGS  
575/2302diffuStats 1.29.0  (landing page)Sergio Picart-Armada  ERROR  
576/2302diffUTR 1.17.0  (landing page)Pierre-Luc Germain  OK  
577/2302diggit 1.41.0  (landing page)Mariano J Alvarez  WARNINGS  
578/2302Dino 1.15.0  (landing page)Jared Brown  OK  
579/2302dinoR 1.5.0  (landing page)Michaela Schwaiger  OK  
580/2302dir.expiry 1.17.0  (landing page)Aaron Lun  OK  
581/2302DirichletMultinomial 1.51.0  (landing page)Martin Morgan  WARNINGS  
582/2302discordant 1.33.0  (landing page)McGrath Max  OK  
583/2302DiscoRhythm 1.25.0  (landing page)Matthew Carlucci  OK  
584/2302distinct 1.21.0  (landing page)Simone Tiberi  OK  
585/2302dittoSeq 1.21.0  (landing page)Daniel Bunis  OK  
586/2302divergence 1.25.0  (landing page)Wikum Dinalankara , Luigi Marchionni  OK  
587/2302dks 1.55.0  (landing page)Jeffrey T. Leek  OK  
588/2302DMCFB 1.23.0  (landing page)Farhad Shokoohi  OK  
589/2302DMCHMM 1.31.0  (landing page)Farhad Shokoohi  WARNINGS  
590/2302DMRcaller 1.41.0  (landing page)Nicolae Radu Zabet  OK  
591/2302DMRcate 3.5.0  (landing page)Tim Peters  ERROR  
592/2302DMRScan 1.31.0  (landing page)Christian M Page  ERROR  
593/2302dmrseq 1.29.0  (landing page)Keegan Korthauer  TIMEOUT  
594/2302DNABarcodeCompatibility 1.25.0  (landing page)Céline Trébeau  OK  
595/2302DNABarcodes 1.39.0  (landing page)Tilo Buschmann  OK  
596/2302DNAcopy 1.83.0  (landing page)Venkatraman E. Seshan  OK  
597/2302DNAcycP2 1.1.0  (landing page)Ji-Ping Wang  OK  
598/2302DNAfusion 1.11.0  (landing page)Christoffer Trier Maansson  ERROR  
599/2302DNAshapeR 1.37.0  (landing page)Tsu-Pei Chiu  OK  
600/2302DominoEffect 1.29.0  (landing page)Marija Buljan  ERROR  
601/2302dominoSignal 1.3.0  (landing page)Jacob T Mitchell  OK  
602/2302doppelgangR 1.37.0  (landing page)Levi Waldron  OK  
603/2302Doscheda 1.31.0  (landing page)Bruno Contrino  OK  
604/2302DOSE 4.3.0  (landing page)Guangchuang Yu  OK  
605/2302doseR 1.25.0  (landing page)ake.vastermark  OK  
606/2302doubletrouble 1.9.0  (landing page)Fabrício Almeida-Silva  OK  
607/2302drawProteins 1.29.0  (landing page)Paul Brennan  OK  
608/2302dreamlet 1.7.1  (landing page)Gabriel Hoffman  OK  
609/2302DRIMSeq 1.37.0  (landing page)Malgorzata Nowicka  WARNINGS  
610/2302DriverNet 1.49.0  (landing page)Jiarui Ding  OK  
611/2302DropletUtils 1.29.0  (landing page)Jonathan Griffiths  WARNINGS  
612/2302drugTargetInteractions 1.17.0  (landing page)Thomas Girke  OK  
613/2302DrugVsDisease 2.51.0  (landing page)j. Saez-Rodriguez  ERROR  
614/2302DSS 2.57.0  (landing page)Hao Wu , Hao Feng  WARNINGS  
615/2302dStruct 1.15.0  (landing page)Krishna Choudhary  OK  
616/2302DTA 2.55.0  (landing page)Bjoern Schwalb  OK  
617/2302Dune 1.21.0  (landing page)Hector Roux de Bezieux  ERROR  
618/2302DuplexDiscovereR 1.3.0  (landing page)Egor Semenchenko  OK  
619/2302dupRadar 1.39.0  (landing page)Sergi Sayols , Holger Klein  OK  
620/2302dyebias 1.69.0  (landing page)Philip Lijnzaad  OK  
621/2302DynDoc 1.87.0  (landing page)Bioconductor Package Maintainer  WARNINGS  
E
ABCDEFGHIJKLMNOPQRSTUVWXYZ
PackageMaintainerINSTALL/BUILD/CHECK
622/2302easier 1.15.0  (landing page)Oscar Lapuente-Santana  ERROR  
623/2302EasyCellType 1.11.0  (landing page)Ruoxing Li  OK  
624/2302easylift 1.7.0  (landing page)Abdullah Al Nahid  OK  
625/2302easyreporting 1.21.0  (landing page)Dario Righelli  OK  
626/2302easyRNASeq 2.45.0  (landing page)Nicolas Delhomme  WARNINGS  
627/2302EBarrays 2.73.0  (landing page)Ming Yuan  OK  
628/2302EBcoexpress 1.53.0  (landing page)John A. Dawson  WARNINGS  
629/2302EBImage 4.51.0  (landing page)Andrzej Oleś  OK  
630/2302EBSEA 1.37.0  (landing page)Arfa Mehmood  OK  
631/2302EBSeq 2.7.0  (landing page)Xiuyu Ma  WARNINGS  
632/2302ecolitk 1.81.0  (landing page)Laurent Gautier  WARNINGS  
633/2302EDASeq 2.43.0  (landing page)Davide Risso  ERROR  
634/2302edge 2.41.0  (landing page)John D. Storey , Andrew J. Bass  OK  
635/2302edgeR 4.7.0  (landing page)Yunshun Chen , Gordon Smyth  OK  
636/2302EDIRquery 1.9.0  (landing page)Laura D.T. Vo Ngoc  OK  
637/2302eds 1.11.0  (landing page)Avi Srivastava  OK  
638/2302EGAD 1.37.0  (landing page)Sara Ballouz  WARNINGS  
639/2302EGSEA 1.37.0  (landing page)Monther Alhamdoosh  OK  
640/2302eiR 1.49.0  (landing page)Thomas Girke  ERROR  
641/2302eisaR 1.21.0  (landing page)Michael Stadler  OK  
642/2302ELMER 2.33.0  (landing page)Tiago Chedraoui Silva  ERROR  
643/2302ELViS 1.1.0  (landing page)Jin-Young Lee  OK  
644/2302EMDomics 2.39.0  (landing page)Sadhika Malladi and Daniel Schmolze  OK  
645/2302EmpiricalBrownsMethod 1.37.0  (landing page)David Gibbs  OK  
646/2302EnhancedVolcano 1.27.0  (landing page)Kevin Blighe  OK  
647/2302enhancerHomologSearch 1.15.0  (landing page)Jianhong Ou  ERROR  
648/2302EnMCB 1.21.0  (landing page)Xin Yu  OK  
649/2302ENmix 1.45.0  (landing page)Zongli Xu  OK  
650/2302EnrichDO 1.3.0  (landing page)Hongyu Fu  OK  
651/2302EnrichedHeatmap 1.39.0  (landing page)Zuguang Gu  OK  
652/2302EnrichmentBrowser 2.39.0  (landing page)Ludwig Geistlinger  OK  
653/2302enrichplot 1.29.0  (landing page)Guangchuang Yu  OK  
654/2302enrichViewNet 1.7.0  (landing page)Astrid Deschênes  OK  
655/2302ensembldb 2.33.0  (landing page)Johannes Rainer  OK  
656/2302epialleleR 1.17.0  (landing page)Oleksii Nikolaienko  OK  
657/2302EpiCompare 1.13.0  (landing page)Hiranyamaya Dash  ERROR  
658/2302epidecodeR 1.17.0  (landing page)Kandarp Joshi  OK  
659/2302EpiDISH 2.25.0  (landing page)Shijie C. Zheng  OK  
660/2302epigenomix 1.49.0  (landing page)Hans-Ulrich Klein  OK  
661/2302epigraHMM 1.17.0  (landing page)Pedro Baldoni  ERROR  
662/2302EpiMix 1.11.0  (landing page)Yuanning Zheng  ERROR  
663/2302epimutacions 1.13.0  (landing page)Dolors Pelegri-Siso  ERROR  
664/2302epiNEM 1.33.0  (landing page)Martin Pirkl  OK  
665/2302EpipwR 1.3.0  (landing page)Jackson Barth  OK  
666/2302epiregulon 1.5.0  (landing page)Xiaosai Yao  ERROR  
667/2302epiregulon.extra 1.5.0  (landing page)Xiaosai Yao  ERROR  
668/2302epistack 1.15.0  (landing page)DEVAILLY Guillaume  OK  
669/2302epistasisGA 1.11.0  (landing page)Michael Nodzenski  WARNINGS  
670/2302EpiTxDb 1.21.0  (landing page)Felix G.M. Ernst  WARNINGS  
671/2302epivizr 2.39.0  (landing page)Hector Corrada Bravo  OK  
672/2302epivizrChart 1.31.0  (landing page)Hector Corrada Bravo  OK  
673/2302epivizrData 1.37.0  (landing page)Hector Corrada Bravo  OK  
674/2302epivizrServer 1.37.0  (landing page)Hector Corrada Bravo  WARNINGS  
675/2302epivizrStandalone 1.37.0  (landing page)Hector Corrada Bravo  WARNINGS  
676/2302erccdashboard 1.43.0  (landing page)Sarah Munro  OK  
677/2302ERSSA 1.27.0  (landing page)Zixuan Shao  OK  
678/2302esATAC 1.31.0  (landing page)Zheng Wei  OK  
679/2302escape 2.5.0  (landing page)Nick Borcherding  OK  
680/2302escheR 1.9.0  (landing page)Boyi Guo  OK  
681/2302esetVis 1.35.0  (landing page)Laure Cougnaud  OK  
682/2302eudysbiome 1.39.0  (landing page)Xiaoyuan Zhou  OK  
683/2302evaluomeR 1.25.0  (landing page)José Antonio Bernabé-Díaz  WARNINGS  
684/2302EventPointer 3.17.0  (landing page)Juan A. Ferrer-Bonsoms  OK  
685/2302EWCE 1.17.0  (landing page)Alan Murphy  OK  
686/2302ExCluster 1.27.0  (landing page)R. Matthew Tanner  OK  
687/2302ExiMiR 2.51.0  (landing page)Sylvain Gubian  OK  
688/2302ExperimentHub 2.99.0  (landing page)Bioconductor Package Maintainer  WARNINGS  
689/2302ExperimentHubData 1.35.0  (landing page)Bioconductor Package Maintainer  WARNINGS  
690/2302ExperimentSubset 1.19.0  (landing page)Irzam Sarfraz  OK  
691/2302ExploreModelMatrix 1.21.0  (landing page)Charlotte Soneson  OK  
692/2302ExpressionAtlas 2.1.0  (landing page)Pedro Madrigal  OK  
693/2302extraChIPs 1.13.0  (landing page)Stevie Pederson  OK  
F
ABCDEFGHIJKLMNOPQRSTUVWXYZ
PackageMaintainerINSTALL/BUILD/CHECK
694/2302fabia 2.55.0  (landing page)Andreas Mitterecker  WARNINGS  
695/2302factDesign 1.85.0  (landing page)Denise Scholtens  OK  
696/2302factR 1.11.0  (landing page)Fursham Hamid  ERROR  
697/2302faers 1.5.0  (landing page)Yun Peng  OK  
698/2302FamAgg 1.37.0  (landing page)Johannes Rainer  OK  
699/2302famat 1.19.0  (landing page)Mathieu Charles  OK  
700/2302fastLiquidAssociation 1.45.0  (landing page)Tina Gunderson  WARNINGS  
701/2302FastqCleaner 1.27.0  (landing page)Leandro Roser  OK  
702/2302fastreeR 1.13.0  (landing page)Anestis Gkanogiannis  ERROR  
703/2302fastseg 1.55.0  (landing page)Alexander Blume  OK  
704/2302fCCAC 1.35.0  (landing page)Pedro Madrigal  OK  
705/2302fCI 1.39.0  (landing page)Shaojun Tang  OK  
706/2302fcScan 1.23.0  (landing page)Pierre Khoueiry Abdullah El-Kurdi  OK  
707/2302fdrame 1.81.0  (landing page)Effi Kenigsberg  OK  
708/2302FEAST 1.17.0  (landing page)Kenong Su  OK  
709/2302FeatSeekR 1.9.0  (landing page)Tuemay Capraz  OK  
710/2302fedup 1.17.0  (landing page)Catherine Ross  OK  
711/2302FELLA 1.29.0  (landing page)Sergio Picart-Armada  ERROR  
712/2302fenr 1.7.0  (landing page)Marek Gierlinski  OK  
713/2302ffpe 1.53.0  (landing page)Levi Waldron  OK  
714/2302fgga 1.17.0  (landing page)Flavio Spetale  OK  
715/2302FGNet 3.43.0  (landing page)Sara Aibar  WARNINGS  
716/2302fgsea 1.35.0  (landing page)Alexey Sergushichev  OK  
717/2302FilterFFPE 1.19.0  (landing page)Lanying Wei  OK  
718/2302findIPs 1.5.0  (landing page)Shuo Wang  OK  
719/2302FindIT2 1.15.0  (landing page)Guandong Shang  OK  
720/2302FISHalyseR 1.43.0  (landing page)Karesh Arunakirinathan  WARNINGS  
721/2302fishpond 2.15.0  (landing page)Michael Love  ERROR  
722/2302FitHiC 1.35.0  (landing page)Ruyu Tan  OK  
723/2302flagme 1.65.0  (landing page)Mark Robinson , Riccardo Romoli  ERROR  
724/2302FLAMES 2.3.0  (landing page)Changqing Wang  ERROR  
725/2302flowAI 1.39.0  (landing page)Gianni Monaco  OK  
726/2302flowBeads 1.47.0  (landing page)Nikolas Pontikos  WARNINGS  
727/2302flowBin 1.45.0  (landing page)Kieran O'Neill  OK  
728/2302flowcatchR 1.43.0  (landing page)Federico Marini  OK  
729/2302flowCHIC 1.43.0  (landing page)Author: Joachim Schumann  OK  
730/2302flowClean 1.47.0  (landing page)Kipper Fletez-Brant  WARNINGS  
731/2302flowClust 3.47.0  (landing page)Greg Finak , Mike Jiang  ERROR  
732/2302flowCore 2.21.0  (landing page)Mike Jiang  ERROR  
733/2302flowCut 1.19.0  (landing page)Justin Meskas  OK  
734/2302flowCyBar 1.45.0  (landing page)Joachim Schumann  OK  
735/2302flowDensity 1.43.0  (landing page)Mehrnoush Malek  WARNINGS  
736/2302flowFP 1.67.0  (landing page)Herb Holyst , Wade Rogers  WARNINGS  
737/2302flowGate 1.9.0  (landing page)Andrew Wight  OK  
738/2302flowGraph 1.17.0  (landing page)Alice Yue  OK  
739/2302flowMatch 1.45.0  (landing page)Ariful Azad  OK  
740/2302flowMeans 1.69.0  (landing page)Nima Aghaeepour  OK  
741/2302flowMerge 2.57.0  (landing page)Greg Finak  WARNINGS  
742/2302flowPeaks 1.55.0  (landing page)Yongchao Ge  OK  
743/2302flowPloidy 1.35.0  (landing page)Tyler Smith  ERROR  
744/2302flowPlots 1.57.0  (landing page)N. Hawkins  OK  
745/2302FlowSOM 2.17.0  (landing page)Sofie Van Gassen  ERROR  
746/2302flowSpecs 1.23.0  (landing page)Jakob Theorell  OK  
747/2302flowStats 4.21.0  (landing page)Greg Finak , Mike Jiang  ERROR  
748/2302flowTime 1.33.0  (landing page)R. Clay Wright  ERROR  
749/2302flowTrans 1.61.0  (landing page)Greg Finak  OK  
750/2302flowViz 1.73.0  (landing page)Mike Jiang  OK  
751/2302flowVS 1.41.0  (landing page)Ariful Azad  OK  
752/2302flowWorkspace 4.21.0  (landing page)Greg Finak , Mike Jiang  ERROR  
753/2302fmcsR 1.51.0  (landing page)Thomas Girke  WARNINGS  
754/2302fmrs 1.19.0  (landing page)Farhad Shokoohi  OK  
755/2302fobitools 1.17.0  (landing page)Pol Castellano-Escuder  OK  
756/2302FRASER 2.5.0  (landing page)Christian Mertes  OK  
757/2302frenchFISH 1.21.0  (landing page)Adam Berman  OK  
758/2302FRGEpistasis 1.45.0  (landing page)Futao Zhang  OK  
759/2302frma 1.61.0  (landing page)Matthew N. McCall  OK  
760/2302frmaTools 1.61.0  (landing page)Matthew N. McCall  ERROR  
761/2302funOmics 1.3.0  (landing page)Elisa Gomez de Lope  OK  
762/2302funtooNorm 1.33.0  (landing page)Kathleen Klein  WARNINGS  
763/2302FuseSOM 1.11.0  (landing page)Elijah Willie  OK  
G
ABCDEFGHIJKLMNOPQRSTUVWXYZ
PackageMaintainerINSTALL/BUILD/CHECK
764/2302G4SNVHunter 1.1.0  (landing page)Rongxin Zhang  OK  
765/2302GA4GHclient 1.33.0  (landing page)Welliton Souza  OK  
766/2302GA4GHshiny 1.31.0  (landing page)Welliton Souza  OK  
767/2302gaga 2.55.0  (landing page)David Rossell  WARNINGS  
768/2302gage 2.59.0  (landing page)Weijun Luo  WARNINGS  
769/2302GAprediction 1.35.0  (landing page)Jon Bohlin  OK  
770/2302garfield 1.37.0  (landing page)Valentina Iotchkova  WARNINGS  
771/2302GARS 1.29.0  (landing page)Mattia Chiesa  OK  
772/2302GateFinder 1.29.0  (landing page)Nima Aghaeepour  WARNINGS  
773/2302gatom 1.7.0  (landing page)Alexey Sergushichev  ERROR  
774/2302GBScleanR 2.3.1  (landing page)Tomoyuki Furuta  ERROR  
775/2302gcapc 1.33.0  (landing page)Mingxiang Teng  ERROR  
776/2302gcatest 2.9.0  (landing page)Alejandro Ochoa  OK  
777/2302gCrisprTools 2.15.0  (landing page)Russell Bainer  OK  
778/2302gcrma 2.81.0  (landing page)Z. Wu  OK  
779/2302GDCRNATools 1.29.0  (landing page)Ruidong Li  OK  
780/2302gDNAx 1.7.0  (landing page)Robert Castelo  ERROR  
781/2302gDR 1.7.1  (landing page)Arkadiusz Gladki  ERROR  
782/2302gDRcore 1.7.1  (landing page)Arkadiusz Gladki  ERROR  
783/2302gDRimport 1.7.1  (landing page)Arkadiusz Gladki  ERROR  
784/2302gDRstyle 1.7.1  (landing page)Arkadiusz Gladki  OK  
785/2302gDRutils 1.7.2  (landing page)Arkadiusz Gladki  ERROR  
786/2302GDSArray 1.29.0  (landing page)Xiuwen Zheng  OK  
787/2302gdsfmt 1.45.0  (landing page)Xiuwen Zheng  OK  
788/2302GeDi 1.5.0  (landing page)Annekathrin Nedwed  ERROR  
789/2302GEM 1.35.0  (landing page)Hong Pan  OK  
790/2302gemini 1.23.0  (landing page)Sidharth Jain  OK  
791/2302gemma.R 3.5.0  (landing page)Ogan Mancarci  OK  
792/2302genArise 1.85.0  (landing page)IFC Development Team  WARNINGS  
793/2302geneAttribution 1.35.0  (landing page)Arthur Wuster  OK  
794/2302GeneBreak 1.39.0  (landing page)Evert van den Broek  OK  
795/2302geneClassifiers 1.33.0  (landing page)R Kuiper  OK  
796/2302GeneExpressionSignature 1.55.0  (landing page)Yang Cao  OK  
797/2302genefilter 1.91.0  (landing page)Bioconductor Package Maintainer  WARNINGS  
798/2302genefu 2.41.0  (landing page)Benjamin Haibe-Kains  WARNINGS  
799/2302GeneGA 1.59.0  (landing page)Zhenpeng Li  ERROR  
800/2302GeneMeta 1.81.0  (landing page)Bioconductor Package Maintainer  OK  
801/2302GeneNetworkBuilder 1.51.0  (landing page)Jianhong Ou  OK  
802/2302GeneOverlap 1.45.0  (landing page)António Miguel de Jesus Domingues, Max-Planck Institute for Cell Biology and Genetics  OK  
803/2302geneplast 1.35.0  (landing page)Mauro Castro  ERROR  
804/2302geneplotter 1.87.0  (landing page)Bioconductor Package Maintainer  OK  
805/2302geneRecommender 1.81.0  (landing page)Greg Hather  OK  
806/2302GeneRegionScan 1.65.0  (landing page)Lasse Folkersen  OK  
807/2302geneRxCluster 1.45.0  (landing page)Charles Berry  OK  
808/2302GeneSelectMMD 2.53.0  (landing page)Weiliang Qiu  WARNINGS  
809/2302GENESIS 2.39.0  (landing page)Stephanie M. Gogarten  OK  
810/2302GeneStructureTools 1.29.0  (landing page)Beth Signal  ERROR  
811/2302geNetClassifier 1.49.0  (landing page)Sara Aibar  OK  
812/2302GeneticsPed 1.71.0  (landing page)David Henderson  WARNINGS  
813/2302GeneTonic 3.3.0  (landing page)Federico Marini  ERROR  
814/2302geneXtendeR 1.35.0  (landing page)Bohdan Khomtchouk  WARNINGS  
815/2302GENIE3 1.31.0  (landing page)Van Anh Huynh-Thu  OK  
816/2302genomation 1.41.0  (landing page)Altuna Akalin , Vedran Franke  WARNINGS  
817/2302GenomAutomorphism 1.11.0  (landing page)Robersy Sanchez  OK  
818/2302GenomeInfoDb 1.45.0  (landing page)Hervé Pagès  ERROR  
819/2302genomeIntervals 1.65.0  (landing page)Julien Gagneur  WARNINGS  
820/2302genomes 3.39.0  (landing page)Chris Stubben  OK  
821/2302GenomicAlignments 1.45.0  (landing page)Hervé Pagès  ERROR  
822/2302GenomicDataCommons 1.33.0  (landing page)Sean Davis  ERROR  
823/2302GenomicDistributions 1.17.1  (landing page)Kristyna Kupkova  OK  
824/2302GenomicFeatures 1.61.0  (landing page)H. Pagès  OK  
825/2302GenomicFiles 1.45.0  (landing page)Bioconductor Package Maintainer  ERROR  
826/2302genomicInstability 1.15.0  (landing page)Mariano Alvarez  OK  
827/2302GenomicInteractionNodes 1.13.0  (landing page)Jianhong Ou  OK  
828/2302GenomicInteractions 1.43.0  (landing page)Liz Ing-Simmons  OK  
829/2302GenomicOZone 1.23.0  (landing page)Hua Zhong, Mingzhou Song  OK  
830/2302GenomicPlot 1.7.0  (landing page)Shuye Pu  TIMEOUT  
831/2302GenomicRanges 1.61.0  (landing page)Hervé Pagès  ERROR  
832/2302GenomicScores 2.21.0  (landing page)Robert Castelo  ERROR  
833/2302GenomicSuperSignature 1.17.0  (landing page)Sehyun Oh  WARNINGS  
834/2302GenomicTuples 1.43.0  (landing page)Peter Hickey  OK  
835/2302GenProSeq 1.13.0  (landing page)Dongmin Jung  ERROR  
836/2302GenVisR 1.41.0  (landing page)Zachary Skidmore  ERROR  
837/2302GeoDiff 1.15.0  (landing page)Nicole Ortogero  OK  
838/2302GEOexplorer 1.15.0  (landing page)Guy Hunt  ERROR  
839/2302GEOfastq 1.17.0  (landing page)Alex Pickering  OK  
840/2302GEOmetadb 1.71.0  (landing page)Jack Zhu  ERROR  
841/2302geomeTriD 1.3.0  (landing page)Jianhong Ou  OK  
842/2302GeomxTools 3.13.0  (landing page)Maddy Griswold  ERROR  
843/2302GEOquery 2.77.0  (landing page)Sean Davis  ERROR  
844/2302GEOsubmission 1.61.0  (landing page)Alexandre Kuhn  OK  
845/2302GeoTcgaData 2.9.0  (landing page)Erqiang Hu  OK  
846/2302gep2pep 1.29.0  (landing page)Francesco Napolitano  OK  
847/2302getDEE2 1.19.0  (landing page)Mark Ziemann  OK  
848/2302geva 1.17.0  (landing page)Itamar José Guimarães Nunes  ERROR  
849/2302GEWIST 1.53.0  (landing page)Wei Q. Deng  OK  
850/2302geyser 1.1.0  (landing page)David McGaughey  OK  
851/2302gg4way 1.7.0  (landing page)Benjamin I Laufer  OK  
852/2302ggbio 1.57.0  (landing page)Michael Lawrence  WARNINGS  
853/2302ggcyto 1.37.0  (landing page)Mike Jiang  ERROR  
854/2302ggkegg 1.7.0  (landing page)Noriaki Sato  ERROR  
855/2302ggmanh 1.13.0  (landing page)John Lee  OK  
856/2302ggmsa 1.15.0  (landing page)Guangchuang Yu  OK  
857/2302GGPA 1.21.0  (landing page)Dongjun Chung  WARNINGS  
858/2302ggsc 1.7.0  (landing page)Guangchuang Yu  OK  
859/2302ggseqalign 1.3.0  (landing page)Simeon Lim Rossmann  OK  
860/2302ggspavis 1.15.0  (landing page)Lukas M. Weber  OK  
861/2302ggtree 3.17.0  (landing page)Guangchuang Yu  OK  
862/2302ggtreeDendro 1.11.0  (landing page)Guangchuang Yu  WARNINGS  
863/2302ggtreeExtra 1.19.0  (landing page)Shuangbin Xu  OK  
864/2302ggtreeSpace 1.5.0  (landing page)Guangchuang Yu  WARNINGS  
865/2302GIGSEA 1.27.0  (landing page)Shijia Zhu  OK  
866/2302ginmappeR 1.5.0  (landing page)Fernando Sola  OK  
867/2302gINTomics 1.5.0  (landing page)Angelo Velle  TIMEOUT  
868/2302GLAD 2.73.0  (landing page)Philippe Hupe  WARNINGS  
869/2302GladiaTOX 1.25.0  (landing page)PMP S.A. R Support  OK  
870/2302Glimma 2.19.0  (landing page)Shian Su  OK  
871/2302glmGamPoi 1.21.0  (landing page)Constantin Ahlmann-Eltze  WARNINGS  
872/2302glmSparseNet 1.27.0  (landing page)André Veríssimo  OK  
873/2302GlobalAncova 4.27.0  (landing page)Manuela Hummel  WARNINGS  
874/2302globalSeq 1.37.0  (landing page)Armin Rauschenberger  OK  
875/2302globaltest 5.63.0  (landing page)Jelle Goeman  ERROR  
876/2302GloScope 1.7.0  (landing page)William Torous  OK  
877/2302gmapR 1.51.0  (landing page)Michael Lawrence  ERROR  
878/2302GmicR 1.23.0  (landing page)Richard Virgen-Slane  WARNINGS  
879/2302gmoviz 1.21.0  (landing page)Kathleen Zeglinski  OK  
880/2302GMRP 1.37.0  (landing page)Yuan-De Tan  WARNINGS  
881/2302GNET2 1.25.0  (landing page)Chen Chen  OK  
882/2302GNOSIS 1.7.0  (landing page)Lydia King  ERROR  
883/2302GOexpress 1.43.0  (landing page)Kevin Rue-Albrecht  WARNINGS  
884/2302GOfuncR 1.29.0  (landing page)Steffi Grote  OK  
885/2302GOpro 1.35.0  (landing page)Lidia Chrabaszcz  OK  
886/2302goProfiles 1.71.0  (landing page)Alex Sanchez  OK  
887/2302GOSemSim 2.35.0  (landing page)Guangchuang Yu  OK  
888/2302goseq 1.61.0  (landing page)Federico Marini  ERROR  
889/2302goSorensen 1.11.0  (landing page)Pablo Flores  OK  
890/2302goSTAG 1.33.0  (landing page)Brian D. Bennett  OK  
891/2302GOstats 2.75.0  (landing page)Bioconductor Package Maintainer  ERROR  
892/2302GOTHiC 1.45.0  (landing page)Borbala Mifsud  ERROR  
893/2302goTools 1.83.0  (landing page)Agnes Paquet  OK  
894/2302GPA 1.21.0  (landing page)Dongjun Chung  OK  
895/2302gpls 1.81.0  (landing page)Bioconductor Package Maintainer  WARNINGS  
896/2302gpuMagic 1.25.0  (landing page)Jiefei Wang  ERROR  
897/2302GrafGen 1.5.0  (landing page)William Wheeler  WARNINGS  
898/2302GRaNIE 1.13.0  (landing page)Christian Arnold  ERROR  
899/2302granulator 1.17.0  (landing page)Sabina Pfister  OK  
900/2302graper 1.25.0  (landing page)Britta Velten  ERROR  
901/2302graph 1.87.0  (landing page)Bioconductor Package Maintainer  OK  
902/2302GraphAlignment 1.73.0  (landing page)Joern P. Meier  WARNINGS  
903/2302GraphAT 1.81.0  (landing page)Thomas LaFramboise  OK  
904/2302graphite 1.55.0  (landing page)Gabriele Sales  OK  
905/2302GRENITS 1.61.0  (landing page)Edward Morrissey  OK  
906/2302GreyListChIP 1.41.0  (landing page)Matt Eldridge  OK  
907/2302GRmetrics 1.35.0  (landing page)Nicholas Clark , Mario Medvedovic  OK  
908/2302groHMM 1.43.0  (landing page)Tulip Nandu  WARNINGS  
909/2302GSALightning 1.37.0  (landing page)Billy Heung Wing Chang  OK  
910/2302GSAR 1.43.0  (landing page)Yasir Rahmatallah , Galina Glazko  ERROR  
911/2302GSCA 2.39.0  (landing page)Zhicheng Ji  ERROR  
912/2302gscreend 1.23.0  (landing page)Katharina Imkeller  OK  
913/2302GSEABase 1.71.0  (landing page)Bioconductor Package Maintainer  OK  
914/2302GSEABenchmarkeR 1.29.0  (landing page)Ludwig Geistlinger  ERROR  
915/2302GSEAlm 1.69.0  (landing page)Assaf Oron  OK  
916/2302GSEAmining 1.19.0  (landing page)Oriol Arqués  OK  
917/2302gsean 1.29.0  (landing page)Dongmin Jung  OK  
918/2302GSgalgoR 1.19.0  (landing page)Carlos Catania  OK  
919/2302GSReg 1.43.0  (landing page)Bahman Afsari , Elana J. Fertig  WARNINGS  
920/2302GSRI 2.57.0  (landing page)Julian Gehring  OK  
921/2302GSVA 2.3.1  (landing page)Robert Castelo  OK  
922/2302gtrellis 1.41.0  (landing page)Zuguang Gu  OK  
923/2302GUIDEseq 1.39.0  (landing page)Lihua Julie Zhu  OK  
924/2302Guitar 2.25.0  (landing page)Jia Meng  OK  
925/2302Gviz 1.53.0  (landing page)Robert Ivanek  OK  
926/2302GWAS.BAYES 1.19.0  (landing page)Jacob Williams  OK  
927/2302gwascat 2.41.0  (landing page)VJ Carey  ERROR  
928/2302GWASTools 1.55.0  (landing page)Stephanie M. Gogarten  ERROR  
929/2302gwasurvivr 1.27.0  (landing page)Abbas Rizvi  OK  
930/2302GWENA 1.19.0  (landing page)Gwenaëlle Lemoine  WARNINGS  
931/2302gypsum 1.5.0  (landing page)Aaron Lun  OK  
H
ABCDEFGHIJKLMNOPQRSTUVWXYZ
PackageMaintainerINSTALL/BUILD/CHECK
932/2302h5mread 1.1.0  (landing page)Hervé Pagès  ERROR  
933/2302h5vc 2.43.0  (landing page)Paul Theodor Pyl  TIMEOUT  
934/2302hapFabia 1.51.0  (landing page)Andreas Mitterecker  WARNINGS  
935/2302Harman 1.37.0  (landing page)Jason Ross  ERROR  
936/2302HarmonizR 1.7.0  (landing page)Simon Schlumbohm  OK  
937/2302Harshlight 1.81.0  (landing page)Maurizio Pellegrino  ERROR  
938/2302hca 1.17.0  (landing page)Martin Morgan  ERROR  
939/2302HDF5Array 1.37.0  (landing page)Hervé Pagès  ERROR  
940/2302HDTD 1.43.0  (landing page)Anestis Touloumis  OK  
941/2302hdxmsqc 1.5.0  (landing page)Oliver M. Crook  OK  
942/2302heatmaps 1.33.0  (landing page)Malcolm Perry  OK  
943/2302Heatplus 3.17.0  (landing page)Alexander Ploner  OK  
944/2302HelloRanges 1.35.0  (landing page)Michael Lawrence  ERROR  
945/2302HELP 1.67.0  (landing page)Reid F. Thompson  OK  
946/2302HEM 1.81.0  (landing page)HyungJun Cho  ERROR  
947/2302hermes 1.13.0  (landing page)Daniel Sabanés Bové  OK  
948/2302HERON 1.7.0  (landing page)Sean McIlwain  OK  
949/2302Herper 1.19.0  (landing page)Thomas Carroll  ERROR  
950/2302HGC 1.17.0  (landing page)XGlab  WARNINGS  
951/2302hiAnnotator 1.43.0  (landing page)Nirav V Malani  OK  
952/2302HIBAG 1.45.0  (landing page)Xiuwen Zheng  ERROR  
953/2302HicAggR 1.5.0  (landing page)Olivier Cuvier  WARNINGS  
954/2302HiCBricks 1.27.0  (landing page)Koustav Pal  OK  
955/2302HiCcompare 1.31.0  (landing page)Mikhail Dozmorov  OK  
956/2302HiCDCPlus 1.17.0  (landing page)Merve Sahin  ERROR  
957/2302HiCDOC 1.11.0  (landing page)Maigné Élise  ERROR  
958/2302HiCExperiment 1.9.0  (landing page)Jacques Serizay  OK  
959/2302HiContacts 1.11.0  (landing page)Jacques Serizay  ERROR  
960/2302HiCool 1.9.0  (landing page)Jacques Serizay  ERROR  
961/2302HiCParser 1.1.0  (landing page)Maigné Élise  OK  
962/2302hicVennDiagram 1.7.1  (landing page)Jianhong Ou  OK  
963/2302hierGWAS 1.39.0  (landing page)Laura Buzdugan  WARNINGS  
964/2302hierinf 1.27.0  (landing page)Claude Renaux  ERROR  
965/2302HilbertCurve 2.3.0  (landing page)Zuguang Gu  OK  
966/2302HilbertVis 1.67.0  (landing page)Simon Anders  ERROR  
967/2302HilbertVisGUI 1.67.0  (landing page)Simon Anders  ERROR  
968/2302HiLDA 1.23.0  (landing page)Zhi Yang  ERROR  
969/2302hipathia 3.9.0  (landing page)Marta R. Hidalgo  OK  
970/2302HIPPO 1.21.0  (landing page)Tae Kim  OK  
971/2302hiReadsProcessor 1.45.0  (landing page)Nirav V Malani  OK  
972/2302HIREewas 1.27.0  (landing page)Xiangyu Luo  OK  
973/2302HiTC 1.53.0  (landing page)Nicolas Servant  ERROR  
974/2302hmdbQuery 1.29.0  (landing page)VJ Carey  ERROR  
975/2302HMMcopy 1.51.0  (landing page)Daniel Lai  WARNINGS  
976/2302HoloFoodR 1.3.0  (landing page)Tuomas Borman  OK  
977/2302hoodscanR 1.7.0  (landing page)Ning Liu  OK  
978/2302hopach 2.69.0  (landing page)Katherine S. Pollard  OK  
979/2302HPAanalyze 1.27.0  (landing page)Anh Nhat Tran  OK  
980/2302hpar 1.51.0  (landing page)Laurent Gatto  OK  
981/2302HPiP 1.15.0  (landing page)Matineh Rahmatbakhsh  OK  
982/2302HTqPCR 1.63.0  (landing page)Matthew N. McCall  OK  
983/2302HTSFilter 1.49.0  (landing page)Andrea Rau  OK  
984/2302HuBMAPR 1.3.0  (landing page)Christine Hou  OK  
985/2302HubPub 1.17.0  (landing page)Kayla Interdonato  OK  
986/2302hummingbird 1.19.0  (landing page)Eleni Adam  OK  
987/2302HybridExpress 1.5.0  (landing page)Fabricio Almeida-Silva  OK  
988/2302HybridMTest 1.53.0  (landing page)Demba Fofana  OK  
989/2302hypeR 2.7.0  (landing page)Anthony Federico  ERROR  
990/2302hyperdraw 1.61.0  (landing page)Paul Murrell  OK  
991/2302hypergraph 1.81.0  (landing page)Bioconductor Package Maintainer  OK  
I
ABCDEFGHIJKLMNOPQRSTUVWXYZ
PackageMaintainerINSTALL/BUILD/CHECK
992/2302iASeq 1.53.0  (landing page)Yingying Wei  OK  
993/2302iasva 1.27.0  (landing page)Donghyung Lee , Anthony Cheng  OK  
994/2302iBBiG 1.53.0  (landing page)Aedin Culhane  OK  
995/2302ibh 1.57.0  (landing page)Kircicegi Korkmaz  OK  
996/2302iBMQ 1.49.0  (landing page)Greg Imholte  OK  
997/2302iCARE 1.37.0  (landing page)Parichoy Pal Choudhury  ERROR  
998/2302Icens 1.81.0  (landing page)Bioconductor Package Maintainer  OK  
999/2302icetea 1.27.0  (landing page)Vivek Bhardwaj  WARNINGS  
1000/2302iCheck 1.39.0  (landing page)Weiliang Qiu  OK  
1001/2302iChip 1.63.0  (landing page)Qianxing Mo  WARNINGS  
1002/2302iClusterPlus 1.45.0  (landing page)Qianxing Mo , Ronglai Shen  ERROR  
1003/2302iCNV 1.29.0  (landing page)Zilu Zhou  ERROR  
1004/2302iCOBRA 1.37.0  (landing page)Charlotte Soneson  OK  
1005/2302ideal 2.3.0  (landing page)Federico Marini  OK  
1006/2302IdeoViz 1.45.0  (landing page)Shraddha Pai  WARNINGS  
1007/2302idiogram 1.85.0  (landing page)Karl J. Dykema  OK  
1008/2302idpr 1.19.0  (landing page)William M. McFadden  ERROR  
1009/2302idr2d 1.23.0  (landing page)Konstantin Krismer  OK  
1010/2302IFAA 1.11.0  (landing page)Zhigang Li  OK  
1011/2302iGC 1.39.0  (landing page)Liang-Bo Wang  OK  
1012/2302IgGeneUsage 1.23.0  (landing page)Simo Kitanovski  WARNINGS  
1013/2302igvR 1.29.0  (landing page)Arkadiusz Gladki  OK  
1014/2302igvShiny 1.5.0  (landing page)Arkadiusz Gladki  OK  
1015/2302IHW 1.37.0  (landing page)Nikos Ignatiadis  OK  
1016/2302illuminaio 0.51.0  (landing page)Kasper Daniel Hansen  OK  
1017/2302ILoReg 1.19.0  (landing page)Johannes Smolander  ERROR  
1018/2302imageTCGA 1.1.0  (landing page)Ilaria Billato  OK  
1019/2302IMAS 1.33.0  (landing page)Seonggyun Han  OK  
1020/2302imcRtools 1.15.0  (landing page)Daniel Schulz  ERROR  
1021/2302IMMAN 1.29.0  (landing page)Minoo Ashtiani  OK  
1022/2302immApex 1.3.0  (landing page)Nick Borcherding  ERROR  
1023/2302immunoClust 1.41.0  (landing page)Till Soerensen  ERROR  
1024/2302immunogenViewer 1.3.0  (landing page)Katharina Waury  ERROR  
1025/2302immunotation 1.17.0  (landing page)Katharina Imkeller  OK  
1026/2302IMPCdata 1.45.0  (landing page)Jeremy Mason  OK  
1027/2302impute 1.83.0  (landing page)Balasubramanian Narasimhan  WARNINGS  
1028/2302INDEED 2.23.0  (landing page)Ressom group  OK  
1029/2302iNETgrate 1.7.0  (landing page)Habil Zare  OK  
1030/2302infercnv 1.25.0  (landing page)Christophe Georgescu  ERROR  
1031/2302infinityFlow 1.19.0  (landing page)Etienne Becht  OK  
1032/2302Informeasure 1.19.0  (landing page)Chu Pan  OK  
1033/2302InPAS 2.17.0  (landing page)Jianhong Ou  ERROR  
1034/2302INPower 1.45.0  (landing page)Bill Wheeler  OK  
1035/2302INSPEcT 1.39.0  (landing page)Stefano de Pretis  OK  
1036/2302INTACT 1.9.0  (landing page)Jeffrey Okamoto  OK  
1037/2302InTAD 1.29.0  (landing page)Konstantin Okonechnikov  OK  
1038/2302intansv 1.49.0  (landing page)Wen Yao  OK  
1039/2302interacCircos 1.19.0  (landing page)Zhe Cui  OK  
1040/2302InteractionSet 1.37.0  (landing page)Aaron Lun  OK  
1041/2302InteractiveComplexHeatmap 1.17.0  (landing page)Zuguang Gu  OK  
1042/2302interactiveDisplay 1.47.0  (landing page)Bioconductor Package Maintainer  OK  
1043/2302interactiveDisplayBase 1.47.0  (landing page)Bioconductor Package Maintainer  OK  
1044/2302InterCellar 2.15.0  (landing page)Marta Interlandi  OK  
1045/2302IntEREst 1.33.0  (landing page)Ali Oghabian  OK  
1046/2302IntramiRExploreR 1.31.0  (landing page)Surajit Bhattacharya  WARNINGS  
1047/2302IONiseR 2.33.0  (landing page)Mike Smith  OK  
1048/2302iPath 1.15.0  (landing page)Kenong Su  ERROR  
1049/2302ipdDb 1.27.0  (landing page)Steffen Klasberg  OK  
1050/2302IPO 1.35.0  (landing page)Thomas Lieb  ERROR  
1051/2302IRanges 2.43.0  (landing page)Hervé Pagès  WARNINGS  
1052/2302ISAnalytics 1.19.0  (landing page)Francesco Gazzo  OK  
1053/2302iSEE 2.21.0  (landing page)Kevin Rue-Albrecht  OK  
1054/2302iSEEde 1.7.0  (landing page)Kevin Rue-Albrecht  OK  
1055/2302iSEEfier 1.5.0  (landing page)Najla Abassi  OK  
1056/2302iSEEhex 1.11.0  (landing page)Kevin Rue-Albrecht  OK  
1057/2302iSEEhub 1.11.0  (landing page)Kevin Rue-Albrecht  OK  
1058/2302iSEEindex 1.7.0  (landing page)Kevin Rue-Albrecht  OK  
1059/2302iSEEpathways 1.7.0  (landing page)Kevin Rue-Albrecht  OK  
1060/2302iSEEtree 1.3.0  (landing page)Giulio Benedetti  WARNINGS  
1061/2302iSEEu 1.21.0  (landing page)Kevin Rue-Albrecht  WARNINGS  
1062/2302iSeq 1.61.0  (landing page)Qianxing Mo  OK  
1063/2302ISLET 1.11.0  (landing page)Hao Feng  TIMEOUT  
1064/2302islify 1.1.0  (landing page)Jakob Theorell  OK  
1065/2302isobar 1.55.0  (landing page)Florian P Breitwieser  WARNINGS  
1066/2302IsoBayes 1.7.0  (landing page)Simone Tiberi  OK  
1067/2302IsoCorrectoR 1.27.0  (landing page)Christian Kohler  OK  
1068/2302IsoCorrectoRGUI 1.25.0  (landing page)Christian Kohler  OK  
1069/2302IsoformSwitchAnalyzeR 2.9.0  (landing page)Kristoffer Vitting-Seerup  OK  
1070/2302ISoLDE 1.37.0  (landing page)Christelle Reynès  WARNINGS  
1071/2302isomiRs 1.37.0  (landing page)Lorena Pantano  OK  
1072/2302ITALICS 2.69.0  (landing page)Guillem Rigaill  ERROR  
1073/2302iterativeBMA 1.67.0  (landing page)Ka Yee Yeung  OK  
1074/2302iterativeBMAsurv 1.67.0  (landing page)Ka Yee Yeung  WARNINGS  
1075/2302IVAS 2.29.0  (landing page)Seonggyun Han  WARNINGS  
1076/2302ivygapSE 1.31.0  (landing page)VJ Carey  OK  
1077/2302IWTomics 1.33.0  (landing page)Marzia A Cremona  WARNINGS  
J
ABCDEFGHIJKLMNOPQRSTUVWXYZ
PackageMaintainerINSTALL/BUILD/CHECK
1078/2302jazzPanda 1.1.0  (landing page)Melody Jin  ERROR  
K
ABCDEFGHIJKLMNOPQRSTUVWXYZ
PackageMaintainerINSTALL/BUILD/CHECK
1079/2302karyoploteR 1.35.0  (landing page)Bernat Gel  ERROR  
1080/2302katdetectr 1.11.0  (landing page)Daan Hazelaar  ERROR  
1081/2302KBoost 1.17.0  (landing page)Luis F. Iglesias-Martinez  OK  
1082/2302KCsmart 2.67.0  (landing page)Jorma de Ronde  WARNINGS  
1083/2302kebabs 1.43.0  (landing page)Ulrich Bodenhofer  WARNINGS  
1084/2302KEGGgraph 1.69.0  (landing page)Jitao David Zhang  OK  
1085/2302KEGGlincs 1.35.0  (landing page)Shana White , Mario Medvedovic  OK  
1086/2302keggorthology 2.61.0  (landing page)VJ Carey  OK  
1087/2302KEGGREST 1.49.0  (landing page)Bioconductor Package Maintainer  OK  
1088/2302KinSwingR 1.27.0  (landing page)Ashley J. Waardenberg  OK  
1089/2302kissDE 1.29.0  (landing page)Aurélie Siberchicot  OK  
1090/2302kmcut 1.3.0  (landing page)Igor Kuznetsov  OK  
1091/2302KnowSeq 1.23.0  (landing page)Daniel Castillo-Secilla  ERROR  
1092/2302knowYourCG 1.5.0  (landing page)Goldberg David  WARNINGS  
1093/2302koinar 1.3.0  (landing page)Ludwig Lautenbacher  ERROR  
L
ABCDEFGHIJKLMNOPQRSTUVWXYZ
PackageMaintainerINSTALL/BUILD/CHECK
1094/2302LACE 2.13.0  (landing page)Davide Maspero  OK  
1095/2302lapmix 1.75.0  (landing page)Yann Ruffieux  ERROR  
1096/2302LBE 1.77.0  (landing page)Cyril Dalmasso  OK  
1097/2302ldblock 1.39.0  (landing page)VJ Carey  ERROR  
1098/2302LEA 3.21.0  (landing page)Olivier Francois  OK  
1099/2302LedPred 1.43.0  (landing page)Aitor Gonzalez  OK  
1100/2302lefser 1.19.1  (landing page)Sehyun Oh  OK  
1101/2302lemur 1.7.0  (landing page)Constantin Ahlmann-Eltze  WARNINGS  
1102/2302les 1.59.0  (landing page)Julian Gehring  OK  
1103/2302levi 1.27.0  (landing page)Jose Luiz Rybarczyk Filho  WARNINGS  
1104/2302lfa 2.9.0  (landing page)Alejandro Ochoa  OK  
1105/2302Lheuristic 1.1.0  (landing page)Sanchez Pla Alex  OK  
1106/2302limma 3.65.0  (landing page)Gordon Smyth  OK  
1107/2302limmaGUI 1.85.0  (landing page)Gordon Smyth  OK  
1108/2302limpa 1.1.1  (landing page)Gordon Smyth  OK  
1109/2302limpca 1.5.0  (landing page)Manon Martin  OK  
1110/2302LimROTS 1.1.0  (landing page)Ali Mostafa Anwar  OK  
1111/2302lineagespot 1.13.0  (landing page)Nikolaos Pechlivanis  OK  
1112/2302LinkHD 1.23.0  (landing page)"Laura M Zingaretti"  OK  
1113/2302Linnorm 2.33.0  (landing page)Shun Hang Yip  OK  
1114/2302LinTInd 1.13.0  (landing page)Luyue Wang  OK  
1115/2302lionessR 1.23.0  (landing page)Ping-Han Hsieh  OK  
1116/2302lipidr 2.23.0  (landing page)Ahmed Mohamed  OK  
1117/2302LiquidAssociation 1.63.0  (landing page)Yen-Yi Ho  OK  
1118/2302lisaClust 1.17.0  (landing page)Ellis Patrick  OK  
1119/2302lmdme 1.51.0  (landing page)Cristobal Fresno  WARNINGS  
1120/2302LOBSTAHS 1.35.0  (landing page)Henry Holm  ERROR  
1121/2302loci2path 1.29.0  (landing page)Tianlei Xu  OK  
1122/2302logicFS 2.29.0  (landing page)Holger Schwender  OK  
1123/2302LOLA 1.39.0  (landing page)Nathan Sheffield  OK  
1124/2302LoomExperiment 1.27.0  (landing page)Bioconductor Package Maintainer  OK  
1125/2302LPE 1.83.0  (landing page)Nitin Jain  OK  
1126/2302lpNet 2.41.0  (landing page)Lars Kaderali  WARNINGS  
1127/2302lpsymphony 1.37.0  (landing page)Vladislav Kim  WARNINGS  
1128/2302LRBaseDbi 2.19.0  (landing page)Koki Tsuyuzaki  ERROR  
1129/2302LRcell 1.17.0  (landing page)Wenjing Ma  OK  
1130/2302lumi 2.61.0  (landing page)Lei Huang  WARNINGS  
1131/2302lute 1.5.0  (landing page)Sean K Maden  OK  
1132/2302LymphoSeq 1.37.0  (landing page)David Coffey  ERROR  
M
ABCDEFGHIJKLMNOPQRSTUVWXYZ
PackageMaintainerINSTALL/BUILD/CHECK
1133/2302M3C 1.31.0  (landing page)Christopher John  OK  
1134/2302M3Drop 1.35.0  (landing page)Tallulah Andrews  OK  
1135/2302m6Aboost 1.15.0  (landing page)You Zhou  ERROR  
1136/2302Maaslin2 1.23.0  (landing page)Lauren McIver  OK  
1137/2302maaslin3 1.1.0  (landing page)William Nickols  OK  
1138/2302Macarron 1.13.0  (landing page)Sagun Maharjan  ERROR  
1139/2302maCorrPlot 1.79.0  (landing page)Alexander Ploner  OK  
1140/2302MACSQuantifyR 1.23.0  (landing page)Raphaël Bonnet  OK  
1141/2302MACSr 1.17.0  (landing page)Qiang Hu  OK  
1142/2302made4 1.83.0  (landing page)Aedin Culhane  OK  
1143/2302MADSEQ 1.35.0  (landing page)Yu Kong  ERROR  
1144/2302maftools 2.25.0  (landing page)Anand Mayakonda  ERROR  
1145/2302MAGAR 1.17.0  (landing page)Michael Scherer  ERROR  
1146/2302magpie 1.9.0  (landing page)Daoyu Duan  WARNINGS  
1147/2302magrene 1.11.0  (landing page)Fabrício Almeida-Silva  OK  
1148/2302MAI 1.15.0  (landing page)Jonathan Dekermanjian  OK  
1149/2302MAIT 1.43.0  (landing page)Pol Sola-Santos  ERROR  
1150/2302makecdfenv 1.85.0  (landing page)James W. MacDonald  WARNINGS  
1151/2302MANOR 1.81.0  (landing page)Pierre Neuvial  OK  
1152/2302MantelCorr 1.79.0  (landing page)Brian Steinmeyer  OK  
1153/2302MAPFX 1.5.0  (landing page)Hsiao-Chi Liao  OK  
1154/2302maPredictDSC 1.47.0  (landing page)Adi Laurentiu Tarca  ERROR  
1155/2302mapscape 1.33.0  (landing page)Maia Smith  WARNINGS  
1156/2302mariner 1.9.0  (landing page)Eric Davis  ERROR  
1157/2302marr 1.19.0  (landing page)Tusharkanti Ghosh  OK  
1158/2302marray 1.87.0  (landing page)Yee Hwa (Jean) Yang  OK  
1159/2302martini 1.29.0  (landing page)Hector Climente-Gonzalez  ERROR  
1160/2302maser 1.27.0  (landing page)Diogo F.T. Veiga  OK  
1161/2302maSigPro 1.81.0  (landing page)Maria Jose Nueda  OK  
1162/2302maskBAD 1.53.0  (landing page)Michael Dannemann  OK  
1163/2302MassArray 1.61.0  (landing page)Reid F. Thompson  OK  
1164/2302massiR 1.45.0  (landing page)Sam Buckberry  OK  
1165/2302MassSpecWavelet 1.75.0  (landing page)Sergio Oller Moreno  OK  
1166/2302MAST 1.35.0  (landing page)Andrew McDavid  ERROR  
1167/2302mastR 1.9.0  (landing page)Jinjin Chen  TIMEOUT  
1168/2302matchBox 1.51.0  (landing page)Luigi Marchionni , Anuj Gupta  OK  
1169/2302MatrixGenerics 1.21.0  (landing page)Peter Hickey  OK  
1170/2302MatrixQCvis 1.17.0  (landing page)Thomas Naake  ERROR  
1171/2302MatrixRider 1.41.0  (landing page)Elena Grassi  WARNINGS  
1172/2302matter 2.11.0  (landing page)Kylie A. Bemis  OK  
1173/2302MBAmethyl 1.43.0  (landing page)Tao Wang  OK  
1174/2302MBASED 1.43.0  (landing page)Oleg Mayba  OK  
1175/2302MBCB 1.63.0  (landing page)Bo Yao  OK  
1176/2302MBECS 1.13.0  (landing page)Michael Olbrich  OK  
1177/2302mbkmeans 1.25.0  (landing page)Davide Risso  ERROR  
1178/2302mBPCR 1.63.0  (landing page)P.M.V. Rancoita  OK  
1179/2302MBQN 2.21.0  (landing page)Eva Brombacher  OK  
1180/2302mbQTL 1.9.0  (landing page)Mercedeh Movassagh  OK  
1181/2302MBttest 1.37.0  (landing page)Yuan-De Tan  OK  
1182/2302MCbiclust 1.33.0  (landing page)Robert Bentham  OK  
1183/2302mCSEA 1.29.0  (landing page)Jordi Martorell-Marugán  OK  
1184/2302mdp 1.29.0  (landing page)Helder Nakaya  OK  
1185/2302mdqc 1.71.0  (landing page)Gabriela Cohen-Freue  OK  
1186/2302MDTS 1.29.0  (landing page)Jack M.. Fu  OK  
1187/2302MEAL 1.39.0  (landing page)Xavier Escribà Montagut  ERROR  
1188/2302MeasurementError.cor 1.81.0  (landing page)Beiying Ding  OK  
1189/2302MEAT 1.21.0  (landing page)Sarah Voisin  WARNINGS  
1190/2302MEB 1.23.0  (landing page)Jiadi Zhu  OK  
1191/2302MEDIPS 1.61.0  (landing page)Lukas Chavez  ERROR  
1192/2302MEDME 1.69.0  (landing page)Mattia Pelizzola  ERROR  
1193/2302megadepth 1.19.0  (landing page)David Zhang  ERROR  
1194/2302MEIGOR 1.43.0  (landing page)Jose A. Egea  OK  
1195/2302Melissa 1.25.0  (landing page)C. A. Kapourani  OK  
1196/2302memes 1.17.0  (landing page)Spencer Nystrom  ERROR  
1197/2302Mergeomics 1.37.0  (landing page)Zeyneb Kurt  OK  
1198/2302MeSHDbi 1.45.0  (landing page)Koki Tsuyuzaki  OK  
1199/2302meshes 1.35.0  (landing page)Guangchuang Yu  OK  
1200/2302meshr 2.15.0  (landing page)Koki Tsuyuzaki  OK  
1201/2302MesKit 1.19.0  (landing page)Mengni Liu  WARNINGS  
1202/2302messina 1.45.0  (landing page)Mark Pinese  WARNINGS  
1203/2302metabCombiner 1.19.0  (landing page)Hani Habra  OK  
1204/2302metabinR 1.11.0  (landing page)Anestis Gkanogiannis  OK  
1205/2302MetaboAnnotation 1.13.0  (landing page)Johannes Rainer  ERROR  
1206/2302MetaboCoreUtils 1.17.0  (landing page)Johannes Rainer  OK  
1207/2302MetaboDynamics 1.1.0  (landing page)Katja Danielzik  WARNINGS  
1208/2302metabolomicsWorkbenchR 1.19.0  (landing page)Gavin Rhys Lloyd  OK  
1209/2302metabomxtr 1.43.0  (landing page)Michael Nodzenski  OK  
1210/2302MetaboSignal 1.39.0  (landing page)Andrea Rodriguez-Martinez  OK  
1211/2302metaCCA 1.37.0  (landing page)Anna Cichonska  WARNINGS  
1212/2302MetaCyto 1.31.0  (landing page)Zicheng Hu  OK  
1213/2302metagene2 1.25.0  (landing page)Eric Fournier  WARNINGS  
1214/2302metagenomeSeq 1.51.0  (landing page)Joseph N. Paulson  OK  
1215/2302metahdep 1.67.0  (landing page)John R. Stevens  ERROR  
1216/2302metaMS 1.45.0  (landing page)Yann Guitton  ERROR  
1217/2302MetaNeighbor 1.29.0  (landing page)Stephan Fischer  OK  
1218/2302MetaPhOR 1.11.0  (landing page)Emily Isenhart  OK  
1219/2302metapod 1.17.0  (landing page)Aaron Lun  OK  
1220/2302metapone 1.15.0  (landing page)Tianwei Yu  TIMEOUT  
1221/2302metaSeq 1.49.0  (landing page)Koki Tsuyuzaki  OK  
1222/2302metaseqR2 1.21.0  (landing page)Panagiotis Moulos  ERROR  
1223/2302MetCirc 1.39.0  (landing page)Thomas Naake  OK  
1224/2302methimpute 1.31.0  (landing page)Aaron Taudt  WARNINGS  
1225/2302methInheritSim 1.31.0  (landing page)Pascal Belleau  OK  
1226/2302methodical 1.5.0  (landing page)Richard Heery  ERROR  
1227/2302MethPed 1.37.0  (landing page)Helena Carén  OK  
1228/2302MethReg 1.19.0  (landing page)Tiago Silva  ERROR  
1229/2302methrix 1.23.0  (landing page)Anand Mayakonda  ERROR  
1230/2302MethTargetedNGS 1.41.0  (landing page)Muhammad Ahmer Jamil  OK  
1231/2302MethylAid 1.43.0  (landing page)L.J.Sinke  OK  
1232/2302methylCC 1.23.0  (landing page)Stephanie C. Hicks  OK  
1233/2302methylclock 1.15.0  (landing page)Dolors Pelegri-Siso  OK  
1234/2302methylGSA 1.27.0  (landing page)Xu Ren  OK  
1235/2302methyLImp2 1.5.0  (landing page)Anna Plaksienko  OK  
1236/2302methylInheritance 1.33.0  (landing page)Astrid Deschênes  OK  
1237/2302methylKit 1.35.0  (landing page)Altuna Akalin , Alexander Blume  OK  
1238/2302MethylMix 2.39.0  (landing page)Olivier Gevaert  OK  
1239/2302methylMnM 1.47.0  (landing page)Yan Zhou  OK  
1240/2302methylPipe 1.43.0  (landing page)Mattia Furlan  ERROR  
1241/2302methylscaper 1.17.0  (landing page)Bacher Rhonda  OK  
1242/2302MethylSeekR 1.49.0  (landing page)Lukas Burger  ERROR  
1243/2302methylSig 1.21.0  (landing page)Raymond G. Cavalcante  ERROR  
1244/2302methylumi 2.55.0  (landing page)Sean Davis  OK  
1245/2302MetID 1.27.0  (landing page)Zhenzhi Li  OK  
1246/2302MetMashR 1.3.0  (landing page)Gavin Rhys Lloyd  ERROR  
1247/2302MetNet 1.27.0  (landing page)Thomas Naake  OK  
1248/2302mfa 1.31.0  (landing page)Kieran Campbell  OK  
1249/2302Mfuzz 2.69.0  (landing page)Matthias Futschik  OK  
1250/2302MGFM 1.43.0  (landing page)Khadija El Amrani  OK  
1251/2302MGFR 1.35.0  (landing page)Khadija El Amrani  OK  
1252/2302MGnifyR 1.5.0  (landing page)Tuomas Borman  OK  
1253/2302mgsa 1.57.0  (landing page)Sebastian Bauer  WARNINGS  
1254/2302mia 1.17.0  (landing page)Tuomas Borman  TIMEOUT  
1255/2302miaDash 1.1.0  (landing page)Giulio Benedetti  OK  
1256/2302miaSim 1.15.0  (landing page)Yagmur Simsek  OK  
1257/2302miaViz 1.17.0  (landing page)Tuomas Borman  OK  
1258/2302MiChip 1.63.0  (landing page)Jonathon Blake  OK  
1259/2302microbiome 1.31.0  (landing page)Leo Lahti  ERROR  
1260/2302microbiomeDASim 1.23.0  (landing page)Justin Williams  OK  
1261/2302microbiomeExplorer 1.19.0  (landing page)Janina Reeder  OK  
1262/2302MicrobiomeProfiler 1.15.0  (landing page)Guangchuang Yu  OK  
1263/2302MicrobiotaProcess 1.21.0  (landing page)Shuangbin Xu  OK  
1264/2302microRNA 1.67.0  (landing page)"Michael Lawrence"  OK  
1265/2302microSTASIS 1.9.0  (landing page)Pedro Sánchez-Sánchez  ERROR  
1266/2302MICSQTL 1.7.0  (landing page)Qian Li  OK  
1267/2302midasHLA 1.17.0  (landing page)Maciej Migdał  ERROR  
1268/2302miloR 2.5.0  (landing page)Mike Morgan  ERROR  
1269/2302mimager 1.33.0  (landing page)Aaron Wolen  ERROR  
1270/2302mina 1.17.0  (landing page)Rui Guan  ERROR  
1271/2302MineICA 1.49.0  (landing page)Anne Biton  WARNINGS  
1272/2302minet 3.67.0  (landing page)Patrick E. Meyer  OK  
1273/2302minfi 1.55.0  (landing page)Kasper Daniel Hansen  OK  
1274/2302MinimumDistance 1.53.0  (landing page)Robert Scharpf  ERROR  
1275/2302MiPP 1.81.0  (landing page)Sukwoo Kim  OK  
1276/2302miQC 1.17.0  (landing page)Ariel Hippen  OK  
1277/2302MIRA 1.31.0  (landing page)John Lawson  OK  
1278/2302MiRaGE 1.51.0  (landing page)Y-h. Taguchi  ERROR  
1279/2302miRBaseConverter 1.33.0  (landing page)Taosheng Xu Taosheng Xu  OK  
1280/2302miRcomp 1.39.0  (landing page)Matthew N. McCall  WARNINGS  
1281/2302mirIntegrator 1.39.0  (landing page)Diana Diaz  OK  
1282/2302MIRit 1.5.0  (landing page)Jacopo Ronchi  OK  
1283/2302miRLAB 1.39.0  (landing page)Thuc Duy Le  WARNINGS  
1284/2302miRNAmeConverter 1.37.0  (landing page)Stefan J. Haunsberger  WARNINGS  
1285/2302miRNApath 1.69.0  (landing page)James M. Ward  OK  
1286/2302miRNAtap 1.43.0  (landing page)T. Ian Simpson  OK  
1287/2302miRSM 2.5.0  (landing page)Junpeng Zhang  OK  
1288/2302miRspongeR 2.13.0  (landing page)Junpeng Zhang  OK  
1289/2302mirTarRnaSeq 1.17.0  (landing page)Mercedeh Movassagh  OK  
1290/2302missMethyl 1.43.0  (landing page)Belinda Phipson  ERROR  
1291/2302missRows 1.29.0  (landing page)Gonzalez Ignacio  OK  
1292/2302mist 1.1.0  (landing page)Daoyu Duan  WARNINGS  
1293/2302mistyR 1.17.0  (landing page)Jovan Tanevski  ERROR  
1294/2302mitch 1.21.3  (landing page)Mark Ziemann  OK  
1295/2302mitoClone2 1.15.0  (landing page)Benjamin Story  WARNINGS  
1296/2302mitology 1.1.0  (landing page)Stefania Pirrotta  OK  
1297/2302mixOmics 6.33.0  (landing page)Eva Hamrud  ERROR  
1298/2302MLInterfaces 1.89.0  (landing page)Vincent Carey  WARNINGS  
1299/2302MLP 1.57.0  (landing page)Tobias Verbeke  ERROR  
1300/2302MLSeq 2.27.0  (landing page)Gokmen Zararsiz  OK  
1301/2302MMDiff2 1.37.0  (landing page)Gabriele Schweikert  ERROR  
1302/2302MMUPHin 1.23.0  (landing page)Siyuan MA  OK  
1303/2302mnem 1.25.0  (landing page)Martin Pirkl  WARNINGS  
1304/2302moanin 1.17.0  (landing page)Nelle Varoquaux  OK  
1305/2302mobileRNA 1.5.0  (landing page)Katie Jeynes-Cupper  OK  
1306/2302MODA 1.35.0  (landing page)Dong Li  OK  
1307/2302ModCon 1.17.0  (landing page)Johannes Ptok  OK  
1308/2302Modstrings 1.25.0  (landing page)Felix G.M. Ernst  OK  
1309/2302MOFA2 1.19.0  (landing page)Ricard Argelaguet  WARNINGS  
1310/2302MOGAMUN 1.19.0  (landing page)Elva-María Novoa-del-Toro  ERROR  
1311/2302mogsa 1.43.0  (landing page)Chen Meng  OK  
1312/2302MoleculeExperiment 1.9.0  (landing page)Shila Ghazanfar  OK  
1313/2302MOMA 1.21.0  (landing page)Sunny Jones  OK  
1314/2302monaLisa 1.15.0  (landing page)Michael Stadler  ERROR  
1315/2302monocle 2.37.0  (landing page)Cole Trapnell  OK  
1316/2302Moonlight2R 1.7.0  (landing page)Matteo Tiberti  ERROR  
1317/2302MoonlightR 1.35.0  (landing page)Matteo Tiberti  OK  
1318/2302mosaics 2.47.0  (landing page)Dongjun Chung  ERROR  
1319/2302mosbi 1.15.0  (landing page)Tim Daniel Rose  ERROR  
1320/2302MOSClip 1.3.0  (landing page)Paolo Martini  ERROR  
1321/2302mosdef 1.5.0  (landing page)Federico Marini  ERROR  
1322/2302MOSim 2.5.0  (landing page)Sonia Tarazona  WARNINGS  
1323/2302Motif2Site 1.13.0  (landing page)Peyman Zarrineh  ERROR  
1324/2302motifbreakR 2.23.0  (landing page)Simon Gert Coetzee  ERROR  
1325/2302motifcounter 1.33.0  (landing page)Wolfgang Kopp  ERROR  
1326/2302MotifDb 1.51.0  (landing page)Paul Shannon  WARNINGS  
1327/2302motifmatchr 1.31.0  (landing page)Alicia Schep  OK  
1328/2302MotifPeeker 1.1.0  (landing page)Hiranyamaya Dash  ERROR  
1329/2302motifStack 1.53.0  (landing page)Jianhong Ou  OK  
1330/2302motifTestR 1.5.0  (landing page)Stevie Pederson  OK  
1331/2302MouseFM 1.19.0  (landing page)Matthias Munz  ERROR  
1332/2302MPAC 1.3.0  (landing page)Peng Liu  OK  
1333/2302MPFE 1.45.0  (landing page)Conrad Burden  OK  
1334/2302mpra 1.31.0  (landing page)Leslie Myint  OK  
1335/2302MPRAnalyze 1.27.0  (landing page)Tal Ashuach  OK  
1336/2302msa 1.41.0  (landing page)Ulrich Bodenhofer  ERROR  
1337/2302MSA2dist 1.13.0  (landing page)Kristian K Ullrich  OK  
1338/2302MsBackendMassbank 1.17.0  (landing page)RforMassSpectrometry Package Maintainer  OK  
1339/2302MsBackendMetaboLights 1.3.0  (landing page)Johannes Rainer  ERROR  
1340/2302MsBackendMgf 1.17.0  (landing page)RforMassSpectrometry Package Maintainer  OK  
1341/2302MsBackendMsp 1.13.0  (landing page)Johannes Rainer  OK  
1342/2302MsBackendRawFileReader 1.15.0  (landing page)Christian Panse  ERROR  
1343/2302MsBackendSql 1.9.0  (landing page)Johannes Rainer  ERROR  
1344/2302MsCoreUtils 1.21.0  (landing page)RforMassSpectrometry Package Maintainer  OK  
1345/2302MsDataHub 1.9.0  (landing page)Laurent Gatto  ERROR  
1346/2302MsExperiment 1.11.0  (landing page)Laurent Gatto  ERROR  
1347/2302MsFeatures 1.17.0  (landing page)Johannes Rainer  OK  
1348/2302msgbsR 1.33.0  (landing page)Benjamin Mayne  ERROR  
1349/2302msImpute 1.19.0  (landing page)Soroor Hediyeh-zadeh  OK  
1350/2302mslp 1.11.0  (landing page)Chunxuan Shao  ERROR  
1351/2302msmsEDA 1.47.0  (landing page)Josep Gregori  OK  
1352/2302msmsTests 1.47.0  (landing page)Josep Gregori i Font  OK  
1353/2302MSnbase 2.35.0  (landing page)Laurent Gatto  ERROR  
1354/2302MSnID 1.43.0  (landing page)Vlad Petyuk  ERROR  
1355/2302mspms 1.1.0  (landing page)Charlie Bayne  OK  
1356/2302MSPrep 1.19.0  (landing page)Max McGrath  ERROR  
1357/2302msPurity 1.35.0  (landing page)Thomas N. Lawson  ERROR  
1358/2302msqrob2 1.17.0  (landing page)Lieven Clement  OK  
1359/2302MsQuality 1.9.0  (landing page)Thomas Naake  ERROR  
1360/2302MSstats 4.17.0  (landing page)Meena Choi  WARNINGS  
1361/2302MSstatsBig 1.7.0  (landing page)Mateusz Staniak  OK  
1362/2302MSstatsBioNet 1.1.0  (landing page)Anthony Wu  OK  
1363/2302MSstatsConvert 1.19.0  (landing page)Mateusz Staniak  WARNINGS  
1364/2302MSstatsLiP 1.15.0  (landing page)Devon Kohler  ERROR  
1365/2302MSstatsLOBD 1.17.0  (landing page)Devon Kohler  OK  
1366/2302MSstatsPTM 2.11.0  (landing page)Devon Kohler  OK  
1367/2302MSstatsQC 2.27.0  (landing page)Eralp Dogu  OK  
1368/2302MSstatsQCgui 1.29.0  (landing page)Eralp Dogu  OK  
1369/2302MSstatsShiny 1.11.0  (landing page)Devon Kohler  OK  
1370/2302MSstatsTMT 2.17.0  (landing page)Devon Kohler  OK  
1371/2302MuData 1.13.0  (landing page)Ilia Kats  OK  
1372/2302Mulcom 1.59.0  (landing page)Claudio Isella  WARNINGS  
1373/2302MultiAssayExperiment 1.35.1  (landing page)Marcel Ramos  ERROR  
1374/2302MultiBaC 1.19.0  (landing page)The package maintainer  OK  
1375/2302multiClust 1.39.0  (landing page)Nathan Lawlor  OK  
1376/2302multicrispr 1.19.0  (landing page)Aditya Bhagwat  ERROR  
1377/2302MultiDataSet 1.37.0  (landing page)Xavier Escribà Montagut  ERROR  
1378/2302multiGSEA 1.19.0  (landing page)Sebastian Canzler  OK  
1379/2302multiHiCcompare 1.27.0  (landing page)Mikhail Dozmorov  OK  
1380/2302MultiMed 2.31.0  (landing page)Simina M. Boca  OK  
1381/2302multiMiR 1.31.0  (landing page)Spencer Mahaffey  OK  
1382/2302MultimodalExperiment 1.9.0  (landing page)Lucas Schiffer  OK  
1383/2302MultiRNAflow 1.7.0  (landing page)Rodolphe Loubaton  OK  
1384/2302multiscan 1.69.0  (landing page)Mizanur Khondoker  OK  
1385/2302multistateQTL 2.1.0  (landing page)Amelia Dunstone  OK  
1386/2302multiWGCNA 1.7.0  (landing page)Dario Tommasini  OK  
1387/2302multtest 2.65.0  (landing page)Katherine S. Pollard  WARNINGS  
1388/2302mumosa 1.17.0  (landing page)Aaron Lun  OK  
1389/2302MungeSumstats 1.17.0  (landing page)Alan Murphy  ERROR  
1390/2302muscat 1.23.0  (landing page)Helena L. Crowell  OK  
1391/2302muscle 3.51.0  (landing page)Alex T. Kalinka  WARNINGS  
1392/2302musicatk 2.3.0  (landing page)Joshua D. Campbell  ERROR  
1393/2302MutationalPatterns 3.19.0  (landing page)Mark van Roosmalen  ERROR  
1394/2302MVCClass 1.83.0  (landing page)Elizabeth Whalen  OK  
1395/2302MWASTools 1.33.0  (landing page)Andrea Rodriguez-Martinez , Rafael Ayala  OK  
1396/2302mygene 1.45.0  (landing page)Adam Mark, Cyrus Afrasiabi, Chunlei Wu  OK  
1397/2302myvariant 1.39.0  (landing page)Adam Mark, Chunlei Wu  OK  
1398/2302mzID 1.47.0  (landing page)Laurent Gatto  OK  
1399/2302mzR 2.43.0  (landing page)Steffen Neumann  ERROR  
N
ABCDEFGHIJKLMNOPQRSTUVWXYZ
PackageMaintainerINSTALL/BUILD/CHECK
1400/2302NADfinder 1.33.0  (landing page)Jianhong Ou  ERROR  
1401/2302NanoMethViz 3.5.1  (landing page)Shian Su  OK  
1402/2302NanoStringDiff 1.39.0  (landing page)tingting zhai ,hong wang  WARNINGS  
1403/2302NanoStringNCTools 1.17.0  (landing page)Maddy Griswold  ERROR  
1404/2302NanoTube 1.15.0  (landing page)Caleb Class  OK  
1405/2302NBAMSeq 1.25.0  (landing page)Xu Ren  OK  
1406/2302ncdfFlow 2.55.0  (landing page)Mike Jiang  WARNINGS  
1407/2302ncGTW 1.23.0  (landing page)Chiung-Ting Wu  ERROR  
1408/2302NCIgraph 1.57.0  (landing page)Laurent Jacob  OK  
1409/2302ncRNAtools 1.19.0  (landing page)Lara Selles Vidal  OK  
1410/2302ndexr 1.31.0  (landing page)Florian Auer  OK  
1411/2302nearBynding 1.19.0  (landing page)Veronica Busa  OK  
1412/2302Nebulosa 1.19.0  (landing page)Jose Alquicira-Hernandez  OK  
1413/2302nempi 1.17.0  (landing page)Martin Pirkl  OK  
1414/2302NetActivity 1.11.0  (landing page)Carlos Ruiz-Arenas  OK  
1415/2302netboost 2.17.0  (landing page)Pascal Schlosser  ERROR  
1416/2302nethet 1.41.0  (landing page)Nicolas Staedler  WARNINGS  
1417/2302NetPathMiner 1.45.0  (landing page)Ahmed Mohamed  OK  
1418/2302netprioR 1.35.0  (landing page)Fabian Schmich  OK  
1419/2302netresponse 1.69.0  (landing page)Leo Lahti  OK  
1420/2302NetSAM 1.49.0  (landing page)Zhiao Shi  ERROR  
1421/2302netSmooth 1.29.0  (landing page)Jonathan Ronen  ERROR  
1422/2302netZooR 1.13.0  (landing page)Tara Eicher  ERROR  
1423/2302NewWave 1.19.0  (landing page)Federico Agostinis  OK  
1424/2302ngsReports 2.11.0  (landing page)Stevie Pederson  OK  
1425/2302nipalsMCIA 1.7.0  (landing page)Maximilian Mattessich  ERROR  
1426/2302nnNorm 2.73.0  (landing page)Adi Laurentiu Tarca  OK  
1427/2302nnSVG 1.13.0  (landing page)Lukas M. Weber  OK  
1428/2302NOISeq 2.53.0  (landing page)Sonia Tarazona  OK  
1429/2302nondetects 2.39.0  (landing page)Valeriia Sherina  ERROR  
1430/2302NoRCE 1.21.0  (landing page)Gulden Olgun  ERROR  
1431/2302normalize450K 1.37.0  (landing page)Jonathan Alexander Heiss  OK  
1432/2302NormalyzerDE 1.27.0  (landing page)Jakob Willforss  WARNINGS  
1433/2302NormqPCR 1.55.0  (landing page)James Perkins  OK  
1434/2302normr 1.35.0  (landing page)Johannes Helmuth  ERROR  
1435/2302NPARC 1.21.0  (landing page)Nils Kurzawa  OK  
1436/2302npGSEA 1.45.0  (landing page)Jessica Larson  OK  
1437/2302NTW 1.59.0  (landing page)Yuanhua Liu  WARNINGS  
1438/2302nucleoSim 1.37.0  (landing page)Astrid Deschênes  OK  
1439/2302nucleR 2.41.0  (landing page)Alba Sala  WARNINGS  
1440/2302nuCpos 1.27.0  (landing page)Hiroaki Kato  OK  
1441/2302nullranges 1.15.0  (landing page)Michael Love  OK  
1442/2302NuPoP 2.17.0  (landing page)Ji-Ping Wang  OK  
O
ABCDEFGHIJKLMNOPQRSTUVWXYZ
PackageMaintainerINSTALL/BUILD/CHECK
1443/2302occugene 1.69.0  (landing page)Oliver Will  OK  
1444/2302OCplus 1.83.0  (landing page)Alexander Ploner  OK  
1445/2302octad 1.11.1  (landing page)E. Chekalin  OK  
1446/2302odseq 1.37.0  (landing page)José Jiménez  ERROR  
1447/2302OGRE 1.13.0  (landing page)Sven Berres  ERROR  
1448/2302oligo 1.73.0  (landing page)Benilton Carvalho  ERROR  
1449/2302oligoClasses 1.71.0  (landing page)Benilton Carvalho and Robert Scharpf  ERROR  
1450/2302OLIN 1.87.0  (landing page)Matthias Futschik  OK  
1451/2302OLINgui 1.83.0  (landing page)Matthias Futschik  OK  
1452/2302omada 1.11.0  (landing page)Sokratis Kariotis  OK  
1453/2302OmaDB 2.25.0  (landing page)Klara Kaleb , Adrian Altenhoff  OK  
1454/2302omicade4 1.49.0  (landing page)Chen Meng  OK  
1455/2302OmicCircos 1.47.0  (landing page)Ying Hu  WARNINGS  
1456/2302omicplotR 1.29.0  (landing page)Daniel Giguere  OK  
1457/2302omicRexposome 1.31.0  (landing page)Xavier Escribà Montagut  ERROR  
1458/2302OmicsMLRepoR 1.3.0  (landing page)Sehyun Oh  OK  
1459/2302OMICsPCA 1.27.0  (landing page)Subhadeep Das  OK  
1460/2302omicsPrint 1.29.0  (landing page)Davy Cats  ERROR  
1461/2302omicsViewer 1.13.0  (landing page)Chen Meng  OK  
1462/2302Omixer 1.19.0  (landing page)Lucy Sinke  OK  
1463/2302OmnipathR 3.17.0  (landing page)Denes Turei  TIMEOUT  
1464/2302ompBAM 1.13.0  (landing page)Alex Chit Hei Wong  OK  
1465/2302omXplore 1.3.0  (landing page)Samuel Wieczorek  WARNINGS  
1466/2302oncomix 1.31.0  (landing page)Daniel Pique  OK  
1467/2302oncoscanR 1.11.0  (landing page)Yann Christinat  OK  
1468/2302OncoScore 1.37.0  (landing page)Luca De Sano  OK  
1469/2302OncoSimulR 4.11.0  (landing page)Ramon Diaz-Uriarte  TIMEOUT  
1470/2302onlineFDR 2.17.0  (landing page)David S. Robertson  ERROR  
1471/2302ontoProc 2.3.0  (landing page)Vincent Carey  OK  
1472/2302openCyto 2.21.0  (landing page)Mike Jiang  ERROR  
1473/2302openPrimeR 1.31.0  (landing page)Matthias Döring  ERROR  
1474/2302OpenStats 1.21.0  (landing page)Marina Kan  OK  
1475/2302oposSOM 2.27.0  (landing page)Henry Loeffler-Wirth  ERROR  
1476/2302oppar 1.37.0  (landing page)Soroor Hediyeh zadeh  WARNINGS  
1477/2302oppti 1.23.0  (landing page)Abdulkadir Elmas  ERROR  
1478/2302optimalFlow 1.21.0  (landing page)Hristo Inouzhe  OK  
1479/2302OPWeight 1.31.0  (landing page)Mohamad Hasan  OK  
1480/2302OrderedList 1.81.0  (landing page)Claudio Lottaz  OK  
1481/2302ORFhunteR 1.17.0  (landing page)Vasily V. Grinev  WARNINGS  
1482/2302ORFik 1.29.0  (landing page)Haakon Tjeldnes  OK  
1483/2302Organism.dplyr 1.37.0  (landing page)Martin Morgan  OK  
1484/2302OrganismDbi 1.51.0  (landing page)Bioconductor Package Maintainer  OK  
1485/2302orthogene 1.15.0  (landing page)Brian Schilder  OK  
1486/2302orthos 1.7.0  (landing page)Panagiotis Papasaikas  OK  
1487/2302OSAT 1.57.0  (landing page)Li Yan  OK  
1488/2302Oscope 1.39.0  (landing page)Ning Leng  OK  
1489/2302OSTA.data 1.1.0  (landing page)Yixing E. Dong  ERROR  
1490/2302OTUbase 1.59.0  (landing page)Daniel Beck  OK  
1491/2302OUTRIDER 1.27.0  (landing page)Christian Mertes  OK  
1492/2302OutSplice 1.9.0  (landing page)Theresa Guo  OK  
1493/2302OVESEG 1.25.0  (landing page)Lulu Chen  OK  
P
ABCDEFGHIJKLMNOPQRSTUVWXYZ
PackageMaintainerINSTALL/BUILD/CHECK
1494/2302PAA 1.43.0  (landing page)Michael Turewicz , Martin Eisenacher  OK  
1495/2302packFinder 1.21.0  (landing page)Jack Gisby  OK  
1496/2302padma 1.19.0  (landing page)Andrea Rau  OK  
1497/2302PADOG 1.51.0  (landing page)Adi L. Tarca  OK  
1498/2302pageRank 1.19.0  (landing page)Hongxu Ding  OK  
1499/2302PAIRADISE 1.25.0  (landing page)Qiang Hu , Levon Demirdjian  OK  
1500/2302paircompviz 1.47.0  (landing page)Michal Burda  OK  
1501/2302pairedGSEA 1.9.0  (landing page)Søren Helweg Dam  OK  
1502/2302pairkat 1.15.0  (landing page)Max McGrath  OK  
1503/2302pandaR 1.41.0  (landing page)Joseph N. Paulson , Dan Schlauch  WARNINGS  
1504/2302panelcn.mops 1.31.0  (landing page)Gundula Povysil  OK  
1505/2302PanomiR 1.13.0  (landing page)Pourya Naderi  OK  
1506/2302panp 1.79.0  (landing page)Peter Warren  OK  
1507/2302PANR 1.55.0  (landing page)Xin Wang  OK  
1508/2302parglms 1.41.0  (landing page)VJ Carey  ERROR  
1509/2302parody 1.67.0  (landing page)Vince Carey  OK  
1510/2302partCNV 1.7.0  (landing page)Ziyi Li  OK  
1511/2302PAST 1.25.0  (landing page)Thrash Adam  WARNINGS  
1512/2302Path2PPI 1.39.0  (landing page)Oliver Philipp  OK  
1513/2302pathifier 1.47.0  (landing page)Assif Yitzhaky  OK  
1514/2302pathlinkR 1.5.0  (landing page)Travis Blimkie  OK  
1515/2302pathMED 1.1.0  (landing page)Jordi Martorell-Marugán  ERROR  
1516/2302PathNet 1.49.0  (landing page)Ludwig Geistlinger  OK  
1517/2302PathoStat 1.35.0  (landing page)Solaiappan Manimaran  OK  
1518/2302pathRender 1.77.0  (landing page)Vince Carey  OK  
1519/2302pathview 1.49.0  (landing page)Weijun Luo  WARNINGS  
1520/2302pathwayPCA 1.25.0  (landing page)Gabriel Odom  OK  
1521/2302pcaExplorer 3.3.0  (landing page)Federico Marini  OK  
1522/2302pcaMethods 2.1.0  (landing page)Henning Redestig  OK  
1523/2302PCAN 1.37.0  (landing page)Matthew Page and Patrice Godard  OK  
1524/2302PCAtools 2.21.0  (landing page)Kevin Blighe  OK  
1525/2302PDATK 1.17.0  (landing page)Benjamin Haibe-Kains  TIMEOUT  
1526/2302pdInfoBuilder 1.73.0  (landing page)Benilton Carvalho  OK  
1527/2302PeacoQC 1.19.0  (landing page)Annelies Emmaneel  OK  
1528/2302peakPantheR 1.23.0  (landing page)Arnaud Wolfer  ERROR  
1529/2302PECA 1.45.0  (landing page)Tomi Suomi  OK  
1530/2302peco 1.21.0  (landing page)Chiaowen Joyce Hsiao  OK  
1531/2302Pedixplorer 1.5.2  (landing page)Louis Le Nezet  OK  
1532/2302pengls 1.15.0  (landing page)Stijn Hawinkel  OK  
1533/2302PepSetTest 1.3.0  (landing page)Junmin Wang  OK  
1534/2302PepsNMR 1.27.0  (landing page)Manon Martin  OK  
1535/2302pepStat 1.43.0  (landing page)Gregory C Imholte  OK  
1536/2302pepXMLTab 1.43.0  (landing page)Xiaojing Wang  OK  
1537/2302periodicDNA 1.19.0  (landing page)Jacques Serizay  ERROR  
1538/2302pfamAnalyzeR 1.9.0  (landing page)Kristoffer Vitting-Seerup  OK  
1539/2302pgca 1.33.0  (landing page)Gabriela Cohen-Freue  OK  
1540/2302pgxRpi 1.5.0  (landing page)Hangjia Zhao  ERROR  
1541/2302phantasus 1.29.0  (landing page)Alexey Sergushichev  ERROR  
1542/2302phantasusLite 1.7.0  (landing page)Alexey Sergushichev  OK  
1543/2302PharmacoGx 3.13.0  (landing page)Benjamin Haibe-Kains  ERROR  
1544/2302PhenoGeneRanker 1.17.0  (landing page)Cagatay Dursun  OK  
1545/2302phenomis 1.11.0  (landing page)Etienne A. Thevenot  OK  
1546/2302phenopath 1.33.0  (landing page)Kieran Campbell  OK  
1547/2302phenoTest 1.57.0  (landing page)Evarist Planet  OK  
1548/2302PhenStat 2.45.0  (landing page)Hamed Haselimashhadi  OK  
1549/2302philr 1.35.0  (landing page)Justin Silverman  OK  
1550/2302PhIPData 1.17.0  (landing page)Athena Chen  OK  
1551/2302phosphonormalizer 1.33.0  (landing page)Sohrab Saraei  OK  
1552/2302PhosR 1.19.0  (landing page)Taiyun Kim  ERROR  
1553/2302PhyloProfile 2.1.0  (landing page)Vinh Tran  OK  
1554/2302phyloseq 1.53.0  (landing page)Paul J. McMurdie  ERROR  
1555/2302piano 2.25.0  (landing page)Leif Varemo Wigge  ERROR  
1556/2302PICB 1.1.0  (landing page)Franziska Ahrend  OK  
1557/2302pickgene 1.81.0  (landing page)Brian S. Yandell  WARNINGS  
1558/2302Pigengene 1.35.0  (landing page)Habil Zare  OK  
1559/2302pipeComp 1.19.0  (landing page)Pierre-Luc Germain  OK  
1560/2302pipeFrame 1.25.0  (landing page)Zheng Wei  OK  
1561/2302PIPETS 1.5.0  (landing page)Quinlan Furumo  OK  
1562/2302Pirat 1.3.0  (landing page)Samuel Wieczorek  ERROR  
1563/2302PIUMA 1.5.0  (landing page)Mattia Chiesa  ERROR  
1564/2302planet 1.17.0  (landing page)Victor Yuan  OK  
1565/2302planttfhunter 1.9.0  (landing page)Fabrício Almeida-Silva  OK  
1566/2302plasmut 1.7.0  (landing page)Adith Arun  OK  
1567/2302plgem 1.81.0  (landing page)Norman Pavelka  OK  
1568/2302plier 1.79.0  (landing page)Crispin Miller  WARNINGS  
1569/2302plotgardener 1.15.1  (landing page)Nicole Kramer  WARNINGS  
1570/2302plotGrouper 1.27.0  (landing page)John D. Gagnon  OK  
1571/2302PLPE 1.69.0  (landing page)Soo-heang Eo  OK  
1572/2302PLSDAbatch 1.5.0  (landing page)Yiwen (Eva) Wang  OK  
1573/2302plyinteractions 1.7.0  (landing page)Jacques Serizay  ERROR  
1574/2302plyranges 1.29.0  (landing page)Michael Love  ERROR  
1575/2302plyxp 1.3.0  (landing page)Justin Landis  OK  
1576/2302pmm 1.41.0  (landing page)Anna Drewek  OK  
1577/2302pmp 1.21.0  (landing page)Gavin Rhys Lloyd  ERROR  
1578/2302PoDCall 1.17.0  (landing page)Hans Petter Brodal  OK  
1579/2302podkat 1.41.0  (landing page)Ulrich Bodenhofer  ERROR  
1580/2302poem 1.1.1  (landing page)Siyuan Luo  OK  
1581/2302pogos 1.29.0  (landing page)VJ Carey  OK  
1582/2302PolySTest 1.3.0  (landing page)Veit Schwämmle  ERROR  
1583/2302Polytect 1.1.0  (landing page)Yao Chen  OK  
1584/2302POMA 1.19.0  (landing page)Pol Castellano-Escuder  OK  
1585/2302powerTCR 1.29.0  (landing page)Hillary Koch  WARNINGS  
1586/2302POWSC 1.17.0  (landing page)Kenong Su  OK  
1587/2302ppcseq 1.17.0  (landing page)Stefano Mangiola  ERROR  
1588/2302PPInfer 1.35.0  (landing page)Dongmin Jung  OK  
1589/2302pqsfinder 2.25.0  (landing page)Jiri Hon  ERROR  
1590/2302pram 1.25.0  (landing page)Peng Liu  OK  
1591/2302prebs 1.49.0  (landing page)Karolis Uziela  OK  
1592/2302preciseTAD 1.19.0  (landing page)Mikhail Dozmorov  OK  
1593/2302PREDA 1.55.0  (landing page)Francesco Ferrari  WARNINGS  
1594/2302preprocessCore 1.71.0  (landing page)Ben Bolstad  WARNINGS  
1595/2302primirTSS 1.27.0  (landing page)Pumin Li  ERROR  
1596/2302PrInCE 1.25.0  (landing page)Michael Skinnider  WARNINGS  
1597/2302proActiv 1.19.0  (landing page)Joseph Lee  OK  
1598/2302proBAMr 1.43.0  (landing page)Xiaojing Wang  OK  
1599/2302PROcess 1.85.0  (landing page)Xiaochun Li  OK  
1600/2302procoil 2.37.0  (landing page)Ulrich Bodenhofer  OK  
1601/2302proDA 1.23.0  (landing page)Constantin Ahlmann-Eltze  OK  
1602/2302profileplyr 1.25.0  (landing page)Tom Carroll , Doug Barrows  OK  
1603/2302profileScoreDist 1.37.0  (landing page)Paal O. Westermark  ERROR  
1604/2302progeny 1.31.0  (landing page)Aurélien Dugourd  OK  
1605/2302projectR 1.25.0  (landing page)Genevieve Stein-O'Brien  OK  
1606/2302pRoloc 1.49.0  (landing page)Lisa Breckels  WARNINGS  
1607/2302pRolocGUI 2.19.0  (landing page)Lisa Breckels  OK  
1608/2302PROMISE 1.61.0  (landing page)Stan Pounds , Xueyuan Cao  OK  
1609/2302PRONE 1.3.0  (landing page)Lis Arend  OK  
1610/2302PROPER 1.41.0  (landing page)Hao Wu  WARNINGS  
1611/2302PROPS 1.31.0  (landing page)Lichy Han  OK  
1612/2302Prostar 1.41.0  (landing page)Samuel Wieczorek  WARNINGS  
1613/2302proteinProfiles 1.49.0  (landing page)Julian Gehring  OK  
1614/2302ProteoDisco 1.15.0  (landing page)Job van Riet  WARNINGS  
1615/2302ProteoMM 1.27.0  (landing page)Yuliya V Karpievitch  OK  
1616/2302protGear 1.13.0  (landing page)Kennedy Mwai  OK  
1617/2302ProtGenerics 1.41.0  (landing page)Laurent Gatto  OK  
1618/2302psichomics 1.35.0  (landing page)Nuno Saraiva-Agostinho  OK  
1619/2302PSMatch 1.13.0  (landing page)Laurent Gatto  ERROR  
1620/2302ptairMS 1.17.0  (landing page)camille Roquencourt  WARNINGS  
1621/2302puma 3.51.0  (landing page)Xuejun Liu  WARNINGS  
1622/2302PureCN 2.15.3  (landing page)Markus Riester  OK  
1623/2302pvac 1.57.0  (landing page)Jun Lu , Pierre R. Bushel  OK  
1624/2302pvca 1.49.0  (landing page)Jianying LI  OK  
1625/2302Pviz 1.43.0  (landing page)Renan Sauteraud  WARNINGS  
1626/2302pwalign 1.5.0  (landing page)Hervé Pagès  OK  
1627/2302PWMEnrich 4.45.0  (landing page)Diego Diez  OK  
Q
ABCDEFGHIJKLMNOPQRSTUVWXYZ
PackageMaintainerINSTALL/BUILD/CHECK
1628/2302qckitfastq 1.25.0  (landing page)August Guang  ERROR  
1629/2302qcmetrics 1.47.0  (landing page)Laurent Gatto  OK  
1630/2302QDNAseq 1.45.0  (landing page)Daoud Sie  OK  
1631/2302QFeatures 1.19.0  (landing page)Laurent Gatto  ERROR  
1632/2302qmtools 1.13.0  (landing page)Jaehyun Joo  OK  
1633/2302qpcrNorm 1.67.0  (landing page)Jessica Mar  OK  
1634/2302qpgraph 2.43.0  (landing page)Robert Castelo  OK  
1635/2302qPLEXanalyzer 1.27.0  (landing page)Ashley Sawle  OK  
1636/2302QRscore 1.1.0  (landing page)Fanding Zhou  ERROR  
1637/2302qsea 1.35.0  (landing page)Matthias Lienhard  ERROR  
1638/2302qsmooth 1.25.0  (landing page)Stephanie C. Hicks  WARNINGS  
1639/2302QSutils 1.27.0  (landing page)Mercedes Guerrero-Murillo  OK  
1640/2302qsvaR 1.13.0  (landing page)Hedia Tnani  OK  
1641/2302QTLExperiment 2.1.0  (landing page)Amelia Dunstone  OK  
1642/2302Qtlizer 1.23.0  (landing page)Matthias Munz  OK  
1643/2302quantiseqr 1.17.0  (landing page)Federico Marini  ERROR  
1644/2302quantro 1.43.0  (landing page)Stephanie Hicks  OK  
1645/2302quantsmooth 1.75.0  (landing page)Jan Oosting  OK  
1646/2302QuasR 1.49.0  (landing page)Michael Stadler  WARNINGS  
1647/2302QuaternaryProd 1.43.0  (landing page)Carl Tony Fakhry  OK  
1648/2302QUBIC 1.37.0  (landing page)Yu Zhang  OK  
1649/2302qusage 2.43.0  (landing page)Christopher Bolen  OK  
1650/2302qvalue 2.41.0  (landing page)John D. Storey , Andrew J. Bass  OK  
R
ABCDEFGHIJKLMNOPQRSTUVWXYZ
PackageMaintainerINSTALL/BUILD/CHECK
1651/2302R3CPET 1.41.0  (landing page)Mohamed Nadhir Djekidel  WARNINGS  
1652/2302r3Cseq 1.55.0  (landing page)Supat Thongjuea or  ERROR  
1653/2302R453Plus1Toolbox 1.59.0  (landing page)Hans-Ulrich Klein  OK  
1654/2302R4RNA 1.37.0  (landing page)Daniel Lai  OK  
1655/2302RadioGx 2.13.0  (landing page)Benjamin Haibe-Kains  OK  
1656/2302raer 1.7.0  (landing page)Kent Riemondy  OK  
1657/2302RaggedExperiment 1.33.0  (landing page)Marcel Ramos  OK  
1658/2302RAIDS 1.7.1  (landing page)Pascal Belleau  OK  
1659/2302rain 1.43.0  (landing page)Paul F. Thaben  OK  
1660/2302ramr 1.17.0  (landing page)Oleksii Nikolaienko  OK  
1661/2302ramwas 1.33.0  (landing page)Andrey A Shabalin  OK  
1662/2302randPack 1.55.0  (landing page)Robert Gentleman  OK  
1663/2302randRotation 1.21.0  (landing page)Peter Hettegger  ERROR  
1664/2302RankProd 3.35.0  (landing page)Francesco Del Carratore  OK  
1665/2302RAREsim 1.13.0  (landing page)Ryan Barnard  OK  
1666/2302RareVariantVis 2.37.0  (landing page)Tomasz Stokowy  ERROR  
1667/2302Rarr 1.9.0  (landing page)Mike Smith  OK  
1668/2302rawDiag 1.5.0  (landing page)Christian Panse  ERROR  
1669/2302rawrr 1.17.0  (landing page)Christian Panse  ERROR  
1670/2302RbcBook1 1.77.0  (landing page)Vince Carey  WARNINGS  
1671/2302Rbec 1.17.0  (landing page)Pengfan Zhang  ERROR  
1672/2302RBGL 1.85.0  (landing page)Bioconductor Package Maintainer  WARNINGS  
1673/2302RBioFormats 1.9.0  (landing page)Andrzej Oleś  OK  
1674/2302rBiopaxParser 2.49.0  (landing page)Frank Kramer  OK  
1675/2302rBLAST 1.5.0  (landing page)Michael Hahsler  OK  
1676/2302RBM 1.41.0  (landing page)Dongmei Li  OK  
1677/2302Rbowtie 1.49.0  (landing page)Michael Stadler  WARNINGS  
1678/2302Rbowtie2 2.15.0  (landing page)Zheng Wei  WARNINGS  
1679/2302RbowtieCuda   (landing page)  unknown  
1680/2302rbsurv 2.67.0  (landing page)Soo-heang Eo  OK  
1681/2302Rbwa 1.13.0  (landing page)Jean-Philippe Fortin  WARNINGS  
1682/2302RCAS 1.35.0  (landing page)Bora Uyar  OK  
1683/2302RCASPAR 1.55.0  (landing page)Douaa Mugahid , Lars Kaderali  OK  
1684/2302rcellminer 2.31.0  (landing page)Augustin Luna , Vinodh Rajapakse  ERROR  
1685/2302rCGH 1.39.0  (landing page)Frederic Commo  OK  
1686/2302RcisTarget 1.29.0  (landing page)Gert Hulselmans  OK  
1687/2302RCM 1.25.0  (landing page)Stijn Hawinkel  OK  
1688/2302Rcollectl 1.9.0  (landing page)Vincent Carey  ERROR  
1689/2302Rcpi 1.45.0  (landing page)Nan Xiao  OK  
1690/2302RCSL 1.17.0  (landing page)Qinglin Mei  OK  
1691/2302Rcwl 1.25.0  (landing page)Qiang Hu  OK  
1692/2302RcwlPipelines 1.25.0  (landing page)Qiang Hu  OK  
1693/2302RCX 1.13.0  (landing page)Florian Auer  OK  
1694/2302RCy3 2.29.0  (landing page)Alex Pico  OK  
1695/2302RCyjs 2.31.0  (landing page)Paul Shannon  WARNINGS  
1696/2302Rdisop 1.69.0  (landing page)Steffen Neumann  WARNINGS  
1697/2302RDRToolbox 1.59.0  (landing page)Christoph Bartenhagen  OK  
1698/2302ReactomeGraph4R 1.17.0  (landing page)Chi-Lam Poon  ERROR  
1699/2302ReactomeGSA 1.23.0  (landing page)Johannes Griss  OK  
1700/2302ReactomePA 1.53.0  (landing page)Guangchuang Yu  OK  
1701/2302ReadqPCR 1.55.0  (landing page)James Perkins  OK  
1702/2302REBET 1.27.0  (landing page)Bill Wheeler  OK  
1703/2302rebook 1.19.0  (landing page)Aaron Lun  WARNINGS  
1704/2302receptLoss 1.21.0  (landing page)Daniel Pique  OK  
1705/2302reconsi 1.21.0  (landing page)Stijn Hawinkel  OK  
1706/2302recount 1.35.0  (landing page)Leonardo Collado-Torres  TIMEOUT  
1707/2302recount3 1.19.0  (landing page)Leonardo Collado-Torres  ERROR  
1708/2302recountmethylation 1.19.0  (landing page)Sean K Maden  OK  
1709/2302recoup 1.37.0  (landing page)Panagiotis Moulos  OK  
1710/2302RedeR 3.5.0  (landing page)Mauro Castro  OK  
1711/2302RedisParam 1.11.0  (landing page)Martin Morgan  OK  
1712/2302REDseq 1.55.0  (landing page)Lihua Julie Zhu  OK  
1713/2302ReducedExperiment 1.1.0  (landing page)Jack Gisby  ERROR  
1714/2302RegEnrich 1.19.0  (landing page)Weiyang Tao  ERROR  
1715/2302regionalpcs 1.7.0  (landing page)Tiffany Eulalio  OK  
1716/2302RegionalST 1.7.0  (landing page)Ziyi Li  OK  
1717/2302regioneR 1.41.0  (landing page)Bernat Gel  ERROR  
1718/2302regioneReloaded 1.11.0  (landing page)Roberto Malinverni  OK  
1719/2302regionReport 1.43.0  (landing page)Leonardo Collado-Torres  OK  
1720/2302regsplice 1.35.0  (landing page)Lukas M. Weber  OK  
1721/2302regutools 1.21.0  (landing page)Joselyn Chavez  OK  
1722/2302REMP 1.33.0  (landing page)Yinan Zheng  ERROR  
1723/2302Repitools 1.55.0  (landing page)Mark Robinson  ERROR  
1724/2302ReportingTools 2.49.0  (landing page)Jason A. Hackney , Gabriel Becker  OK  
1725/2302RepViz 1.25.0  (landing page)Thomas Faux, Asta Laiho   WARNINGS  
1726/2302ResidualMatrix 1.19.0  (landing page)Aaron Lun  OK  
1727/2302RESOLVE 1.11.0  (landing page)Luca De Sano  ERROR  
1728/2302retrofit 1.9.0  (landing page)Adam Park  OK  
1729/2302ReUseData 1.9.0  (landing page)Qian Liu  OK  
1730/2302rexposome 1.31.0  (landing page)Xavier Escribà Montagut  WARNINGS  
1731/2302rfaRm 1.21.0  (landing page)Lara Selles Vidal  ERROR  
1732/2302Rfastp 1.19.0  (landing page)Thomas Carroll  ERROR  
1733/2302RFLOMICS 1.1.0  (landing page)Nadia Bessoltane  TIMEOUT  
1734/2302rfPred 1.47.0  (landing page)Hugo Varet  OK  
1735/2302rGADEM 2.57.0  (landing page)Arnaud Droit  ERROR  
1736/2302rGenomeTracks 1.15.0  (landing page)Omar Elashkar  OK  
1737/2302RgnTX 1.11.0  (landing page)Yue Wang  OK  
1738/2302rgoslin 1.13.0  (landing page)Nils Hoffmann  OK  
1739/2302RGraph2js 1.37.0  (landing page)Stephane Cano  OK  
1740/2302Rgraphviz 2.53.0  (landing page)Kasper Daniel Hansen  WARNINGS  
1741/2302rGREAT 2.11.0  (landing page)Zuguang Gu  OK  
1742/2302RGSEA 1.43.0  (landing page)Chengcheng Ma  OK  
1743/2302rgsepd 1.41.0  (landing page)Karl Stamm  OK  
1744/2302rhdf5 2.53.0  (landing page)Mike Smith  WARNINGS  
1745/2302rhdf5client 1.31.0  (landing page)Vincent Carey  OK  
1746/2302rhdf5filters 1.21.0  (landing page)Mike Smith  OK  
1747/2302Rhdf5lib 1.31.0  (landing page)Mike Smith  WARNINGS  
1748/2302rhinotypeR 1.3.0  (landing page)Martha Luka  OK  
1749/2302Rhisat2 1.25.0  (landing page)Charlotte Soneson  WARNINGS  
1750/2302Rhtslib 3.5.0  (landing page)Hervé Pagès  OK  
1751/2302RiboCrypt 1.15.0  (landing page)Michal Swirski  ERROR  
1752/2302RiboDiPA 1.17.0  (landing page)Ji-Ping Wang  OK  
1753/2302RiboProfiling 1.39.0  (landing page)A. Popa  WARNINGS  
1754/2302ribor 1.21.0  (landing page)Michael Geng  OK  
1755/2302riboSeqR 1.43.0  (landing page)Samuel Granjeaud  OK  
1756/2302ribosomeProfilingQC 1.21.0  (landing page)Jianhong Ou  OK  
1757/2302rifi 1.13.0  (landing page)Jens Georg  TIMEOUT  
1758/2302rifiComparative 1.9.0  (landing page)Loubna Youssar  OK  
1759/2302Rigraphlib 1.1.0  (landing page)Aaron Lun  WARNINGS  
1760/2302rigvf 1.1.0  (landing page)Michael Love  OK  
1761/2302RImmPort 1.37.0  (landing page)Zicheng Hu , Ravi Shankar  OK  
1762/2302RITAN 1.33.0  (landing page)Michael Zimmermann  WARNINGS  
1763/2302RIVER 1.33.0  (landing page)Yungil Kim  OK  
1764/2302RJMCMCNucleosomes 1.33.0  (landing page)Astrid Deschênes  OK  
1765/2302RLassoCox 1.17.0  (landing page)Wei Liu  OK  
1766/2302RLMM 1.71.0  (landing page)Nusrat Rabbee  OK  
1767/2302Rmagpie 1.65.0  (landing page)Camille Maumet  OK  
1768/2302RMassBank 3.19.0  (landing page)RMassBank at Eawag  ERROR  
1769/2302rmelting 1.25.0  (landing page)J. Aravind  OK  
1770/2302Rmmquant 1.27.0  (landing page)Zytnicki Matthias  ERROR  
1771/2302rmspc 1.15.0  (landing page)Meriem Bahda  OK  
1772/2302RNAAgeCalc 1.21.0  (landing page)Xu Ren  OK  
1773/2302RNAdecay 1.29.0  (landing page)Reed Sorenson  WARNINGS  
1774/2302rnaEditr 1.19.0  (landing page)Lanyu Zhang  WARNINGS  
1775/2302RNAmodR 1.23.0  (landing page)Felix G.M. Ernst  OK  
1776/2302RNAmodR.AlkAnilineSeq 1.23.0  (landing page)Felix G.M. Ernst  OK  
1777/2302RNAmodR.ML 1.23.0  (landing page)Felix G.M. Ernst  OK  
1778/2302RNAmodR.RiboMethSeq 1.23.0  (landing page)Felix G.M. Ernst  OK  
1779/2302RNAsense 1.23.0  (landing page)Marcus Rosenblatt  WARNINGS  
1780/2302rnaseqcomp 1.39.0  (landing page)Mingxiang Teng  OK  
1781/2302RNAseqCovarImpute 1.7.0  (landing page)Brennan Baker  OK  
1782/2302RNASeqPower 1.49.0  (landing page)Terry M Therneau  OK  
1783/2302RnaSeqSampleSize 2.19.0  (landing page)Shilin Zhao Developer  ERROR  
1784/2302RnBeads 2.27.0  (landing page)Fabian Mueller  OK  
1785/2302Rnits 1.43.0  (landing page)Dipen P. Sangurdekar  WARNINGS  
1786/2302roar 1.45.0  (landing page)Elena Grassi  ERROR  
1787/2302roastgsa 1.7.0  (landing page)Adria Caballe  OK  
1788/2302ROC 1.85.0  (landing page)Vince Carey  OK  
1789/2302ROCpAI 1.21.0  (landing page)Juan-Pedro Garcia  OK  
1790/2302RolDE 1.13.0  (landing page)Medical Bioinformatics Centre  OK  
1791/2302rols 3.5.0  (landing page)Laurent Gatto  OK  
1792/2302ROntoTools 2.37.0  (landing page)Sorin Draghici  WARNINGS  
1793/2302ropls 1.41.0  (landing page)Etienne A. Thevenot  OK  
1794/2302ROSeq 1.21.0  (landing page)Krishan Gupta  WARNINGS  
1795/2302ROTS 2.1.0  (landing page)Tomi Suomi  OK  
1796/2302RPA 1.65.0  (landing page)Leo Lahti  OK  
1797/2302rprimer 1.13.0  (landing page)Sofia Persson  OK  
1798/2302RProtoBufLib 2.21.0  (landing page)Mike Jiang  WARNINGS  
1799/2302rpx 2.17.0  (landing page)Laurent Gatto  OK  
1800/2302Rqc 1.43.0  (landing page)Welliton Souza  TIMEOUT  
1801/2302rqt 1.35.0  (landing page)Ilya Zhbannikov  OK  
1802/2302rqubic 1.55.0  (landing page)Jitao David Zhang  WARNINGS  
1803/2302rRDP 1.43.0  (landing page)Michael Hahsler  OK  
1804/2302RRHO 1.49.0  (landing page)Jonathan Rosenblatt  OK  
1805/2302rrvgo 1.21.1  (landing page)Sergi Sayols  OK  
1806/2302Rsamtools 2.25.0  (landing page)Bioconductor Package Maintainer  ERROR  
1807/2302rsbml 2.67.0  (landing page)Michael Lawrence  ERROR  
1808/2302rScudo 1.25.0  (landing page)Matteo Ciciani  OK  
1809/2302rsemmed 1.19.0  (landing page)Leslie Myint  OK  
1810/2302RSeqAn 1.29.0  (landing page)August Guang  WARNINGS  
1811/2302Rsubread 2.23.1  (landing page)Wei Shi , Yang Liao and Gordon K Smyth  OK  
1812/2302RSVSim 1.49.0  (landing page)Christoph Bartenhagen  OK  
1813/2302rSWeeP 1.21.0  (landing page)Camila P Perico  OK  
1814/2302RTCA 1.61.0  (landing page)Jitao David Zhang  WARNINGS  
1815/2302RTCGA 1.39.0  (landing page)Marcin Kosinski  ERROR  
1816/2302RTCGAToolbox 2.39.0  (landing page)Marcel Ramos  OK  
1817/2302RTN 2.33.0  (landing page)Mauro Castro  OK  
1818/2302RTNduals 1.33.0  (landing page)Mauro Castro , Clarice Groeneveld  OK  
1819/2302RTNsurvival 1.33.0  (landing page)Clarice Groeneveld , Mauro A. A. Castro  ERROR  
1820/2302RTopper 1.55.0  (landing page)Luigi Marchionni  OK  
1821/2302Rtpca 1.19.0  (landing page)Nils Kurzawa  OK  
1822/2302rtracklayer 1.69.0  (landing page)Michael Lawrence  WARNINGS  
1823/2302rTRM 1.47.0  (landing page)Diego Diez  ERROR  
1824/2302rTRMui 1.47.0  (landing page)Diego Diez  OK  
1825/2302RUCova 1.1.0  (landing page)Rosario Astaburuaga-García  OK  
1826/2302runibic 1.31.0  (landing page)Patryk Orzechowski  OK  
1827/2302RUVcorr 1.41.0  (landing page)Saskia Freytag  WARNINGS  
1828/2302RUVnormalize 1.43.0  (landing page)Laurent Jacob  OK  
1829/2302RUVSeq 1.43.0  (landing page)Davide Risso  OK  
1830/2302Rvisdiff 1.7.0  (landing page)David Barrios  OK  
1831/2302RVS 1.31.0  (landing page)Alexandre Bureau  ERROR  
1832/2302rWikiPathways 1.29.0  (landing page)Egon Willighagen  OK  
S
ABCDEFGHIJKLMNOPQRSTUVWXYZ
PackageMaintainerINSTALL/BUILD/CHECK
1833/2302S4Arrays 1.9.0  (landing page)Hervé Pagès  ERROR  
1834/2302S4Vectors 0.47.0  (landing page)Hervé Pagès  WARNINGS  
1835/2302safe 3.49.0  (landing page)Ludwig Geistlinger  OK  
1836/2302sagenhaft 1.79.0  (landing page)Tim Beissbarth  WARNINGS  
1837/2302SAIGEgds 2.9.0  (landing page)Xiuwen Zheng  ERROR  
1838/2302sampleClassifier 1.33.0  (landing page)Khadija El Amrani  OK  
1839/2302SamSPECTRAL 1.63.0  (landing page)Habil  WARNINGS  
1840/2302sangeranalyseR 1.19.0  (landing page)Kuan-Hao Chao  WARNINGS  
1841/2302sangerseqR 1.45.0  (landing page)Jonathon Hill  OK  
1842/2302SANTA 2.45.0  (landing page)Alex Cornish  OK  
1843/2302SARC 1.7.0  (landing page)Krutik Patel  OK  
1844/2302sarks 1.21.0  (landing page)Dennis Wylie  OK  
1845/2302saseR 1.5.0  (landing page)Alexandre Segers  WARNINGS  
1846/2302satuRn 1.17.0  (landing page)Jeroen Gilis  OK  
1847/2302SBGNview 1.23.0  (landing page)Weijun Luo  OK  
1848/2302SBMLR 2.5.0  (landing page)Tomas Radivoyevitch  ERROR  
1849/2302SC3 1.37.0  (landing page)Vladimir Kiselev  OK  
1850/2302Scale4C 1.31.0  (landing page)Carolin Walter  OK  
1851/2302ScaledMatrix 1.17.0  (landing page)Aaron Lun  OK  
1852/2302SCAN.UPC 2.51.0  (landing page)Stephen R. Piccolo  OK  
1853/2302scanMiR 1.15.0  (landing page)Pierre-Luc Germain  OK  
1854/2302scanMiRApp 1.15.0  (landing page)Pierre-Luc Germain  ERROR  
1855/2302scAnnotatR 1.15.0  (landing page)Johannes Griss  WARNINGS  
1856/2302SCANVIS 1.23.0  (landing page)Phaedra Agius  ERROR  
1857/2302SCArray 1.17.0  (landing page)Xiuwen Zheng  OK  
1858/2302SCArray.sat 1.9.0  (landing page)Xiuwen Zheng  OK  
1859/2302scater 1.37.0  (landing page)Alan O'Callaghan  ERROR  
1860/2302scatterHatch 1.15.0  (landing page)Atul Deshpande  OK  
1861/2302scBFA 1.23.0  (landing page)Ruoxin Li  OK  
1862/2302SCBN 1.27.0  (landing page)Yan Zhou  OK  
1863/2302scBubbletree 1.11.0  (landing page)Simo Kitanovski  OK  
1864/2302scCB2 1.19.0  (landing page)Zijian Ni  OK  
1865/2302scClassify 1.21.0  (landing page)Yingxin Lin  OK  
1866/2302sccomp 2.1.0  (landing page)Stefano Mangiola  OK  
1867/2302scDataviz 1.19.0  (landing page)Kevin Blighe  OK  
1868/2302scDblFinder 1.23.0  (landing page)Pierre-Luc Germain  ERROR  
1869/2302scDD 1.33.0  (landing page)Keegan Korthauer  OK  
1870/2302scDDboost 1.11.0  (landing page)Xiuyu Ma  WARNINGS  
1871/2302scde 2.37.0  (landing page)Evan Biederstedt  WARNINGS  
1872/2302scDesign3 1.7.0  (landing page)Dongyuan Song  ERROR  
1873/2302scDiagnostics 1.3.0  (landing page)Anthony Christidis  OK  
1874/2302scDotPlot 1.3.0  (landing page)Benjamin I Laufer  OK  
1875/2302scds 1.25.0  (landing page)Dennis Kostka  OK  
1876/2302SCFA 1.19.0  (landing page)Duc Tran  OK  
1877/2302scFeatureFilter 1.29.0  (landing page)Guillaume Devailly  OK  
1878/2302scFeatures 1.9.0  (landing page)Yue Cao  OK  
1879/2302scGPS 1.23.0  (landing page)Quan Nguyen  ERROR  
1880/2302schex 1.23.0  (landing page)Saskia Freytag  OK  
1881/2302scHiCcompare 1.1.0  (landing page)My Nguyen  OK  
1882/2302scHOT 1.21.0  (landing page)Shila Ghazanfar  OK  
1883/2302scider 1.7.0  (landing page)Yunshun Chen  OK  
1884/2302scifer 1.11.0  (landing page)Rodrigo Arcoverde Cerveira  OK  
1885/2302scmap 1.31.0  (landing page)Vladimir Kiselev  OK  
1886/2302scMerge 1.25.0  (landing page)Yingxin Lin  ERROR  
1887/2302scMET 1.11.0  (landing page)Andreas C. Kapourani  WARNINGS  
1888/2302scmeth 1.29.0  (landing page)Divy Kangeyan  ERROR  
1889/2302scMitoMut 1.5.0  (landing page)Wenjie Sun  OK  
1890/2302scMultiSim 1.5.0  (landing page)Hechen Li  OK  
1891/2302SCnorm 1.31.0  (landing page)Rhonda Bacher  OK  
1892/2302scone 1.33.0  (landing page)Davide Risso  OK  
1893/2302Sconify 1.29.0  (landing page)Tyler J Burns  OK  
1894/2302SCOPE 1.21.0  (landing page)Rujin Wang  ERROR  
1895/2302scoreInvHap 1.31.0  (landing page)Dolors Pelegri-Siso  ERROR  
1896/2302scoup 1.3.0  (landing page)Hassan Sadiq  OK  
1897/2302scp 1.19.0  (landing page)Christophe Vanderaa  ERROR  
1898/2302scPCA 1.23.0  (landing page)Philippe Boileau  OK  
1899/2302scPipe 2.9.0  (landing page)Shian Su  OK  
1900/2302scQTLtools 1.1.1  (landing page)Xiaofeng Wu  OK  
1901/2302scran 1.37.0  (landing page)Aaron Lun  WARNINGS  
1902/2302scrapper 1.3.0  (landing page)Aaron Lun  WARNINGS  
1903/2302scReClassify 1.15.0  (landing page)Taiyun Kim  OK  
1904/2302scRecover 1.25.0  (landing page)Zhun Miao  OK  
1905/2302screenCounter 1.9.0  (landing page)Aaron Lun  OK  
1906/2302ScreenR 1.11.0  (landing page)Emanuel Michele Soda  OK  
1907/2302scRepertoire 2.5.0  (landing page)Nick Borcherding  ERROR  
1908/2302scRNAseqApp 1.9.1  (landing page)Jianhong Ou  OK  
1909/2302scruff 1.27.0  (landing page)Zhe Wang  OK  
1910/2302scry 1.21.0  (landing page)Kelly Street  OK  
1911/2302scShapes 1.15.0  (landing page)Malindrie Dharmaratne  OK  
1912/2302scTensor 2.19.0  (landing page)Koki Tsuyuzaki  ERROR  
1913/2302scTGIF 1.23.0  (landing page)Koki Tsuyuzaki  OK  
1914/2302scTHI 1.21.0  (landing page)Michele Ceccarelli  OK  
1915/2302scTreeViz 1.15.0  (landing page)Jayaram Kancherla  OK  
1916/2302scuttle 1.19.0  (landing page)Aaron Lun  OK  
1917/2302scviR 1.9.0  (landing page)Vincent Carey  ERROR  
1918/2302SDAMS 1.29.0  (landing page)Yuntong Li  OK  
1919/2302seahtrue 1.3.0  (landing page)Vincent de Boer  ERROR  
1920/2302sechm 1.17.1  (landing page)Pierre-Luc Germain  OK  
1921/2302segmenter 1.15.0  (landing page)Mahmoud Ahmed  ERROR  
1922/2302segmentSeq 2.43.0  (landing page)Samuel Granjeaud  OK  
1923/2302selectKSigs 1.21.0  (landing page)Zhi Yang  ERROR  
1924/2302SELEX 1.41.0  (landing page)Harmen J. Bussemaker  OK  
1925/2302SemDist 1.43.0  (landing page)Ian Gonzalez  OK  
1926/2302semisup 1.33.0  (landing page)Armin Rauschenberger  OK  
1927/2302seq.hotSPOT 1.9.0  (landing page)Sydney Grant  OK  
1928/2302seq2pathway 1.41.0  (landing page)Arjun Kinstlick  WARNINGS  
1929/2302seqArchR 1.13.0  (landing page)Sarvesh Nikumbh  ERROR  
1930/2302seqArchRplus 1.9.0  (landing page)Sarvesh Nikumbh  WARNINGS  
1931/2302SeqArray 1.49.0  (landing page)Xiuwen Zheng  OK  
1932/2302seqCAT 1.31.0  (landing page)Erik Fasterius  OK  
1933/2302seqcombo 1.31.0  (landing page)Guangchuang Yu  OK  
1934/2302SeqGate 1.19.0  (landing page)Stéphanie Rialle  OK  
1935/2302SeqGSEA 1.49.0  (landing page)Xi Wang  OK  
1936/2302seqLogo 1.75.0  (landing page)Robert Ivanek  OK  
1937/2302seqPattern 1.41.0  (landing page)Vanja Haberle  OK  
1938/2302seqsetvis 1.29.0  (landing page)Joseph R Boyd  OK  
1939/2302SeqSQC 1.31.0  (landing page)Qian Liu  WARNINGS  
1940/2302seqTools 1.43.0  (landing page)Wolfgang Kaisers  ERROR  
1941/2302SeqVarTools 1.47.0  (landing page)Stephanie M. Gogarten  OK  
1942/2302SEraster 1.1.0  (landing page)Gohta Aihara  OK  
1943/2302sesame 1.27.0  (landing page)Wanding Zhou  OK  
1944/2302SEtools 1.23.0  (landing page)Pierre-Luc Germain  OK  
1945/2302sevenbridges 1.39.0  (landing page)Phil Webster  OK  
1946/2302sevenC 1.29.0  (landing page)Jonas Ibn-Salem  OK  
1947/2302SGCP 1.9.0  (landing page)Niloofar AghaieAbiane  OK  
1948/2302SGSeq 1.43.0  (landing page)Leonard Goldstein  OK  
1949/2302SharedObject 1.23.0  (landing page)Jiefei Wang  WARNINGS  
1950/2302shiny.gosling 1.5.0  (landing page)Appsilon  OK  
1951/2302shinyDSP 1.1.0  (landing page)Seung J. Kim  OK  
1952/2302shinyepico 1.17.0  (landing page)Octavio Morante-Palacios  OK  
1953/2302shinyMethyl 1.45.0  (landing page)Jean-Philippe Fortin  OK  
1954/2302ShortRead 1.67.0  (landing page)Bioconductor Package Maintainer  ERROR  
1955/2302SIAMCAT 2.13.0  (landing page)Jakob Wirbel  OK  
1956/2302SICtools 1.39.0  (landing page)Xiaobin Xing  WARNINGS  
1957/2302SigCheck 2.41.0  (landing page)Rory Stark  OK  
1958/2302sigFeature 1.27.0  (landing page)Pijush Das Developer  WARNINGS  
1959/2302SigFuge 1.47.0  (landing page)Patrick Kimes  OK  
1960/2302siggenes 1.83.0  (landing page)Holger Schwender  OK  
1961/2302sights 1.35.0  (landing page)Elika Garg  OK  
1962/2302signatureSearch 1.23.0  (landing page)Brendan Gongol  TIMEOUT  
1963/2302signeR 2.11.0  (landing page)Renan Valieris  OK  
1964/2302signifinder 1.11.0  (landing page)Stefania Pirrotta  OK  
1965/2302SigsPack 1.23.0  (landing page)Franziska Schumann  OK  
1966/2302sigsquared 1.41.0  (landing page)UnJin Lee  OK  
1967/2302SIM 1.79.0  (landing page)Renee X. de Menezes  WARNINGS  
1968/2302SIMAT 1.41.0  (landing page)M. R. Nezami Ranjbar  OK  
1969/2302SimBu 1.11.0  (landing page)Alexander Dietrich  OK  
1970/2302SIMD 1.27.0  (landing page)Jiadi Zhu  OK  
1971/2302SimFFPE 1.21.0  (landing page)Lanying Wei  OK  
1972/2302similaRpeak 1.41.0  (landing page)Astrid Deschênes  OK  
1973/2302SIMLR 1.35.0  (landing page)Luca De Sano  OK  
1974/2302simona 1.7.0  (landing page)Zuguang Gu  OK  
1975/2302simPIC 1.5.2  (landing page)Sagrika Chugh  ERROR  
1976/2302simpleSeg 1.11.0  (landing page)Ellis Patrick  OK  
1977/2302simplifyEnrichment 2.3.0  (landing page)Zuguang Gu  OK  
1978/2302sincell 1.41.0  (landing page)Miguel Julia , Antonio Rausell  OK  
1979/2302SingleCellAlleleExperiment 1.5.0  (landing page)Jonas Schuck  ERROR  
1980/2302SingleCellExperiment 1.31.0  (landing page)Davide Risso  OK  
1981/2302SingleCellSignalR 1.21.0  (landing page)Jacques Colinge Developer  WARNINGS  
1982/2302singleCellTK 2.19.0  (landing page)Joshua David Campbell  OK  
1983/2302SingleMoleculeFootprinting 2.3.0  (landing page)Guido Barzaghi  ERROR  
1984/2302SingleR 2.11.0  (landing page)Aaron Lun  OK  
1985/2302singscore 1.29.0  (landing page)Malvika Kharbanda  OK  
1986/2302SiPSiC 1.9.0  (landing page)Daniel Davis  OK  
1987/2302sitadela 1.17.0  (landing page)Panagiotis Moulos  OK  
1988/2302Site2Target 1.1.0  (landing page)Peyman Zarrineh  OK  
1989/2302sitePath 1.25.0  (landing page)Chengyang Ji  OK  
1990/2302sizepower 1.79.0  (landing page)Weiliang Qiu  OK  
1991/2302sketchR 1.5.0  (landing page)Charlotte Soneson  OK  
1992/2302skewr 1.41.0  (landing page)Ryan Putney  OK  
1993/2302slalom 1.31.0  (landing page)Davis McCarthy  ERROR  
1994/2302slingshot 2.17.0  (landing page)Kelly Street  ERROR  
1995/2302SLqPCR 1.75.0  (landing page)Matthias Kohl  OK  
1996/2302SMAD 1.25.0  (landing page)Qingzhou Zhang  WARNINGS  
1997/2302smartid 1.5.0  (landing page)Jinjin Chen  OK  
1998/2302SMITE 1.37.0  (landing page)Neil Ari Wijetunga  OK  
1999/2302smoothclust 1.5.0  (landing page)Lukas M. Weber  OK  
2000/2302smoppix 1.1.1  (landing page)Stijn Hawinkel  TIMEOUT  
2001/2302SNAGEE 1.49.0  (landing page)David Venet  OK  
2002/2302snapcount 1.21.0  (landing page)Rone Charles  OK  
2003/2302snifter 1.19.0  (landing page)Alan O'Callaghan  OK  
2004/2302snm 1.57.0  (landing page)John D. Storey  OK  
2005/2302SNPediaR 1.35.0  (landing page)David Montaner  ERROR  
2006/2302SNPhood 1.39.0  (landing page)Christian Arnold  ERROR  
2007/2302SNPRelate 1.43.0  (landing page)Xiuwen Zheng  OK  
2008/2302snpStats 1.59.0  (landing page)David Clayton  ERROR  
2009/2302soGGi 1.41.0  (landing page)Tom Carroll  OK  
2010/2302SomaticSignatures 2.45.0  (landing page)Julian Gehring  ERROR  
2011/2302SOMNiBUS 1.17.0  (landing page)Kathleen Klein  OK  
2012/2302sosta 1.1.0  (landing page)Samuel Gunz  OK  
2013/2302SpaceMarkers 1.5.0  (landing page)Atul Deshpande  ERROR  
2014/2302spacexr 1.1.0  (landing page)Gabriel Grajeda  OK  
2015/2302Spaniel 1.23.0  (landing page)Rachel Queen  OK  
2016/2302SpaNorm 1.3.0  (landing page)Dharmesh D. Bhuva  OK  
2017/2302sparrow 1.15.0  (landing page)Steve Lianoglou  OK  
2018/2302SparseArray 1.9.0  (landing page)Hervé Pagès  ERROR  
2019/2302sparseMatrixStats 1.21.0  (landing page)Constantin Ahlmann-Eltze  OK  
2020/2302sparsenetgls 1.27.0  (landing page)Irene Zeng  OK  
2021/2302SparseSignatures 2.19.0  (landing page)Luca De Sano  ERROR  
2022/2302spaSim 1.11.0  (landing page)Yuzhou Feng  ERROR  
2023/2302SpatialCPie 1.25.0  (landing page)Joseph Bergenstraahle  OK  
2024/2302spatialDE 1.15.1  (landing page)Gabriele Sales  ERROR  
2025/2302SpatialDecon 1.19.0  (landing page)Maddy Griswold  ERROR  
2026/2302SpatialExperiment 1.19.0  (landing page)Dario Righelli  OK  
2027/2302SpatialExperimentIO 1.1.0  (landing page)Yixing E. Dong  OK  
2028/2302spatialFDA 1.1.0  (landing page)Martin Emons  OK  
2029/2302SpatialFeatureExperiment 1.11.0  (landing page)Lambda Moses  ERROR  
2030/2302spatialHeatmap 2.15.0  (landing page)Jianhai Zhang  OK  
2031/2302SpatialOmicsOverlay 1.9.0  (landing page)Maddy Griswold  TIMEOUT  
2032/2302spatialSimGP 1.3.0  (landing page)Kinnary Shah  OK  
2033/2302spatzie 1.15.0  (landing page)Jennifer Hammelman  OK  
2034/2302speckle 1.9.0  (landing page)Belinda Phipson  OK  
2035/2302specL 1.43.0  (landing page)Christian Panse  OK  
2036/2302SpeCond 1.63.0  (landing page)Florence Cavalli  OK  
2037/2302Spectra 1.19.0  (landing page)RforMassSpectrometry Package Maintainer  ERROR  
2038/2302SpectralTAD 1.25.0  (landing page)Mikhail Dozmorov  OK  
2039/2302SpectraQL 1.3.0  (landing page)Johannes Rainer  ERROR  
2040/2302SPEM 1.49.0  (landing page)Xinyi YANG  OK  
2041/2302SPIA 2.61.0  (landing page)Adi Laurentiu Tarca  OK  
2042/2302SPIAT 1.11.0  (landing page)Yuzhou Feng  OK  
2043/2302spicyR 1.21.0  (landing page)Ellis Patrick  ERROR  
2044/2302spikeLI 2.69.0  (landing page)Enrico Carlon  OK  
2045/2302spiky 1.15.0  (landing page)Tim Triche  ERROR  
2046/2302spillR 1.5.0  (landing page)Marco Guazzini  OK  
2047/2302spkTools 1.65.0  (landing page)Matthew N McCall  OK  
2048/2302splatter 1.33.0  (landing page)Luke Zappia  OK  
2049/2302SpliceWiz 1.11.0  (landing page)Alex Chit Hei Wong  OK  
2050/2302SplicingFactory 1.17.0  (landing page)Endre Sebestyen  OK  
2051/2302SplicingGraphs 1.49.0  (landing page)H. Pagès  ERROR  
2052/2302SplineDV 1.1.0  (landing page)Shreyan Gupta  OK  
2053/2302splineTimeR 1.37.0  (landing page)Herbert Braselmann , Martin Selmansberger  OK  
2054/2302SPLINTER 1.35.0  (landing page)Diana Low  ERROR  
2055/2302splots 1.75.0  (landing page)Wolfgang Huber  OK  
2056/2302SPONGE 1.31.0  (landing page)Markus List  WARNINGS  
2057/2302spoon 1.5.0  (landing page)Kinnary Shah  OK  
2058/2302SpotClean 1.11.0  (landing page)Zijian Ni  OK  
2059/2302SPOTlight 1.13.0  (landing page)Marc Elosua-Bayes  OK  
2060/2302SpotSweeper 1.5.0  (landing page)Michael Totty  OK  
2061/2302spqn 1.21.0  (landing page)Yi Wang  OK  
2062/2302SPsimSeq 1.19.0  (landing page)Joris Meys  OK  
2063/2302SQLDataFrame 1.23.0  (landing page)Qian Liu  WARNINGS  
2064/2302squallms 1.3.0  (landing page)William Kumler  ERROR  
2065/2302sRACIPE 2.1.0  (landing page)Mingyang Lu  OK  
2066/2302SRAdb 1.71.0  (landing page)Jack Zhu  OK  
2067/2302srnadiff 1.29.0  (landing page)Zytnicki Matthias  WARNINGS  
2068/2302sscu 2.39.0  (landing page)Yu Sun  WARNINGS  
2069/2302sSeq 1.47.0  (landing page)Danni Yu  OK  
2070/2302ssize 1.83.0  (landing page)Gregory R. Warnes  OK  
2071/2302sSNAPPY 1.13.0  (landing page)Wenjun Liu  OK  
2072/2302ssPATHS 1.23.0  (landing page)Natalie R. Davidson  OK  
2073/2302ssrch 1.25.0  (landing page)VJ Carey  OK  
2074/2302ssviz 1.43.0  (landing page)Diana Low  OK  
2075/2302StabMap 1.3.0  (landing page)Shila Ghazanfar  OK  
2076/2302stageR 1.31.0  (landing page)Koen Van den Berge  WARNINGS  
2077/2302standR 1.13.0  (landing page)Ning Liu  OK  
2078/2302STATegRa 1.45.0  (landing page)David Gomez-Cabrero , Núria Planell  OK  
2079/2302Statial 1.11.0  (landing page)Farhan Ameen  WARNINGS  
2080/2302statTarget 1.39.0  (landing page)Hemi Luan  OK  
2081/2302stepNorm 1.81.0  (landing page)Yuanyuan Xiao  OK  
2082/2302stJoincount 1.11.0  (landing page)Jiarong Song  OK  
2083/2302strandCheckR 1.27.0  (landing page)Thu-Hien To  OK  
2084/2302Streamer 1.55.0  (landing page)Martin Morgan  OK  
2085/2302STRINGdb 2.21.0  (landing page)Damian Szklarczyk  OK  
2086/2302struct 1.21.1  (landing page)Gavin Rhys Lloyd  OK  
2087/2302Structstrings 1.25.0  (landing page)Felix G.M. Ernst  OK  
2088/2302structToolbox 1.21.0  (landing page)Gavin Rhys Lloyd  OK  
2089/2302StructuralVariantAnnotation 1.25.0  (landing page)Daniel Cameron  OK  
2090/2302SubCellBarCode 1.25.0  (landing page)Taner Arslan  OK  
2091/2302subSeq 1.39.0  (landing page)Andrew J. Bass , John D. Storey  OK  
2092/2302SUITOR 1.11.0  (landing page)Bill Wheeler  ERROR  
2093/2302SummarizedExperiment 1.39.0  (landing page)Hervé Pagès  WARNINGS  
2094/2302Summix 2.15.0  (landing page)Audrey Hendricks  OK  
2095/2302supersigs 1.17.0  (landing page)Albert Kuo  OK  
2096/2302surfaltr 1.15.0  (landing page)Pooja Gangras  ERROR  
2097/2302SurfR 1.5.0  (landing page)Aurora Maurizio  OK  
2098/2302survClust 1.3.0  (landing page)Arshi Arora  WARNINGS  
2099/2302survcomp 1.59.0  (landing page)Benjamin Haibe-Kains  WARNINGS  
2100/2302survtype 1.25.0  (landing page)Dongmin Jung  ERROR  
2101/2302sva 3.57.0  (landing page)Jeffrey T. Leek , John D. Storey  OK  
2102/2302svaNUMT 1.15.0  (landing page)Ruining Dong  OK  
2103/2302svaRetro 1.15.0  (landing page)Ruining Dong  OK  
2104/2302SVMDO 1.9.0  (landing page)Mustafa Erhan Ozer  OK  
2105/2302SVP 1.1.0  (landing page)Shuangbin Xu  ERROR  
2106/2302SWATH2stats 1.39.0  (landing page)Peter Blattmann  ERROR  
2107/2302SwathXtend 2.31.0  (landing page)Jemma Wu  OK  
2108/2302swfdr 1.35.0  (landing page)Simina M. Boca , Jeffrey T. Leek  ERROR  
2109/2302switchBox 1.45.0  (landing page)Bahman Afsari , Luigi Marchionni  WARNINGS  
2110/2302switchde 1.35.0  (landing page)Kieran Campbell  OK  
2111/2302synapsis 1.15.0  (landing page)Lucy McNeill  OK  
2112/2302synergyfinder 3.17.0  (landing page)Shuyu Zheng  ERROR  
2113/2302SynExtend 1.21.0  (landing page)Nicholas Cooley  WARNINGS  
2114/2302synlet 2.9.0  (landing page)Chunxuan Shao  OK  
2115/2302SynMut 1.25.0  (landing page)Haogao Gu  OK  
2116/2302syntenet 1.11.0  (landing page)Fabrício Almeida-Silva  OK  
2117/2302systemPipeR 2.15.0  (landing page)Thomas Girke  ERROR  
2118/2302systemPipeShiny 1.19.0  (landing page)Le Zhang  ERROR  
2119/2302systemPipeTools 1.17.0  (landing page)Daniela Cassol  WARNINGS  
T
ABCDEFGHIJKLMNOPQRSTUVWXYZ
PackageMaintainerINSTALL/BUILD/CHECK
2120/2302tadar 1.7.0  (landing page)Lachlan Baer  OK  
2121/2302TADCompare 1.19.0  (landing page)Mikhail Dozmorov  OK  
2122/2302tanggle 1.15.0  (landing page)Klaus Schliep  OK  
2123/2302TAPseq 1.21.0  (landing page)Andreas R. Gschwind  WARNINGS  
2124/2302target 1.23.0  (landing page)Mahmoud Ahmed  OK  
2125/2302TargetDecoy 1.15.0  (landing page)Elke Debrie  ERROR  
2126/2302TargetScore 1.47.0  (landing page)Yue Li  OK  
2127/2302TargetSearch 2.11.0  (landing page)Alvaro Cuadros-Inostroza  OK  
2128/2302TaxSEA 1.1.0  (landing page)Feargal Ryan  OK  
2129/2302TBSignatureProfiler 1.21.0  (landing page)Aubrey R. Odom  OK  
2130/2302TCC 1.49.1  (landing page)Jianqiang Sun  OK  
2131/2302TCGAbiolinks 2.37.0  (landing page)Tiago Chedraoui Silva  ERROR  
2132/2302TCGAutils 1.29.0  (landing page)Marcel Ramos  ERROR  
2133/2302TCseq 1.33.0  (landing page)Mengjun Wu  WARNINGS  
2134/2302TDbasedUFE 1.9.0  (landing page)Y-h. Taguchi  OK  
2135/2302TDbasedUFEadv 1.9.0  (landing page)Y-h. Taguchi  ERROR  
2136/2302TEKRABber 1.13.0  (landing page)Yao-Chung Chen  OK  
2137/2302TENET 1.1.0  (landing page)Rhie Lab at the University of Southern California  OK  
2138/2302TENxIO 1.11.0  (landing page)Marcel Ramos  ERROR  
2139/2302tenXplore 1.31.0  (landing page)VJ Carey  OK  
2140/2302TEQC 4.31.0  (landing page)Sarah Bonnin  WARNINGS  
2141/2302terapadog 1.1.0  (landing page)Gionmattia Carancini  OK  
2142/2302ternarynet 1.53.0  (landing page)McCall N. Matthew  OK  
2143/2302terraTCGAdata 1.13.0  (landing page)Marcel Ramos  OK  
2144/2302TFARM 1.31.0  (landing page)Liuba Nausicaa Martino  OK  
2145/2302TFBSTools 1.47.0  (landing page)Ge Tan  OK  
2146/2302TFEA.ChIP 1.29.0  (landing page)Laura Puente Santamaría  OK  
2147/2302TFHAZ 1.31.0  (landing page)Gaia Ceddia  OK  
2148/2302TFutils 1.29.0  (landing page)Vincent Carey  ERROR  
2149/2302tidybulk 1.21.0  (landing page)Stefano Mangiola  OK  
2150/2302tidyCoverage 1.5.0  (landing page)Jacques Serizay  OK  
2151/2302tidyFlowCore 1.3.0  (landing page)Timothy Keyes  OK  
2152/2302tidyomics 1.5.0  (landing page)Stefano Mangiola  WARNINGS  
2153/2302tidysbml 1.3.0  (landing page)Veronica Paparozzi  OK  
2154/2302tidySingleCellExperiment 1.19.0  (landing page)Stefano Mangiola  OK  
2155/2302tidySpatialExperiment 1.5.0  (landing page)William Hutchison  OK  
2156/2302tidySummarizedExperiment 1.19.0  (landing page)Stefano Mangiola  OK  
2157/2302tidytof 1.3.0  (landing page)Timothy Keyes  OK  
2158/2302tigre 1.63.0  (landing page)Antti Honkela  OK  
2159/2302TileDBArray 1.19.0  (landing page)Aaron Lun  ERROR  
2160/2302tilingArray 1.87.0  (landing page)Zhenyu Xu  OK  
2161/2302timecourse 1.81.0  (landing page)Yu Chuan Tai  OK  
2162/2302timeOmics 1.21.0  (landing page)Antoine Bodein  WARNINGS  
2163/2302timescape 1.33.0  (landing page)Maia Smith  WARNINGS  
2164/2302TIN 1.41.0  (landing page)Bjarne Johannessen  OK  
2165/2302TissueEnrich 1.29.0  (landing page)Ashish Jain  OK  
2166/2302TitanCNA 1.47.0  (landing page)Gavin Ha  ERROR  
2167/2302tkWidgets 1.87.0  (landing page)J. Zhang  OK  
2168/2302tLOH 1.17.0  (landing page)Michelle Webb  OK  
2169/2302TMixClust 1.31.0  (landing page)Monica Golumbeanu  ERROR  
2170/2302TMSig 1.3.0  (landing page)Tyler Sagendorf  OK  
2171/2302TnT 1.31.0  (landing page)Jialin Ma  OK  
2172/2302TOAST 1.23.0  (landing page)Ziyi Li  OK  
2173/2302tomoda 1.19.0  (landing page)Wendao Liu  OK  
2174/2302tomoseqr 1.13.0  (landing page)Ryosuke Matsuzawa  OK  
2175/2302TOP 1.9.0  (landing page)Harry Robertson  OK  
2176/2302topconfects 1.25.0  (landing page)Paul Harrison  OK  
2177/2302topdownr 1.31.0  (landing page)Sebastian Gibb  OK  
2178/2302topGO 2.61.0  (landing page)Adrian Alexa  ERROR  
2179/2302ToxicoGx 2.13.0  (landing page)Benjamin Haibe-Kains  OK  
2180/2302TPP 3.37.0  (landing page)Dorothee Childs  OK  
2181/2302TPP2D 1.25.0  (landing page)Nils Kurzawa  OK  
2182/2302tpSVG 1.5.0  (landing page)Boyi Guo  OK  
2183/2302tracktables 1.43.0  (landing page)Tom Carroll  WARNINGS  
2184/2302trackViewer 1.45.0  (landing page)Jianhong Ou  OK  
2185/2302tradeSeq 1.23.0  (landing page)Hector Roux de Bezieux  ERROR  
2186/2302TrajectoryGeometry 1.17.0  (landing page)Michael Shapiro  OK  
2187/2302TrajectoryUtils 1.17.0  (landing page)Aaron Lun  OK  
2188/2302transcriptogramer 1.31.0  (landing page)Diego Morais  OK  
2189/2302transcriptR 1.37.0  (landing page)Armen R. Karapetyan  OK  
2190/2302transformGamPoi 1.15.0  (landing page)Constantin Ahlmann-Eltze  OK  
2191/2302transite 1.27.0  (landing page)Konstantin Krismer  OK  
2192/2302tRanslatome 1.47.0  (landing page)Toma Tebaldi , Erik Dassi  OK  
2193/2302transmogR 1.5.0  (landing page)Stevie Pederson  OK  
2194/2302transomics2cytoscape 1.19.0  (landing page)Kozo Nishida  OK  
2195/2302TransView 1.53.0  (landing page)Julius Muller  ERROR  
2196/2302traseR 1.39.0  (landing page)li chen  OK  
2197/2302traviz 1.15.0  (landing page)Koen Van den Berge  ERROR  
2198/2302TreeAndLeaf 1.21.0  (landing page)Milena A. Cardoso  OK  
2199/2302treeclimbR 1.5.0  (landing page)Charlotte Soneson  OK  
2200/2302treeio 1.33.0  (landing page)Guangchuang Yu  OK  
2201/2302treekoR 1.17.0  (landing page)Adam Chan  OK  
2202/2302TreeSummarizedExperiment 2.17.0  (landing page)Ruizhu Huang  OK  
2203/2302TREG 1.13.0  (landing page)Louise Huuki-Myers  OK  
2204/2302Trendy 1.31.0  (landing page)Rhonda Bacher  OK  
2205/2302TRESS 1.15.0  (landing page)Zhenxing Guo  OK  
2206/2302tricycle 1.17.0  (landing page)Shijie Zheng  OK  
2207/2302TrIdent 1.1.0  (landing page)Jessie Maier  OK  
2208/2302trio 3.47.0  (landing page)Holger Schwender  OK  
2209/2302triplex 1.49.0  (landing page)Jiri Hon  WARNINGS  
2210/2302tripr 1.15.0  (landing page)Nikolaos Pechlivanis  WARNINGS  
2211/2302tRNA 1.27.0  (landing page)Felix GM Ernst  OK  
2212/2302tRNAdbImport 1.27.0  (landing page)Felix G.M. Ernst  OK  
2213/2302tRNAscanImport 1.29.0  (landing page)Felix G.M. Ernst  OK  
2214/2302TRONCO 2.41.0  (landing page)Luca De Sano  OK  
2215/2302TSAR 1.7.0  (landing page)Xinlin Gao  OK  
2216/2302TSCAN 1.47.0  (landing page)Zhicheng Ji  OK  
2217/2302ttgsea 1.17.0  (landing page)Dongmin Jung  ERROR  
2218/2302TTMap 1.31.0  (landing page)Rachel Jeitziner  OK  
2219/2302TurboNorm 1.57.0  (landing page)Maarten van Iterson  OK  
2220/2302TVTB 1.35.0  (landing page)Kevin Rue-Albrecht  OK  
2221/2302tweeDEseq 1.55.0  (landing page)Dolors Pelegri-Siso  ERROR  
2222/2302twilight 1.85.0  (landing page)Stefanie Senger  OK  
2223/2302twoddpcr 1.33.0  (landing page)Anthony Chiu  OK  
2224/2302txcutr 1.15.0  (landing page)Mervin Fansler  OK  
2225/2302txdbmaker 1.5.0  (landing page)H. Pagès  OK  
2226/2302tximeta 1.27.0  (landing page)Michael Love  OK  
2227/2302tximport 1.37.0  (landing page)Michael Love  OK  
U
ABCDEFGHIJKLMNOPQRSTUVWXYZ
PackageMaintainerINSTALL/BUILD/CHECK
2228/2302UCell 2.13.1  (landing page)Massimo Andreatta  OK  
2229/2302UCSC.utils 1.5.0  (landing page)Hervé Pagès  OK  
2230/2302Ularcirc 1.27.0  (landing page)David Humphreys  WARNINGS  
2231/2302UMI4Cats 1.19.0  (landing page)Mireia Ramos-Rodriguez  ERROR  
2232/2302uncoverappLib 1.19.0  (landing page)Emanuela Iovino  OK  
2233/2302UNDO 1.51.0  (landing page)Niya Wang  OK  
2234/2302unifiedWMWqPCR 1.45.0  (landing page)Joris Meys  OK  
2235/2302UniProt.ws 2.49.2  (landing page)Marcel Ramos  OK  
2236/2302Uniquorn 2.29.0  (landing page)'Raik Otto'  OK  
2237/2302universalmotif 1.27.2  (landing page)Benjamin Jean-Marie Tremblay  OK  
2238/2302updateObject 1.13.0  (landing page)Hervé Pagès  OK  
2239/2302UPDhmm 1.5.0  (landing page)Marta Sevilla  ERROR  
2240/2302uSORT 1.35.0  (landing page)Hao Chen  WARNINGS  
V
ABCDEFGHIJKLMNOPQRSTUVWXYZ
PackageMaintainerINSTALL/BUILD/CHECK
2241/2302VAExprs 1.15.0  (landing page)Dongmin Jung  ERROR  
2242/2302VanillaICE 1.71.0  (landing page)Robert Scharpf  ERROR  
2243/2302VarCon 1.17.0  (landing page)Johannes Ptok  OK  
2244/2302variancePartition 1.39.0  (landing page)Gabriel E. Hoffman  OK  
2245/2302VariantAnnotation 1.55.0  (landing page)Bioconductor Package Maintainer  ERROR  
2246/2302VariantExperiment 1.23.0  (landing page)Qian Liu  ERROR  
2247/2302VariantFiltering 1.45.0  (landing page)Robert Castelo  ERROR  
2248/2302VariantTools 1.51.0  (landing page)Michael Lawrence  ERROR  
2249/2302VaSP 1.21.0  (landing page)Huihui Yu  OK  
2250/2302vbmp 1.77.0  (landing page)Nicola Lama  OK  
2251/2302VCFArray 1.25.0  (landing page)Qian Liu  OK  
2252/2302VDJdive 1.11.0  (landing page)Kelly Street  OK  
2253/2302VegaMC 3.47.0  (landing page)Sandro Morganella  WARNINGS  
2254/2302velociraptor 1.19.0  (landing page)Kevin Rue-Albrecht  ERROR  
2255/2302veloviz 1.15.0  (landing page)Lyla Atta  OK  
2256/2302VennDetail 1.25.0  (landing page)Kai Guo  ERROR  
2257/2302VERSO 1.19.0  (landing page)Davide Maspero  OK  
2258/2302vidger 1.29.0  (landing page)Brandon Monier  OK  
2259/2302viper 1.43.0  (landing page)Mariano J Alvarez  WARNINGS  
2260/2302ViSEAGO 1.23.0  (landing page)Aurelien Brionne  WARNINGS  
2261/2302VisiumIO 1.5.0  (landing page)Marcel Ramos  OK  
2262/2302visiumStitched 1.1.0  (landing page)Nicholas J. Eagles  OK  
2263/2302vissE 1.17.0  (landing page)Dharmesh D. Bhuva  OK  
2264/2302vmrseq 1.1.0  (landing page)Ning Shen  ERROR  
2265/2302Voyager 1.11.0  (landing page)Lambda Moses  ERROR  
2266/2302VplotR 1.19.0  (landing page)Jacques Serizay  ERROR  
2267/2302vsclust 1.11.0  (landing page)Veit Schwammle  WARNINGS  
2268/2302vsn 3.77.0  (landing page)Wolfgang Huber  OK  
2269/2302vtpnet 0.49.0  (landing page)VJ Carey  ERROR  
2270/2302vulcan 1.31.0  (landing page)Federico M. Giorgi  OK  
W
ABCDEFGHIJKLMNOPQRSTUVWXYZ
PackageMaintainerINSTALL/BUILD/CHECK
2271/2302waddR 1.23.0  (landing page)Julian Flesch  ERROR  
2272/2302wateRmelon 2.15.0  (landing page)Leo C Schalkwyk  WARNINGS  
2273/2302wavClusteR 2.43.0  (landing page)Federico Comoglio  OK  
2274/2302weaver 1.75.0  (landing page)Seth Falcon  WARNINGS  
2275/2302webbioc 1.81.0  (landing page)Colin A. Smith  OK  
2276/2302weitrix 1.21.0  (landing page)Paul Harrison  OK  
2277/2302widgetTools 1.87.0  (landing page)Jianhua Zhang  OK  
2278/2302wiggleplotr 1.33.0  (landing page)Kaur Alasoo  ERROR  
2279/2302wpm 1.19.0  (landing page)Helene Borges  OK  
2280/2302wppi 1.17.0  (landing page)Ana Galhoz  ERROR  
2281/2302Wrench 1.27.0  (landing page)Hector Corrada Bravo  OK  
X
ABCDEFGHIJKLMNOPQRSTUVWXYZ
PackageMaintainerINSTALL/BUILD/CHECK
2282/2302XAItest 1.1.0  (landing page)Ghislain FIEVET  OK  
2283/2302xCell2 1.1.0  (landing page)Almog Angel  OK  
2284/2302xcms 4.7.0  (landing page)Steffen Neumann  ERROR  
2285/2302xcore 1.13.0  (landing page)Maciej Migdał  OK  
2286/2302XDE 2.55.0  (landing page)Robert Scharpf  WARNINGS  
2287/2302XeniumIO 1.1.0  (landing page)Marcel Ramos  ERROR  
2288/2302xenLite 1.3.0  (landing page)Vincent Carey  ERROR  
2289/2302Xeva 1.25.0  (landing page)Benjamin Haibe-Kains  OK  
2290/2302XINA 1.27.0  (landing page)Lang Ho Lee  OK  
2291/2302xmapbridge 1.67.0  (landing page)Chris Wirth  OK  
2292/2302XNAString 1.17.0  (landing page)Marianna Plucinska  ERROR  
2293/2302XVector 0.49.0  (landing page)Hervé Pagès  WARNINGS  
Y
ABCDEFGHIJKLMNOPQRSTUVWXYZ
PackageMaintainerINSTALL/BUILD/CHECK
2294/2302yamss 1.35.0  (landing page)Leslie Myint  ERROR  
2295/2302YAPSA 1.35.0  (landing page)Zuguang Gu  OK  
2296/2302yarn 1.35.0  (landing page)Joseph N Paulson  OK  
Z
ABCDEFGHIJKLMNOPQRSTUVWXYZ
PackageMaintainerINSTALL/BUILD/CHECK
2297/2302zellkonverter 1.19.0  (landing page)Luke Zappia  OK  
2298/2302zenith 1.11.0  (landing page)Gabriel Hoffman  ERROR  
2299/2302zFPKM 1.31.0  (landing page)Ron Ammar  OK  
2300/2302zinbwave 1.31.0  (landing page)Davide Risso  OK  
2301/2302zitools 1.3.0  (landing page)Carlotta Meyring  WARNINGS  
2302/2302ZygosityPredictor 1.9.0  (landing page)Marco Rheinnecker  OK