| Back to Workflows build report for BioC 3.9 |
This page was generated on 2018-10-31 12:45:25 -0400 (Wed, 31 Oct 2018).
| Package 21/23 | Hostname | OS / Arch | INSTALL | BUILD | ||||||
| simpleSingleCell 1.6.0 Aaron Lun
| malbec2 | Linux (Ubuntu 16.04.1 LTS) / x86_64 | OK | NA | ||||||
| tokay2 | Windows Server 2012 R2 Standard / x64 | [ OK ] | TIMEOUT |
| Package: simpleSingleCell |
| Version: 1.6.0 |
| Command: C:\cygwin\bin\curl.exe -O https://malbec2.bioconductor.org/BBS/3.9/workflows/src/contrib/simpleSingleCell_1.6.0.tar.gz && rm -rf simpleSingleCell.buildbin-libdir && mkdir simpleSingleCell.buildbin-libdir && C:\Users\biocbuild\bbs-3.9-bioc\R\bin\R.exe CMD INSTALL --merge-multiarch --build --library=simpleSingleCell.buildbin-libdir simpleSingleCell_1.6.0.tar.gz && C:\Users\biocbuild\bbs-3.9-bioc\R\bin\R.exe CMD INSTALL simpleSingleCell_1.6.0.zip && rm simpleSingleCell_1.6.0.tar.gz simpleSingleCell_1.6.0.zip |
| StartedAt: 2018-10-31 07:55:59 -0400 (Wed, 31 Oct 2018) |
| EndedAt: 2018-10-31 07:57:29 -0400 (Wed, 31 Oct 2018) |
| EllapsedTime: 90.0 seconds |
| RetCode: 0 |
| Status: OK |
##############################################################################
##############################################################################
###
### Running command:
###
### C:\cygwin\bin\curl.exe -O https://malbec2.bioconductor.org/BBS/3.9/workflows/src/contrib/simpleSingleCell_1.6.0.tar.gz && rm -rf simpleSingleCell.buildbin-libdir && mkdir simpleSingleCell.buildbin-libdir && C:\Users\biocbuild\bbs-3.9-bioc\R\bin\R.exe CMD INSTALL --merge-multiarch --build --library=simpleSingleCell.buildbin-libdir simpleSingleCell_1.6.0.tar.gz && C:\Users\biocbuild\bbs-3.9-bioc\R\bin\R.exe CMD INSTALL simpleSingleCell_1.6.0.zip && rm simpleSingleCell_1.6.0.tar.gz simpleSingleCell_1.6.0.zip
###
##############################################################################
##############################################################################
% Total % Received % Xferd Average Speed Time Time Time Current
Dload Upload Total Spent Left Speed
0 0 0 0 0 0 0 0 --:--:-- --:--:-- --:--:-- 0
100 83083 100 83083 0 0 2181k 0 --:--:-- --:--:-- --:--:-- 2535k
install for i386
* installing *source* package 'simpleSingleCell' ...
** inst
** help
No man pages found in package 'simpleSingleCell'
*** installing help indices
** building package indices
** installing vignettes
** testing if installed package can be loaded
In R CMD INSTALL
install for x64
* installing *source* package 'simpleSingleCell' ...
** testing if installed package can be loaded
* MD5 sums
packaged installation of 'simpleSingleCell' as simpleSingleCell_1.6.0.zip
* DONE (simpleSingleCell)
In R CMD INSTALL
In R CMD INSTALL
* installing to library 'C:/Users/biocbuild/bbs-3.9-bioc/R/library'
package 'simpleSingleCell' successfully unpacked and MD5 sums checked
In R CMD INSTALL