Back to Workflows build report for BioC 3.9 |
This page was generated on 2019-10-16 13:50:16 -0400 (Wed, 16 Oct 2019).
Package 25/27 | Hostname | OS / Arch | INSTALL | BUILD | ||||||
SingscoreAMLMutations 1.0.1 Dharmesh D. Bhuva
| malbec2 | Linux (Ubuntu 18.04.2 LTS) / x86_64 | [ OK ] | OK |
Package: SingscoreAMLMutations |
Version: 1.0.1 |
Command: /home/biocbuild/bbs-3.9-bioc/R/bin/R CMD INSTALL SingscoreAMLMutations |
StartedAt: 2019-10-16 11:56:10 -0400 (Wed, 16 Oct 2019) |
EndedAt: 2019-10-16 11:56:45 -0400 (Wed, 16 Oct 2019) |
EllapsedTime: 34.4 seconds |
RetCode: 0 |
Status: OK |
############################################################################## ############################################################################## ### ### Running command: ### ### /home/biocbuild/bbs-3.9-bioc/R/bin/R CMD INSTALL SingscoreAMLMutations ### ############################################################################## ############################################################################## * installing to library ‘/home/biocbuild/bbs-3.9-bioc/R/library’ * installing *source* package ‘SingscoreAMLMutations’ ... ** using staged installation It is recommended to use ‘given’ instead of ‘middle’. It is recommended to use ‘given’ instead of ‘middle’. It is recommended to use ‘given’ instead of ‘middle’. It is recommended to use ‘given’ instead of ‘middle’. ** R ** data ** byte-compile and prepare package for lazy loading ** help *** installing help indices ** building package indices ** installing vignettes ** testing if installed package can be loaded from temporary location ** testing if installed package can be loaded from final location ** testing if installed package keeps a record of temporary installation path * DONE (SingscoreAMLMutations)