| Back to Multiple platform build/check report for BioC 3.9 experimental data |
This page was generated on 2019-10-17 16:51:37 -0400 (Thu, 17 Oct 2019).
| Package 12/371 | Hostname | OS / Arch | INSTALL | BUILD | CHECK | BUILD BIN | ||||||
| allenpvc 1.2.0 Diogo P. P. Branco
| malbec2 | Linux (Ubuntu 18.04.2 LTS) / x86_64 | OK | [ OK ] | OK |
| Package: allenpvc |
| Version: 1.2.0 |
| Command: /home/biocbuild/bbs-3.9-bioc/R/bin/R CMD build --keep-empty-dirs --no-resave-data allenpvc |
| StartedAt: 2019-10-17 12:19:35 -0400 (Thu, 17 Oct 2019) |
| EndedAt: 2019-10-17 12:20:16 -0400 (Thu, 17 Oct 2019) |
| EllapsedTime: 40.3 seconds |
| RetCode: 0 |
| Status: OK |
| PackageFile: allenpvc_1.2.0.tar.gz |
| PackageFileSize: 222.7 KiB |
############################################################################## ############################################################################## ### ### Running command: ### ### /home/biocbuild/bbs-3.9-bioc/R/bin/R CMD build --keep-empty-dirs --no-resave-data allenpvc ### ############################################################################## ############################################################################## * checking for file ‘allenpvc/DESCRIPTION’ ... OK * preparing ‘allenpvc’: * checking DESCRIPTION meta-information ... OK * installing the package to build vignettes * creating vignettes ... OK * checking for LF line-endings in source and make files and shell scripts * checking for empty or unneeded directories * building ‘allenpvc_1.2.0.tar.gz’