| Back to Multiple platform build/check report for BioC 3.9 experimental data |
This page was generated on 2019-10-17 16:51:32 -0400 (Thu, 17 Oct 2019).
| Package 326/371 | Hostname | OS / Arch | INSTALL | BUILD | CHECK | BUILD BIN | ||||||
| Single.mTEC.Transcriptomes 1.12.0 Alejandro Reyes
| malbec2 | Linux (Ubuntu 18.04.2 LTS) / x86_64 | OK | [ OK ] | OK |
| Package: Single.mTEC.Transcriptomes |
| Version: 1.12.0 |
| Command: /home/biocbuild/bbs-3.9-bioc/R/bin/R CMD build --keep-empty-dirs --no-resave-data Single.mTEC.Transcriptomes |
| StartedAt: 2019-10-17 12:03:16 -0400 (Thu, 17 Oct 2019) |
| EndedAt: 2019-10-17 12:11:03 -0400 (Thu, 17 Oct 2019) |
| EllapsedTime: 467.6 seconds |
| RetCode: 0 |
| Status: OK |
| PackageFile: Single.mTEC.Transcriptomes_1.12.0.tar.gz |
| PackageFileSize: 903.9 MiB |
############################################################################## ############################################################################## ### ### Running command: ### ### /home/biocbuild/bbs-3.9-bioc/R/bin/R CMD build --keep-empty-dirs --no-resave-data Single.mTEC.Transcriptomes ### ############################################################################## ############################################################################## * checking for file ‘Single.mTEC.Transcriptomes/DESCRIPTION’ ... OK * preparing ‘Single.mTEC.Transcriptomes’: * checking DESCRIPTION meta-information ... OK * installing the package to build vignettes * creating vignettes ... OK * checking for LF line-endings in source and make files and shell scripts * checking for empty or unneeded directories * looking to see if a ‘data/datalist’ file should be added NB: this package now depends on R (>= 3.5.0) WARNING: Added dependency on R >= 3.5.0 because serialized objects in serialize/load version 3 cannot be read in older versions of R. File(s) containing such objects: 'Single.mTEC.Transcriptomes/data/coexpressionGroupList.RData' * building 'Single.mTEC.Transcriptomes_1.12.0.tar.gz'