This page was generated on 2019-03-07 12:41:44 -0500 (Thu, 07 Mar 2019).
GenomicFeatures 1.35.7 Bioconductor Package Maintainer
Snapshot Date: 2019-03-02 11:00:02 -0500 (Sat, 02 Mar 2019) |
URL: https://git.bioconductor.org/packages/GenomicFeatures |
Branch: master |
Last Commit: 50f241a |
Last Changed Date: 2019-02-14 11:15:26 -0500 (Thu, 14 Feb 2019) |
| malbec2 | Linux (Ubuntu 18.04.1 LTS) / x86_64 | WARNINGS |
REASON FOR NOT INSTALLING: no other package that will be built and checked on this platform needs GenomicFeatures