This page was generated on 2019-10-12 19:55:03 -0400 (Sat, 12 Oct 2019).
git log
| Snapshot Date: 2019-10-12 11:00:02 -0400 (Sat, 12 Oct 2019) |
| Hostname | OS | Arch (*) | Platform label (**) | R version | Installed pkgs |
|---|---|---|---|---|---|
| malbec2 | Linux (Ubuntu 18.04.2 LTS) | x86_64 | x86_64-linux-gnu | 3.6.1 (2019-07-05) -- "Action of the Toes" | 3588 |
| Click on any hostname to see more info about the system (e.g. compilers) (*) as reported by 'uname -p', except on Windows and Mac OS X (**) as reported by 'gcc -v' | |||||
| SUMMARY | OS / Arch | CHECK | |||||
| malbec2 | Linux (Ubuntu 18.04.2 LTS) / x86_64 |
| |||||
| Package | Maintainer | CHECK | |||||
| 1/4 | beachmat 2.0.0 | Aaron Lun | OK | ||||
| 2/4 | BiocParallel 1.18.1 | Bioconductor Package Maintainer | WARNINGS | ||||
| 3/4 | GenomicFeatures 1.36.4 | Bioconductor Package Maintainer | WARNINGS | ||||
| 4/4 | HDF5Array 1.12.2 | Hervé Pagès | ERROR | ||||