| Back to Multiple platform build/check report for BioC 3.9 |
|
This page was generated on 2019-10-16 12:40:02 -0400 (Wed, 16 Oct 2019).
| Package 1665/1741 | Hostname | OS / Arch | INSTALL | BUILD | CHECK | BUILD BIN | ||||||
| transcriptogramer 1.6.0 Diego Morais
| malbec2 | Linux (Ubuntu 18.04.2 LTS) / x86_64 | OK | OK | OK | |||||||
| tokay2 | Windows Server 2012 R2 Standard / x64 | OK | OK | [ OK ] | OK | |||||||
| celaya2 | OS X 10.11.6 El Capitan / x86_64 | OK | OK | OK | OK |
| Package: transcriptogramer |
| Version: 1.6.0 |
| Command: C:\Users\biocbuild\bbs-3.9-bioc\R\bin\R.exe CMD check --force-multiarch --install=check:transcriptogramer.install-out.txt --library=C:\Users\biocbuild\bbs-3.9-bioc\R\library --no-vignettes --timings transcriptogramer_1.6.0.tar.gz |
| StartedAt: 2019-10-16 07:38:33 -0400 (Wed, 16 Oct 2019) |
| EndedAt: 2019-10-16 07:44:36 -0400 (Wed, 16 Oct 2019) |
| EllapsedTime: 363.8 seconds |
| RetCode: 0 |
| Status: OK |
| CheckDir: transcriptogramer.Rcheck |
| Warnings: 0 |
##############################################################################
##############################################################################
###
### Running command:
###
### C:\Users\biocbuild\bbs-3.9-bioc\R\bin\R.exe CMD check --force-multiarch --install=check:transcriptogramer.install-out.txt --library=C:\Users\biocbuild\bbs-3.9-bioc\R\library --no-vignettes --timings transcriptogramer_1.6.0.tar.gz
###
##############################################################################
##############################################################################
* using log directory 'C:/Users/biocbuild/bbs-3.9-bioc/meat/transcriptogramer.Rcheck'
* using R version 3.6.1 (2019-07-05)
* using platform: x86_64-w64-mingw32 (64-bit)
* using session charset: ISO8859-1
* using option '--no-vignettes'
* checking for file 'transcriptogramer/DESCRIPTION' ... OK
* checking extension type ... Package
* this is package 'transcriptogramer' version '1.6.0'
* package encoding: UTF-8
* checking package namespace information ... OK
* checking package dependencies ... OK
* checking if this is a source package ... OK
* checking if there is a namespace ... OK
* checking for hidden files and directories ... OK
* checking for portable file names ... OK
* checking whether package 'transcriptogramer' can be installed ... OK
* checking installed package size ... NOTE
installed size is 5.7Mb
sub-directories of 1Mb or more:
data 5.0Mb
* checking package directory ... OK
* checking 'build' directory ... OK
* checking DESCRIPTION meta-information ... OK
* checking top-level files ... OK
* checking for left-over files ... OK
* checking index information ... OK
* checking package subdirectories ... OK
* checking R files for non-ASCII characters ... OK
* checking R files for syntax errors ... OK
* loading checks for arch 'i386'
** checking whether the package can be loaded ... OK
** checking whether the package can be loaded with stated dependencies ... OK
** checking whether the package can be unloaded cleanly ... OK
** checking whether the namespace can be loaded with stated dependencies ... OK
** checking whether the namespace can be unloaded cleanly ... OK
* loading checks for arch 'x64'
** checking whether the package can be loaded ... OK
** checking whether the package can be loaded with stated dependencies ... OK
** checking whether the package can be unloaded cleanly ... OK
** checking whether the namespace can be loaded with stated dependencies ... OK
** checking whether the namespace can be unloaded cleanly ... OK
* checking dependencies in R code ... OK
* checking S3 generic/method consistency ... OK
* checking replacement functions ... OK
* checking foreign function calls ... OK
* checking R code for possible problems ... OK
* checking Rd files ... OK
* checking Rd metadata ... OK
* checking Rd cross-references ... OK
* checking for missing documentation entries ... OK
* checking for code/documentation mismatches ... OK
* checking Rd \usage sections ... OK
* checking Rd contents ... OK
* checking for unstated dependencies in examples ... OK
* checking contents of 'data' directory ... OK
* checking data for non-ASCII characters ... OK
* checking data for ASCII and uncompressed saves ... OK
* checking files in 'vignettes' ... OK
* checking examples ...
** running examples for arch 'i386' ... OK
** running examples for arch 'x64' ... OK
* checking for unstated dependencies in 'tests' ... OK
* checking tests ...
** running tests for arch 'i386' ...
Running 'runTests.R'
OK
** running tests for arch 'x64' ...
Running 'runTests.R'
OK
* checking for unstated dependencies in vignettes ... OK
* checking package vignettes in 'inst/doc' ... OK
* checking running R code from vignettes ... SKIPPED
* checking re-building of vignette outputs ... SKIPPED
* checking PDF version of manual ... OK
* DONE
Status: 1 NOTE
See
'C:/Users/biocbuild/bbs-3.9-bioc/meat/transcriptogramer.Rcheck/00check.log'
for details.
transcriptogramer.Rcheck/00install.out
##############################################################################
##############################################################################
###
### Running command:
###
### C:\cygwin\bin\curl.exe -O https://malbec2.bioconductor.org/BBS/3.9/bioc/src/contrib/transcriptogramer_1.6.0.tar.gz && rm -rf transcriptogramer.buildbin-libdir && mkdir transcriptogramer.buildbin-libdir && C:\Users\biocbuild\bbs-3.9-bioc\R\bin\R.exe CMD INSTALL --merge-multiarch --build --library=transcriptogramer.buildbin-libdir transcriptogramer_1.6.0.tar.gz && C:\Users\biocbuild\bbs-3.9-bioc\R\bin\R.exe CMD INSTALL transcriptogramer_1.6.0.zip && rm transcriptogramer_1.6.0.tar.gz transcriptogramer_1.6.0.zip
###
##############################################################################
##############################################################################
% Total % Received % Xferd Average Speed Time Time Time Current
Dload Upload Total Spent Left Speed
0 0 0 0 0 0 0 0 --:--:-- --:--:-- --:--:-- 0
0 0 0 0 0 0 0 0 --:--:-- --:--:-- --:--:-- 0
100 3079k 100 3079k 0 0 30.7M 0 --:--:-- --:--:-- --:--:-- 32.3M
install for i386
* installing *source* package 'transcriptogramer' ...
** using staged installation
** R
** data
*** moving datasets to lazyload DB
** inst
** byte-compile and prepare package for lazy loading
** help
*** installing help indices
converting help for package 'transcriptogramer'
finding HTML links ... done
DE-method html
DEsymbols html
GPL570 html
GSE9988 html
Hs700 html
Hs800 html
Hs900 html
HsBPTerms html
Mm700 html
Mm800 html
Mm900 html
Rn700 html
Rn800 html
Rn900 html
Sc700 html
Sc800 html
Sc900 html
Terms-method html
Transcriptogram-class html
association html
clusterEnrichment-method html
clusterVisualization-method html
connectivityProperties-method html
differentiallyExpressed-method html
enrichmentPlot-method html
orderingProperties-method html
radius-method html
transcriptogramPreprocess html
transcriptogramStep1-method html
transcriptogramStep2-method html
transcriptogramer-package html
** building package indices
** installing vignettes
** testing if installed package can be loaded from temporary location
** testing if installed package can be loaded from final location
** testing if installed package keeps a record of temporary installation path
install for x64
* installing *source* package 'transcriptogramer' ...
** testing if installed package can be loaded
* MD5 sums
packaged installation of 'transcriptogramer' as transcriptogramer_1.6.0.zip
* DONE (transcriptogramer)
* installing to library 'C:/Users/biocbuild/bbs-3.9-bioc/R/library'
package 'transcriptogramer' successfully unpacked and MD5 sums checked
|
transcriptogramer.Rcheck/tests_i386/runTests.Rout
R version 3.6.1 (2019-07-05) -- "Action of the Toes"
Copyright (C) 2019 The R Foundation for Statistical Computing
Platform: i386-w64-mingw32/i386 (32-bit)
R is free software and comes with ABSOLUTELY NO WARRANTY.
You are welcome to redistribute it under certain conditions.
Type 'license()' or 'licence()' for distribution details.
R is a collaborative project with many contributors.
Type 'contributors()' for more information and
'citation()' on how to cite R or R packages in publications.
Type 'demo()' for some demos, 'help()' for on-line help, or
'help.start()' for an HTML browser interface to help.
Type 'q()' to quit R.
> BiocGenerics:::testPackage("transcriptogramer")
preprocessing input data... step 1 of 1
calculating node properties... step 1 of 2
** this may take some time...
applying sliding window and mounting resulting data... step 2 of 2
** this may take some time...
done!
mapping identifiers to ENSEMBL Peptide ID... step 1 of 2
averaging over all identifiers related to the same protein... step 2 of 2
done!
applying sliding window and mounting resulting data... step 1 of 1
done!
RUNIT TEST PROTOCOL -- Wed Oct 16 07:42:55 2019
***********************************************
Number of test functions: 3
Number of errors: 0
Number of failures: 0
1 Test Suite :
transcriptogramer RUnit Tests - 3 test functions, 0 errors, 0 failures
Number of test functions: 3
Number of errors: 0
Number of failures: 0
>
> proc.time()
user system elapsed
9.23 1.39 95.31
|
transcriptogramer.Rcheck/tests_x64/runTests.Rout
R version 3.6.1 (2019-07-05) -- "Action of the Toes"
Copyright (C) 2019 The R Foundation for Statistical Computing
Platform: x86_64-w64-mingw32/x64 (64-bit)
R is free software and comes with ABSOLUTELY NO WARRANTY.
You are welcome to redistribute it under certain conditions.
Type 'license()' or 'licence()' for distribution details.
R is a collaborative project with many contributors.
Type 'contributors()' for more information and
'citation()' on how to cite R or R packages in publications.
Type 'demo()' for some demos, 'help()' for on-line help, or
'help.start()' for an HTML browser interface to help.
Type 'q()' to quit R.
> BiocGenerics:::testPackage("transcriptogramer")
preprocessing input data... step 1 of 1
calculating node properties... step 1 of 2
** this may take some time...
applying sliding window and mounting resulting data... step 2 of 2
** this may take some time...
done!
mapping identifiers to ENSEMBL Peptide ID... step 1 of 2
averaging over all identifiers related to the same protein... step 2 of 2
done!
applying sliding window and mounting resulting data... step 1 of 1
done!
RUNIT TEST PROTOCOL -- Wed Oct 16 07:44:30 2019
***********************************************
Number of test functions: 3
Number of errors: 0
Number of failures: 0
1 Test Suite :
transcriptogramer RUnit Tests - 3 test functions, 0 errors, 0 failures
Number of test functions: 3
Number of errors: 0
Number of failures: 0
>
> proc.time()
user system elapsed
9.87 1.07 93.84
|
|
transcriptogramer.Rcheck/examples_i386/transcriptogramer-Ex.timings
|
transcriptogramer.Rcheck/examples_x64/transcriptogramer-Ex.timings
|